{"text_format":"1","workbook":"xlsx","n_sheets":28,"sheets":["Print Out","input1","input2","input3","input4","input5","input6","input7","input8","ปก","บันทึกข้อความ","สรุป","Report1","Report2","Report3","Report4","Report5","Report6","Report7","Report8","Graph1","Graph2","Graph3","Graph4","Graph5","Graph6","Graph7","Graph8"],"not_rendered":{"charts":25,"images":3,"macros":1,"external_links":0,"defined_names":12,"comments":0,"pivot_tables":0},"unopened":[],"bounds":{"document_bytes":16777216,"sheet_cells":100000,"rows_first":2000,"rows_last":500,"rows_between":2000,"halvings":0,"cell_chars":16384,"cell_head_chars":4096},"cells_cut":0,"cells_raw":0,"read":"whole","date_system":"1900"}

{"sheet":"Print Out","index":0,"n_rows":9,"n_cols":12,"rows_kept":9,"cut":false,"hidden":false,"merged":[]}
[null,null,null,null,null,null,null,null,null,null,null,"คำชี้แจง"]
[null,null,null,null,null,null,null,null,null,1,"ผู้ใช้สามารถกรอกข้อมูลลงในช่อง input1-8 (รองรับสูงสุดได้ 8 รหัสวิชา) ในพื้นที่สีขาวเท่านั้น"]
[]
[null,null,null,null,null,null,null,null,null,2,"เมื่อกรอกข้อมูลในช่อง Input ครบโดยไม่ต้องแก้ไขแท็บอื่นๆ (ยกเว้น แท็บ บันทึกข้อความ) และสามารถสั่งปริ้นได้ ดังนี้"]
[null,null,null,null,null,null,null,null,null,null,"1.  Print แท็บ Report 1 - 8 (เฉพาะหน้าที่มีข้อมูลปรากฏตามรายวิชาที่กรอกลง input)"]
[null,null,null,null,null,null,null,null,null,null,"2.  Print แท็บ Graph 1 - 8 (เฉพาะหน้าที่มีข้อมูลปรากฏตามรายวิชาที่กรอกลง input)"]
[null,null,null,null,null,null,null,null,null,null,"3.  Print แท็บ บันทึกข้อความ (แก้ไขเลขที่บันทึกข้อความ วันที่ ชื่อหัวหน้ากลุ่มสาระฯ และตรวจสอบก่อนพิมพ์)"]
[null,null,null,null,null,null,null,null,null,null,"4.  Print แท็บ สรุป"]
[null,null,null,null,null,null,null,null,null,null,"5.  Print แท็บ ปก "]

{"sheet":"input1","index":1,"n_rows":26,"n_cols":14,"rows_kept":26,"cut":false,"hidden":false,"merged":[[14,3,14,14],[20,3,20,14],[0,1,1,14]]}
[null,"กรอกข้อมูล รายวิชาลำดับที่ 1"]
[]
[null,"ชื่อ-สกุล ครูผู้สอน",null,"เกรด","ห้อง 1","ห้อง 2","ห้อง 3","ห้อง 4","ห้อง 5","ห้อง 6","ห้อง 7","ห้อง 8","ห้อง 9","ห้อง 10"]
[null,"ระดับชั้นมัธยมศึกษาปีที่",null,"ลงทะเบียน",{"$f":"IF((SUM(E5:E14))<>0,(SUM(E5:E14)),\"\")","v":""},{"$f":"IF((SUM(F5:F14))<>0,(SUM(F5:F14)),\"\")","v":""},"","","","","","","",""]
[null,"รายวิชา",null,4]
[null,"รหัสวิชา",null,3.5]
[null,"ภาคเรียนที่ ",null,3]
[null,"ปีการศึกษา",null,2.5]
[null,"กลุ่มสาระการเรียนรู้",null,2]
[null,null,null,1.5]
[null,null,null,1]
[null,null,null,0]
[null,null,null,"ร"]
[null,null,null,"มส"]
[null,null,null,"สรุปการประเมินคุณลักษณะ"]
[null,null,null,"ผลประเมิน","ห้อง 1","ห้อง 2","ห้อง 3","ห้อง 4","ห้อง 5","ห้อง 6","ห้อง 7","ห้อง 8","ห้อง 9","ห้อง 10"]
[null,null,null,3]
[null,null,null,2]
[null,null,null,1]
[null,null,null,"รวม",{"$f":"IF(SUM(E17:E19) <>0,SUM(E17:E19),\"\")","v":""},{"$f":"IF(SUM(F17:F19) <>0,SUM(F17:F19),\"\")","v":""},"","","","","","","",""]
[null,null,null,"สรุปการประเมินการอ่าน คิด วิเคราะห์"]
[null,null,null,"ผลประเมิน","ห้อง 1","ห้อง 2","ห้อง 3","ห้อง 4","ห้อง 5","ห้อง 6","ห้อง 7","ห้อง 8","ห้อง 9","ห้อง 10"]
[null,null,null,3]
[null,null,null,2]
[null,null,null,1]
[null,null,null,"รวม",{"$f":"IF(SUM(E23:E25) <>0,SUM(E23:E25),\"\")","v":""},{"$f":"IF(SUM(F23:F25) <>0,SUM(F23:F25),\"\")","v":""},"","","","","","","",""]

{"sheet":"input2","index":2,"n_rows":26,"n_cols":15,"rows_kept":26,"cut":false,"hidden":false,"merged":[[0,1,1,14],[14,3,14,14],[20,3,20,14]]}
[null,"กรอกข้อมูล รายวิชาลำดับที่ 2"]
[]
[null,"ชื่อ-สกุล ครูผู้สอน",{"$f":"\"\"&input1!C3","v":""},"เกรด","ห้อง 1","ห้อง 2","ห้อง 3","ห้อง 4","ห้อง 5","ห้อง 6","ห้อง 7","ห้อง 8","ห้อง 9","ห้อง 10","ห้อง 11"]
[null,"ระดับชั้นมัธยมศึกษาปีที่",null,"ลงทะเบียน",{"$f":"IF((SUM(E5:E14))<>0,(SUM(E5:E14)),\"\")","v":""},{"$f":"IF((SUM(F5:F14))<>0,(SUM(F5:F14)),\"\")","v":""},"","","","","","","","",""]
[null,"รายวิชา",null,4]
[null,"รหัสวิชา",null,3.5]
[null,"ภาคเรียนที่ ",null,3]
[null,"ปีการศึกษา",null,2.5]
[null,null,null,2]
[null,null,null,1.5]
[null,null,null,1]
[null,null,null,0]
[null,null,null,"ร"]
[null,null,null,"มส"]
[null,null,null,"สรุปการประเมินคุณลักษณะ"]
[null,null,null,"ผลประเมิน","ห้อง 1","ห้อง 2","ห้อง 3","ห้อง 4","ห้อง 5","ห้อง 6","ห้อง 7","ห้อง 8","ห้อง 9","ห้อง 10","ห้อง 11"]
[null,null,null,3]
[null,null,null,2]
[null,null,null,1]
[null,null,null,"รวม",{"$f":"IF(SUM(E17:E19) <>0,SUM(E17:E19),\"\")","v":""},{"$f":"IF(SUM(F17:F19) <>0,SUM(F17:F19),\"\")","v":""},"","","",{"$f":"IF(SUM(J17:J19) <>0,SUM(J17:J19),\"\")","v":""},"","","","",""]
[null,null,null,"สรุปการประเมินการอ่าน คิด วิเคราะห์"]
[null,null,null,"ผลประเมิน","ห้อง 1","ห้อง 2","ห้อง 3","ห้อง 4","ห้อง 5","ห้อง 6","ห้อง 7","ห้อง 8","ห้อง 9","ห้อง 10","ห้อง 11"]
[null,null,null,3]
[null,null,null,2]
[null,null,null,1]
[null,null,null,"รวม",{"$f":"IF(SUM(E23:E25) <>0,SUM(E23:E25),\"\")","v":""},{"$f":"IF(SUM(F23:F25) <>0,SUM(F23:F25),\"\")","v":""},"","","","","","","","",""]

{"sheet":"input3","index":3,"n_rows":26,"n_cols":15,"rows_kept":26,"cut":false,"hidden":false,"merged":[[0,1,1,14],[14,3,14,14],[20,3,20,14]]}
[null,"กรอกข้อมูล รายวิชาลำดับที่ 3"]
[]
[null,"ชื่อ-สกุล ครูผู้สอน",{"$f":"\"\"&input1!C3","v":""},"เกรด","ห้อง 1","ห้อง 2","ห้อง 3","ห้อง 4","ห้อง 5","ห้อง 6","ห้อง 7","ห้อง 8","ห้อง 9","ห้อง 10","ห้อง 11"]
[null,"ระดับชั้นมัธยมศึกษาปีที่",null,"ลงทะเบียน",{"$f":"IF((SUM(E5:E14))<>0,(SUM(E5:E14)),\"\")","v":""},{"$f":"IF((SUM(F5:F14))<>0,(SUM(F5:F14)),\"\")","v":""},"","","","","","","","",""]
[null,"รายวิชา",null,4]
[null,"รหัสวิชา",null,3.5]
[null,"ภาคเรียนที่ ",null,3]
[null,"ปีการศึกษา",null,2.5]
[null,null,null,2]
[null,null,null,1.5]
[null,null,null,1]
[null,null,null,0]
[null,null,null,"ร"]
[null,null,null,"มส"]
[null,null,null,"สรุปการประเมินคุณลักษณะ"]
[null,null,null,"ผลประเมิน","ห้อง 1","ห้อง 2","ห้อง 3","ห้อง 4","ห้อง 5","ห้อง 6","ห้อง 7","ห้อง 8","ห้อง 9","ห้อง 10","ห้อง 11"]
[null,null,null,3]
[null,null,null,2]
[null,null,null,1]
[null,null,null,"รวม",{"$f":"IF(SUM(E17:E19) <>0,SUM(E17:E19),\"\")","v":""},{"$f":"IF(SUM(F17:F19) <>0,SUM(F17:F19),\"\")","v":""},"","","",{"$f":"IF(SUM(J17:J19) <>0,SUM(J17:J19),\"\")","v":""},"","","","",""]
[null,null,null,"สรุปการประเมินการอ่าน คิด วิเคราะห์"]
[null,null,null,"ผลประเมิน","ห้อง 1","ห้อง 2","ห้อง 3","ห้อง 4","ห้อง 5","ห้อง 6","ห้อง 7","ห้อง 8","ห้อง 9","ห้อง 10","ห้อง 11"]
[null,null,null,3]
[null,null,null,2]
[null,null,null,1]
[null,null,null,"รวม",{"$f":"IF(SUM(E23:E25) <>0,SUM(E23:E25),\"\")","v":""},{"$f":"IF(SUM(F23:F25) <>0,SUM(F23:F25),\"\")","v":""},"","","","","","","","",""]

{"sheet":"input4","index":4,"n_rows":26,"n_cols":15,"rows_kept":26,"cut":false,"hidden":false,"merged":[[0,1,1,14],[14,3,14,14],[20,3,20,14]]}
[null,"กรอกข้อมูล รายวิชาลำดับที่ 4"]
[]
[null,"ชื่อ-สกุล ครูผู้สอน",{"$f":"\"\"&input1!C3","v":""},"เกรด","ห้อง 1","ห้อง 2","ห้อง 3","ห้อง 4","ห้อง 5","ห้อง 6","ห้อง 7","ห้อง 8","ห้อง 9","ห้อง 10","ห้อง 11"]
[null,"ระดับชั้นมัธยมศึกษาปีที่",null,"ลงทะเบียน",{"$f":"IF((SUM(E5:E14))<>0,(SUM(E5:E14)),\"\")","v":""},{"$f":"IF((SUM(F5:F14))<>0,(SUM(F5:F14)),\"\")","v":""},"","","","","","","","",""]
[null,"รายวิชา",null,4]
[null,"รหัสวิชา",null,3.5]
[null,"ภาคเรียนที่ ",null,3]
[null,"ปีการศึกษา",null,2.5]
[null,null,null,2]
[null,null,null,1.5]
[null,null,null,1]
[null,null,null,0]
[null,null,null,"ร"]
[null,null,null,"มส"]
[null,null,null,"สรุปการประเมินคุณลักษณะ"]
[null,null,null,"ผลประเมิน","ห้อง 1","ห้อง 2","ห้อง 3","ห้อง 4","ห้อง 5","ห้อง 6","ห้อง 7","ห้อง 8","ห้อง 9","ห้อง 10","ห้อง 11"]
[null,null,null,3]
[null,null,null,2]
[null,null,null,1]
[null,null,null,"รวม",{"$f":"IF(SUM(E17:E19) <>0,SUM(E17:E19),\"\")","v":""},{"$f":"IF(SUM(F17:F19) <>0,SUM(F17:F19),\"\")","v":""},"","","",{"$f":"IF(SUM(J17:J19) <>0,SUM(J17:J19),\"\")","v":""},"","","","",""]
[null,null,null,"สรุปการประเมินการอ่าน คิด วิเคราะห์"]
[null,null,null,"ผลประเมิน","ห้อง 1","ห้อง 2","ห้อง 3","ห้อง 4","ห้อง 5","ห้อง 6","ห้อง 7","ห้อง 8","ห้อง 9","ห้อง 10","ห้อง 11"]
[null,null,null,3]
[null,null,null,2]
[null,null,null,1]
[null,null,null,"รวม",{"$f":"IF(SUM(E23:E25) <>0,SUM(E23:E25),\"\")","v":""},{"$f":"IF(SUM(F23:F25) <>0,SUM(F23:F25),\"\")","v":""},"","","","","","","","",""]

{"sheet":"input5","index":5,"n_rows":26,"n_cols":15,"rows_kept":26,"cut":false,"hidden":false,"merged":[[0,1,1,14],[14,3,14,14],[20,3,20,14]]}
[null,"กรอกข้อมูล รายวิชาลำดับที่ 5"]
[]
[null,"ชื่อ-สกุล ครูผู้สอน",{"$f":"\"\"&input1!C3","v":""},"เกรด","ห้อง 1","ห้อง 2","ห้อง 3","ห้อง 4","ห้อง 5","ห้อง 6","ห้อง 7","ห้อง 8","ห้อง 9","ห้อง 10","ห้อง 11"]
[null,"ระดับชั้นมัธยมศึกษาปีที่",null,"ลงทะเบียน",{"$f":"IF((SUM(E5:E14))<>0,(SUM(E5:E14)),\"\")","v":""},{"$f":"IF((SUM(F5:F14))<>0,(SUM(F5:F14)),\"\")","v":""},"","","","","","","","",""]
[null,"รายวิชา",null,4]
[null,"รหัสวิชา",null,3.5]
[null,"ภาคเรียนที่ ",null,3]
[null,"ปีการศึกษา",null,2.5]
[null,null,null,2]
[null,null,null,1.5]
[null,null,null,1]
[null,null,null,0]
[null,null,null,"ร"]
[null,null,null,"มส"]
[null,null,null,"สรุปการประเมินคุณลักษณะ"]
[null,null,null,"ผลประเมิน","ห้อง 1","ห้อง 2","ห้อง 3","ห้อง 4","ห้อง 5","ห้อง 6","ห้อง 7","ห้อง 8","ห้อง 9","ห้อง 10","ห้อง 11"]
[null,null,null,3]
[null,null,null,2]
[null,null,null,1]
[null,null,null,"รวม",{"$f":"IF(SUM(E17:E19) <>0,SUM(E17:E19),\"\")","v":""},{"$f":"IF(SUM(F17:F19) <>0,SUM(F17:F19),\"\")","v":""},"","","",{"$f":"IF(SUM(J17:J19) <>0,SUM(J17:J19),\"\")","v":""},"","","","",""]
[null,null,null,"สรุปการประเมินการอ่าน คิด วิเคราะห์"]
[null,null,null,"ผลประเมิน","ห้อง 1","ห้อง 2","ห้อง 3","ห้อง 4","ห้อง 5","ห้อง 6","ห้อง 7","ห้อง 8","ห้อง 9","ห้อง 10","ห้อง 11"]
[null,null,null,3]
[null,null,null,2]
[null,null,null,1]
[null,null,null,"รวม",{"$f":"IF(SUM(E23:E25) <>0,SUM(E23:E25),\"\")","v":""},{"$f":"IF(SUM(F23:F25) <>0,SUM(F23:F25),\"\")","v":""},"","","","","","","","",""]

{"sheet":"input6","index":6,"n_rows":26,"n_cols":15,"rows_kept":26,"cut":false,"hidden":false,"merged":[[0,1,1,14],[14,3,14,14],[20,3,20,14]]}
[null,"กรอกข้อมูล รายวิชาลำดับที่ 6"]
[]
[null,"ชื่อ-สกุล ครูผู้สอน",{"$f":"\"\"&input1!C3","v":""},"เกรด","ห้อง 1","ห้อง 2","ห้อง 3","ห้อง 4","ห้อง 5","ห้อง 6","ห้อง 7","ห้อง 8","ห้อง 9","ห้อง 10","ห้อง 11"]
[null,"ระดับชั้นมัธยมศึกษาปีที่",null,"ลงทะเบียน",{"$f":"IF((SUM(E5:E14))<>0,(SUM(E5:E14)),\"\")","v":""},{"$f":"IF((SUM(F5:F14))<>0,(SUM(F5:F14)),\"\")","v":""},"","","","","","","","",""]
[null,"รายวิชา",null,4]
[null,"รหัสวิชา",null,3.5]
[null,"ภาคเรียนที่ ",null,3]
[null,"ปีการศึกษา",null,2.5]
[null,null,null,2]
[null,null,null,1.5]
[null,null,null,1]
[null,null,null,0]
[null,null,null,"ร"]
[null,null,null,"มส"]
[null,null,null,"สรุปการประเมินคุณลักษณะ"]
[null,null,null,"ผลประเมิน","ห้อง 1","ห้อง 2","ห้อง 3","ห้อง 4","ห้อง 5","ห้อง 6","ห้อง 7","ห้อง 8","ห้อง 9","ห้อง 10","ห้อง 11"]
[null,null,null,3]
[null,null,null,2]
[null,null,null,1]
[null,null,null,"รวม",{"$f":"IF(SUM(E17:E19) <>0,SUM(E17:E19),\"\")","v":""},{"$f":"IF(SUM(F17:F19) <>0,SUM(F17:F19),\"\")","v":""},"","","",{"$f":"IF(SUM(J17:J19) <>0,SUM(J17:J19),\"\")","v":""},"","","","",""]
[null,null,null,"สรุปการประเมินการอ่าน คิด วิเคราะห์"]
[null,null,null,"ผลประเมิน","ห้อง 1","ห้อง 2","ห้อง 3","ห้อง 4","ห้อง 5","ห้อง 6","ห้อง 7","ห้อง 8","ห้อง 9","ห้อง 10","ห้อง 11"]
[null,null,null,3]
[null,null,null,2]
[null,null,null,1]
[null,null,null,"รวม",{"$f":"IF(SUM(E23:E25) <>0,SUM(E23:E25),\"\")","v":""},{"$f":"IF(SUM(F23:F25) <>0,SUM(F23:F25),\"\")","v":""},"","","","","","","","",""]

{"sheet":"input7","index":7,"n_rows":26,"n_cols":15,"rows_kept":26,"cut":false,"hidden":false,"merged":[[0,1,1,14],[14,3,14,14],[20,3,20,14]]}
[null,"กรอกข้อมูล รายวิชาลำดับที่ 7"]
[]
[null,"ชื่อ-สกุล ครูผู้สอน",{"$f":"\"\"&input1!C3","v":""},"เกรด","ห้อง 1","ห้อง 2","ห้อง 3","ห้อง 4","ห้อง 5","ห้อง 6","ห้อง 7","ห้อง 8","ห้อง 9","ห้อง 10","ห้อง 11"]
[null,"ระดับชั้นมัธยมศึกษาปีที่",null,"ลงทะเบียน",{"$f":"IF((SUM(E5:E14))<>0,(SUM(E5:E14)),\"\")","v":""},{"$f":"IF((SUM(F5:F14))<>0,(SUM(F5:F14)),\"\")","v":""},"","","","","","","","",""]
[null,"รายวิชา",null,4]
[null,"รหัสวิชา",null,3.5]
[null,"ภาคเรียนที่ ",null,3]
[null,"ปีการศึกษา",null,2.5]
[null,null,null,2]
[null,null,null,1.5]
[null,null,null,1]
[null,null,null,0]
[null,null,null,"ร"]
[null,null,null,"มส"]
[null,null,null,"สรุปการประเมินคุณลักษณะ"]
[null,null,null,"ผลประเมิน","ห้อง 1","ห้อง 2","ห้อง 3","ห้อง 4","ห้อง 5","ห้อง 6","ห้อง 7","ห้อง 8","ห้อง 9","ห้อง 10","ห้อง 11"]
[null,null,null,3]
[null,null,null,2]
[null,null,null,1]
[null,null,null,"รวม",{"$f":"IF(SUM(E17:E19) <>0,SUM(E17:E19),\"\")","v":""},{"$f":"IF(SUM(F17:F19) <>0,SUM(F17:F19),\"\")","v":""},"","","",{"$f":"IF(SUM(J17:J19) <>0,SUM(J17:J19),\"\")","v":""},"","","","",""]
[null,null,null,"สรุปการประเมินการอ่าน คิด วิเคราะห์"]
[null,null,null,"ผลประเมิน","ห้อง 1","ห้อง 2","ห้อง 3","ห้อง 4","ห้อง 5","ห้อง 6","ห้อง 7","ห้อง 8","ห้อง 9","ห้อง 10","ห้อง 11"]
[null,null,null,3]
[null,null,null,2]
[null,null,null,1]
[null,null,null,"รวม",{"$f":"IF(SUM(E23:E25) <>0,SUM(E23:E25),\"\")","v":""},{"$f":"IF(SUM(F23:F25) <>0,SUM(F23:F25),\"\")","v":""},"","","","","","","","",""]

{"sheet":"input8","index":8,"n_rows":26,"n_cols":15,"rows_kept":26,"cut":false,"hidden":false,"merged":[[0,1,1,14],[14,3,14,14],[20,3,20,14]]}
[null,"กรอกข้อมูล รายวิชาลำดับที่ 8"]
[]
[null,"ชื่อ-สกุล ครูผู้สอน",{"$f":"\"\"&input1!C3","v":""},"เกรด","ห้อง 1","ห้อง 2","ห้อง 3","ห้อง 4","ห้อง 5","ห้อง 6","ห้อง 7","ห้อง 8","ห้อง 9","ห้อง 10","ห้อง 11"]
[null,"ระดับชั้นมัธยมศึกษาปีที่",null,"ลงทะเบียน",{"$f":"IF((SUM(E5:E14))<>0,(SUM(E5:E14)),\"\")","v":""},{"$f":"IF((SUM(F5:F14))<>0,(SUM(F5:F14)),\"\")","v":""},"","","","","","","","",""]
[null,"รายวิชา",null,4]
[null,"รหัสวิชา",null,3.5]
[null,"ภาคเรียนที่ ",null,3]
[null,"ปีการศึกษา",null,2.5]
[null,null,null,2]
[null,null,null,1.5]
[null,null,null,1]
[null,null,null,0]
[null,null,null,"ร"]
[null,null,null,"มส"]
[null,null,null,"สรุปการประเมินคุณลักษณะ"]
[null,null,null,"ผลประเมิน","ห้อง 1","ห้อง 2","ห้อง 3","ห้อง 4","ห้อง 5","ห้อง 6","ห้อง 7","ห้อง 8","ห้อง 9","ห้อง 10","ห้อง 11"]
[null,null,null,3]
[null,null,null,2]
[null,null,null,1]
[null,null,null,"รวม",{"$f":"IF(SUM(E17:E19) <>0,SUM(E17:E19),\"\")","v":""},{"$f":"IF(SUM(F17:F19) <>0,SUM(F17:F19),\"\")","v":""},"","","",{"$f":"IF(SUM(J17:J19) <>0,SUM(J17:J19),\"\")","v":""},"","","","",""]
[null,null,null,"สรุปการประเมินการอ่าน คิด วิเคราะห์"]
[null,null,null,"ผลประเมิน","ห้อง 1","ห้อง 2","ห้อง 3","ห้อง 4","ห้อง 5","ห้อง 6","ห้อง 7","ห้อง 8","ห้อง 9","ห้อง 10","ห้อง 11"]
[null,null,null,3]
[null,null,null,2]
[null,null,null,1]
[null,null,null,"รวม",{"$f":"IF(SUM(E23:E25) <>0,SUM(E23:E25),\"\")","v":""},{"$f":"IF(SUM(F23:F25) <>0,SUM(F23:F25),\"\")","v":""},"","","","","","","","",""]

{"sheet":"ปก","index":9,"n_rows":26,"n_cols":1,"rows_kept":26,"cut":false,"hidden":false,"merged":[[24,0,24,9],[25,0,25,9],[12,0,12,9],[17,0,17,9],[18,0,18,9],[20,0,20,9],[22,0,22,9],[23,0,23,9],[13,0,13,9],[14,0,14,9],[15,0,15,9],[11,0,11,9],[19,0,19,9],[6,0,6,9],[7,0,7,9],[8,0,8,9],[9,0,9,9],[10,0,10,9]]}
[]
[]
[]
[]
[]
[]
["รายงานสรุปผลสัมฤทธ์ทางการเรียน"]
[{"$f":"\"ภาคเรียนที่ \"&input1!C7&\" ปีการศึกษา \"&input1!C8","v":"ภาคเรียนที่  ปีการศึกษา "}]
[{"$f":"\"รายวิชา \"&input1!C5&\" รหัสวิชา \"&input1!C6","v":"รายวิชา  รหัสวิชา "}]
[{"$f":"IF(input2!C5<>0,\"รายวิชา \"&input2!C5&\" รหัสวิชา \"&input2!C6,\"\")","v":""}]
[{"$f":"IF(input3!C5<>0,\"รายวิชา \"&input3!C5&\" รหัสวิชา \"&input3!C6,\"\")","v":""}]
[{"$f":"IF(input4!C5<>0,\"รายวิชา \"&input4!C5&\" รหัสวิชา \"&input4!C6,\"\")","v":""}]
[{"$f":"IF(input5!C5<>0,\"รายวิชา \"&input5!C5&\" รหัสวิชา \"&input5!C6,\"\")","v":""}]
[{"$f":"IF(input6!C5<>0,\"รายวิชา \"&input6!C5&\" รหัสวิชา \"&input6!C6,\"\")","v":""}]
[{"$f":"IF(input7!C5<>0,\"รายวิชา \"&input7!C5&\" รหัสวิชา \"&input7!C6,\"\")","v":""}]
[{"$f":"IF(input8!C5<>0,\"รายวิชา \"&input8!C5&\" รหัสวิชา \"&input8!C6,\"\")","v":""}]
[]
[{"$f":"input2!C3","v":""}]
["ตำแหน่ง ครู"]
[{"$f":"\"กลุ่มสาระการเรียนรู้\"&input1!C9","v":"กลุ่มสาระการเรียนรู้"}]
[]
[]
["โรงเรียนปลาปากวิทยา   อำเภอปลาปาก  จังหวัดนครพนม"]
["สำนักงานเขตพื้นที่การศึกษามัธยมศึกษาเขตนครพนม"]
["สำนักงานคณะกรรมการศึกษาขั้นพื้นฐาน"]
["กระทรวงศึกษาธิการ"]

{"sheet":"บันทึกข้อความ","index":10,"n_rows":29,"n_cols":10,"rows_kept":29,"cut":false,"hidden":false,"merged":[[27,0,27,2],[27,3,27,6],[27,7,27,10],[28,3,28,6],[28,0,28,2],[28,7,28,10],[20,0,20,2],[20,3,20,6],[20,7,20,10],[26,0,26,2],[26,3,26,6],[26,7,26,10],[24,0,24,2],[13,1,13,11],[18,1,18,4],[17,1,17,4],[0,0,0,10],[6,1,6,11],[7,0,7,11],[9,1,9,11],[2,4,2,10],[17,5,17,11],[18,5,18,11]]}
["บันทึกข้อความ"]
["ส่วนราชการ   โรงเรียนปลาปากวิทยา    อำเภอปลาปาก   จังหวัดนครพนม  48160"]
["ที่ วก.        ",".........","/2567",null,"       วันที่ 20 กันยายน พ.ศ. 2567"]
[{"$f":"\"เรื่อง  สรุปผลสัมฤทธิ์ทางการเรียนกลุ่มสาระการเรียนรู้\"&input1!C9","v":"เรื่อง  สรุปผลสัมฤทธิ์ทางการเรียนกลุ่มสาระการเรียนรู้"}]
[]
["เรียน   ผู้อำนวยการโรงเรียนปลาปากวิทยา"]
[null,{"$f":"\"ข้าพเจ้า\" &input1!C3& \"  ตำแหน่ง ครู \"&  \"กลุ่มสาระการเรียนรู้\"&input1!C9&\" \"","v":"ข้าพเจ้า  ตำแหน่ง ครู กลุ่มสาระการเรียนรู้ "}]
[{"$f":"\"ได้ดำเนินการสรุปผลสัมฤทธิ์ทางการเรียน ภาคเรียนที่ \"&input1!C7&\"/\"&input1!C8&\" เพื่อเป็นข้อมูลในการปรับปรุงพัฒนา \"","v":"ได้ดำเนินการสรุปผลสัมฤทธิ์ทางการเรียน ภาคเรียนที่ / เพื่อเป็นข้อมูลในการปรับปรุงพัฒนา "}]
["ยกระดับผลสัมฤทธิ์ให้สูงขึ้นต่อไป"]
[null,"บัดนี้ข้าพเจ้า ได้ดำเนินการสรุปผลสัมฤทธิ์ทางการเรียนของนักเรียนที่ได้รับมอบหมาย  ให้ทำการสอน"]
[{"$f":"\"เป็นที่เรียบร้อยแล้ว จึงขอรายงานผลสัมฤทธิ์ทางการเรียนของนักเรียน ภาคเรียนที่ \"&input1!C7&\"/\"&input1!C8&\" ดังนี้\"","v":"เป็นที่เรียบร้อยแล้ว จึงขอรายงานผลสัมฤทธิ์ทางการเรียนของนักเรียน ภาคเรียนที่ / ดังนี้"}]
[null,{"$f":"\"- ตารางแสดงการสรุปผลสัมฤทธิ์ทางการเรียนและกราฟร้อยละแสดงผลสรุปรวมทุกรายวิชา\"","v":"- ตารางแสดงการสรุปผลสัมฤทธิ์ทางการเรียนและกราฟร้อยละแสดงผลสรุปรวมทุกรายวิชา"}]
[null,{"$f":"\"- ตารางแสดงผลสัมฤทธิ์ทางการเรียนและกราฟร้อยละแสดงผลสรุปในแต่ละรายวิชา\"","v":"- ตารางแสดงผลสัมฤทธิ์ทางการเรียนและกราฟร้อยละแสดงผลสรุปในแต่ละรายวิชา"}]
[null,{"$f":"\"รายละเอียดดังเอกสารประกอบการสรุปผลสัมฤทธิ์ทางการเรียนของนักเรียน ภาคเรียนที่  \"&input1!C7&\"/\"&input1!C8","v":"รายละเอียดดังเอกสารประกอบการสรุปผลสัมฤทธิ์ทางการเรียนของนักเรียน ภาคเรียนที่  /"}]
["ที่แนบมาพร้อมนี้"]
[null,"จึงเรียนมาเพื่อโปรดทราบและพิจารณา"]
[]
[null,{"$f":"\"(\"&input1!C3&\")\"","v":"()"},null,null,null,"(นายฉัตรชัย รัชอินทร์)"]
[null," ครูโรงเรียนปลาปากวิทยา",null,null,null,{"$f":"\"กลุ่มสาระการเรียนรู้\"&input1!C9","v":"กลุ่มสาระการเรียนรู้"}]
[]
["กลุ่มบริหารวิชาการ",null,null,"รองผู้อำนวยการโรงเรียนฯ",null,null,null,"คำสั่งโรงเรียน"]
["เรียน ผู้อำนวยการโรงเรียน",null,null,"พิจารณาและเห็นสมควร",null,null,null,"        ทราบ",null," ชอบ"]
[{"$f":"\"\"&input1!C3","v":""},null,null,"      ทราบ"]
["รายงานสรุปผลสัมฤทธิ์ทางการเรียน"]
[{"$f":"\"ภาคเรียนที่ \"&input1!C7&\"/\"&input1!C8","v":"ภาคเรียนที่ /"}]
[{"$f":"\"- เพื่อโปรดทราบและพิจารณา\"","v":"- เพื่อโปรดทราบและพิจารณา"}]
[{"$f":"\"(นางสาวสาวิตรี  ปารีพันธ์)\"","v":"(นางสาวสาวิตรี  ปารีพันธ์)"},null,null,{"$f":"\"(นายภูวกร  วรางค์สิร)\"","v":"(นายภูวกร  วรางค์สิร)"},null,null,null,{"$f":"\"(นายทินกร  ภาคนาม)\"","v":"(นายทินกร  ภาคนาม)"}]
["หัวหน้ากลุ่มบริหารวิชาการ",null,null,"รองผู้อำนวยการกลุ่มบริหารวิชาการ",null,null,null,"ผู้อำนวยการโรงเรียนปลาปากวิทยา"]
["….........../….........../…...........",null,null,"….........../….........../…...........",null,null,null,"….........../….........../…..........."]

{"sheet":"สรุป","index":11,"n_rows":23,"n_cols":19,"rows_kept":23,"cut":false,"hidden":false,"merged":[[4,17,6,17],[3,0,3,18],[4,18,6,18],[19,0,19,19],[17,8,17,9],[4,16,6,16],[0,0,0,18],[1,0,1,18],[2,0,2,18],[4,0,6,0],[4,1,6,1],[4,2,4,3],[4,4,4,5],[4,6,4,15],[5,3,6,3],[5,4,6,4],[5,5,6,5],[5,6,6,6],[22,2,22,5],[16,16,16,17],[5,14,6,14],[5,15,6,15],[15,0,15,2],[16,0,16,5],[20,2,20,5],[5,8,6,8],[5,9,6,9],[5,10,6,10],[5,11,6,11],[5,12,6,12],[5,7,6,7],[5,13,6,13],[21,2,21,5],[5,2,6,2]]}
[{"$f":"\"ผลสัมฤทธิ์ทางการเรียนภาคเรียนที่ \"& input1!C7 &\"   ประจำปีการศึกษา \"&input1!C8","v":"ผลสัมฤทธิ์ทางการเรียนภาคเรียนที่    ประจำปีการศึกษา "}]
[{"$f":"\"ผู้สอน  \"&input1!C3","v":"ผู้สอน  "}]
[{"$f":"\"กลุ่มสาระการเรียนรู้\"&input1!C9","v":"กลุ่มสาระการเรียนรู้"}]
["โรงเรียนปลาปากวิทยา"]
["รหัสวิชา","ชื่อวิชา","จำนวน",null,"จำนวนนักเรียน",null,"ระดับผลการเรียน",null,null,null,null,null,null,null,null,null,"ค่าเฉลี่ย","SD","CV"]
[null,null,"ชั้น ม.","นักเรียน","ผ่าน","ไม่ผ่าน",4,"3.5",3,"2.5",2,"1.5",1,0,"ร","มส"]
[]
[{"$f":"IF(input1!C6<>0,input1!C6,\"-\")","v":"-"},{"$f":"input1!C5","v":0},{"$f":"input1!C4","v":0},{"$f":"IF(Report1!M5<>0,Report1!M5,\"-\")","v":"-"},{"$f":"IF(Report1!M14<>0,Report1!M14,\"-\")","v":""},{"$f":"IFERROR(D8-E8,\"-\")","v":"-"},{"$f":"Report1!$M$6","v":0},{"$f":"Report1!$M$7","v":0},{"$f":"Report1!$M$8","v":0},{"$f":"Report1!$M$9","v":0},{"$f":"Report1!$M$10","v":0},{"$f":"Report1!$M$11","v":0},{"$f":"Report1!$M$12","v":0},{"$f":"Report1!$M$13","v":0},{"$f":"Report1!$M$15","v":0},{"$f":"Report1!$M$16","v":0},{"$f":"IFERROR(((G8*4)+(H8*3.5)+(I8*3)+(J8*2.5)+(K8*2)+(L8*1.5)+(M8*1))/E8,\"-\")","v":"-"},{"$f":"IFERROR(SQRT((($G$6^2*G8+$H$6^2*H8+$I$6^2*I8+$J$6^2*J8+$K$6^2*K8+$L$6^2*L8+M8)/E8)-Q8^2),\"-\")","v":"-"},{"$f":"IFERROR(R8/Q8,\"-\")","v":"-"}]
[{"$f":"IF(input2!C6<>0,input2!C6,\"-\")","v":"-"},{"$f":"input2!C5","v":0},{"$f":"input2!C4","v":0},{"$f":"IF(Report2!M5<>0,Report2!M5,\"-\")","v":"-"},{"$f":"IF(Report2!M14<>0,Report2!M14,\"-\")","v":""},{"$f":"IFERROR(D9-E9,\"-\")","v":"-"},{"$f":"Report2!$M$6","v":0},{"$f":"Report2!$M$7","v":0},{"$f":"Report2!$M$8","v":0},{"$f":"Report2!$M$9","v":0},{"$f":"Report2!$M$10","v":0},{"$f":"Report2!$M$11","v":0},{"$f":"Report2!$M$12","v":0},{"$f":"Report2!$M$13","v":0},{"$f":"Report2!$M$15","v":0},{"$f":"Report2!$M$16","v":0},{"$f":"IFERROR(((G9*4)+(H9*3.5)+(I9*3)+(J9*2.5)+(K9*2)+(L9*1.5)+(M9*1))/E9,\"-\")","v":"-"},{"$f":"IFERROR(SQRT((($G$6^2*G9+$H$6^2*H9+$I$6^2*I9+$J$6^2*J9+$K$6^2*K9+$L$6^2*L9+M9)/E9)-Q9^2),\"-\")","v":"-"},{"$f":"IFERROR(R9/Q9,\"-\")","v":"-"}]
[{"$f":"IF(input3!C6<>0,input3!C6,\"-\")","v":"-"},{"$f":"input3!C5","v":0},{"$f":"input3!C4","v":0},{"$f":"IF(Report3!M5<>0,Report3!M5,\"-\")","v":"-"},{"$f":"IF(Report3!M14<>0,Report3!M14,\"-\")","v":""},"-",{"$f":"Report3!$M$6","v":0},{"$f":"Report3!$M$7","v":0},{"$f":"Report3!$M$8","v":0},{"$f":"Report3!$M$9","v":0},{"$f":"Report3!$M$10","v":0},{"$f":"Report3!$M$11","v":0},{"$f":"Report3!$M$12","v":0},{"$f":"Report3!$M$13","v":0},{"$f":"Report3!$M$15","v":0},{"$f":"Report3!$M$16","v":0},{"$f":"IFERROR(((G10*4)+(H10*3.5)+(I10*3)+(J10*2.5)+(K10*2)+(L10*1.5)+(M10*1))/E10,\"-\")","v":"-"},{"$f":"IFERROR(SQRT((($G$6^2*G10+$H$6^2*H10+$I$6^2*I10+$J$6^2*J10+$K$6^2*K10+$L$6^2*L10+M10)/E10)-Q10^2),\"-\")","v":"-"},{"$f":"IFERROR(R10/Q10,\"-\")","v":"-"}]
[{"$f":"IF(input4!C6<>0,input4!C6,\"-\")","v":"-"},{"$f":"input4!C5","v":0},{"$f":"input4!C4","v":0},{"$f":"IF(Report4!M5<>0,Report4!M5,\"-\")","v":"-"},{"$f":"IF(Report4!M14<>0,Report4!M14,\"-\")","v":""},"-",{"$f":"Report4!$M$6","v":0},{"$f":"Report4!$M$7","v":0},{"$f":"Report4!$M$8","v":0},{"$f":"Report4!$M$9","v":0},{"$f":"Report4!$M$10","v":0},{"$f":"Report4!$M$11","v":0},{"$f":"Report4!$M$12","v":0},{"$f":"Report4!$M$13","v":0},{"$f":"Report4!$M$15","v":0},{"$f":"Report4!$M$16","v":0},{"$f":"IFERROR(((G11*4)+(H11*3.5)+(I11*3)+(J11*2.5)+(K11*2)+(L11*1.5)+(M11*1))/E11,\"-\")","v":"-"},{"$f":"IFERROR(SQRT((($G$6^2*G11+$H$6^2*H11+$I$6^2*I11+$J$6^2*J11+$K$6^2*K11+$L$6^2*L11+M11)/E11)-Q11^2),\"-\")","v":"-"},{"$f":"IFERROR(R11/Q11,\"-\")","v":"-"}]
[{"$f":"IF(input5!C6<>0,input5!C6,\"-\")","v":"-"},{"$f":"input5!C5","v":0},{"$f":"input5!C4","v":0},{"$f":"IF(Report5!M5<>0,Report5!M5,\"-\")","v":"-"},{"$f":"IF(Report5!M14<>0,Report5!M14,\"-\")","v":""},"-",{"$f":"Report5!$M$6","v":0},{"$f":"Report5!$M$7","v":0},{"$f":"Report5!$M$8","v":0},{"$f":"Report5!$M$9","v":0},{"$f":"Report5!$M$10","v":0},{"$f":"Report5!$M$11","v":0},{"$f":"Report5!$M$12","v":0},{"$f":"Report5!$M$13","v":0},{"$f":"Report5!$M$15","v":0},{"$f":"Report5!$M$16","v":0},"-","-","-"]
[{"$f":"IF(input6!C6<>0,input6!C6,\"-\")","v":"-"},{"$f":"input6!C5","v":0},{"$f":"input6!C4","v":0},{"$f":"IF(Report6!M5<>0,Report6!M5,\"-\")","v":"-"},{"$f":"IF(Report6!M14<>0,Report6!M14,\"-\")","v":""},{"$f":"IFERROR(D13-E13,\"-\")","v":"-"},{"$f":"Report6!$M$6","v":0},{"$f":"Report6!$M$7","v":0},{"$f":"Report6!$M$8","v":0},{"$f":"Report6!$M$9","v":0},{"$f":"Report6!$M$10","v":0},{"$f":"Report6!$M$11","v":0},{"$f":"Report6!$M$12","v":0},{"$f":"Report6!$M$13","v":0},{"$f":"Report6!$M$15","v":0},{"$f":"Report6!$M$16","v":0},{"$f":"IFERROR(((G13*4)+(H13*3.5)+(I13*3)+(J13*2.5)+(K13*2)+(L13*1.5)+(M13*1))/E13,\"-\")","v":"-"},{"$f":"IFERROR(SQRT((($G$6^2*G13+$H$6^2*H13+$I$6^2*I13+$J$6^2*J13+$K$6^2*K13+$L$6^2*L13+M13)/E13)-Q13^2),\"-\")","v":"-"},{"$f":"IFERROR(R13/Q13,\"-\")","v":"-"}]
[{"$f":"IF(input7!C6<>0,input7!C6,\"-\")","v":"-"},{"$f":"input7!C5","v":0},{"$f":"input7!C4","v":0},{"$f":"IF(Report7!M5<>0,Report7!M5,\"-\")","v":"-"},{"$f":"IF(Report7!M14<>0,Report7!M14,\"-\")","v":""},{"$f":"IFERROR(D14-E14,\"-\")","v":"-"},{"$f":"Report7!$M$6","v":0},{"$f":"Report7!$M$7","v":0},{"$f":"Report7!$M$8","v":0},{"$f":"Report7!$M$9","v":0},{"$f":"Report7!$M$10","v":0},{"$f":"Report7!$M$11","v":0},{"$f":"Report7!$M$12","v":0},{"$f":"Report7!$M$13","v":0},{"$f":"Report7!$M$15","v":0},{"$f":"Report7!$M$16","v":0},{"$f":"IFERROR(((G14*4)+(H14*3.5)+(I14*3)+(J14*2.5)+(K14*2)+(L14*1.5)+(M14*1))/E14,\"-\")","v":"-"},{"$f":"IFERROR(SQRT((($G$6^2*G14+$H$6^2*H14+$I$6^2*I14+$J$6^2*J14+$K$6^2*K14+$L$6^2*L14+M14)/E14)-Q14^2),\"-\")","v":"-"},{"$f":"IFERROR(R14/Q14,\"-\")","v":"-"}]
[{"$f":"IF(input8!C6<>0,input8!C6,\"-\")","v":"-"},{"$f":"input8!C5","v":0},{"$f":"input8!C4","v":0},{"$f":"IF(Report8!M5<>0,Report8!M5,\"-\")","v":"-"},{"$f":"IF(Report8!M14<>0,Report8!M14,\"-\")","v":""},"-",{"$f":"Report8!$M$6","v":0},{"$f":"Report8!$M$7","v":0},{"$f":"Report8!$M$8","v":0},{"$f":"Report8!$M$9","v":0},{"$f":"Report8!$M$10","v":0},{"$f":"Report8!$M$11","v":0},{"$f":"Report8!$M$12","v":0},{"$f":"Report8!$M$13","v":0},{"$f":"Report8!$M$15","v":0},{"$f":"Report8!$M$16","v":0},"-","-","-"]
["   รวม",null,null,{"$f":"SUM(D8:D15)","v":0},{"$f":"SUM(E8:E15)","v":0},0,0,0,0,0,0,0,0,0,0,0,{"$f":"((G16*4)+(H16*3.5)+(I16*3)+(J16*2.5)+(K16*2)+(L16*1.5)+(M16*1))/E16","v":{"$error":"#DIV/0!"}},{"$f":"SQRT((($G$6^2*G16+$H$6^2*H16+$I$6^2*I16+$J$6^2*J16+$K$6^2*K16+$L$6^2*L16+M16)/E16)-Q16^2)","v":{"$error":"#DIV/0!"}},{"$f":"R16/Q16","v":{"$error":"#DIV/0!"}}]
["ร้อยละ",null,null,null,null,null,{"$f":"G16*100/$E$16","v":{"$error":"#DIV/0!"}},{"$error":"#DIV/0!"},{"$error":"#DIV/0!"},{"$error":"#DIV/0!"},{"$error":"#DIV/0!"},{"$error":"#DIV/0!"},{"$error":"#DIV/0!"},{"$error":"#DIV/0!"},{"$error":"#DIV/0!"},{"$error":"#DIV/0!"}]
["ร้อยละค่าเป้าหมาย (ผลการเรียนระดับ 3 ขึ้นไป) เท่ากับ",null,null,null,null,null,null,null,{"$f":"SUM(G16:I16)/D16*100","v":{"$error":"#DIV/0!"}}]
[]
[{"$f":"\"สรุปผลสัมฤทธิ์ทางการเรียนของ\"&input1!C3 & \"  ภาคเรียนที่ \"&input1!C7&\"/\"&input1!C8","v":"สรุปผลสัมฤทธิ์ทางการเรียนของ  ภาคเรียนที่ /"}]
[null,null,"ผลการเรียน",null,null,null,4,3.5,3,2.5,2,1.5,1,0,"ร","มส"]
[null,null,"ร้อยละ",null,null,null,{"$f":"G23*100/$D$16","v":{"$error":"#DIV/0!"}},{"$f":"H23*100/$D$16","v":{"$error":"#DIV/0!"}},{"$error":"#DIV/0!"},{"$error":"#DIV/0!"},{"$error":"#DIV/0!"},{"$error":"#DIV/0!"},{"$error":"#DIV/0!"},{"$error":"#DIV/0!"},{"$error":"#DIV/0!"},{"$error":"#DIV/0!"}]
[null,null,"จำนวนนักเรียน",null,null,null,{"$f":"G16","v":0},0,0,0,0,0,0,0,0,0,{"$f":"SUM(G23:P23)","v":0}]

{"sheet":"Report1","index":12,"n_rows":33,"n_cols":14,"rows_kept":33,"cut":false,"hidden":false,"merged":[[0,0,0,13],[1,0,1,13],[2,0,2,13],[20,0,20,13],[27,0,27,13]]}
[{"$f":"\"สรุปผลการเรียนรายวิชา  \"&input1!C5&\"  รหัสวิชา  \" &input1!C6","v":"สรุปผลการเรียนรายวิชา    รหัสวิชา  "}]
[{"$f":"\"ชั้นมัธยมศึกษาปีที่  \"&input1!C4&  \"   ภาคเรียนที่ \"&input1!C7&\"   ปีการศึกษา  \"&input1!C8","v":"ชั้นมัธยมศึกษาปีที่     ภาคเรียนที่    ปีการศึกษา  "}]
[{"$f":"\"ครูผู้สอน  \"&input1!C3","v":"ครูผู้สอน  "}]
["เกรด","ห้อง 1","ห้อง 2","ห้อง 3","ห้อง 4","ห้อง 5","ห้อง 6","ห้อง 7","ห้อง 8","ห้อง 9","ห้อง 10","ห้อง 11","รวม","ร้อยละ"]
["ลงทะเบียน",{"$f":"IF((SUM(B6:B13))<>0,(SUM(B6:B13)),\"\")","v":""},"","","","","","","","","","",{"$f":"SUM(M6:M13)+M15+M16","v":0},{"$f":"SUM(N6:N13)+N15+N16","v":{"$error":"#DIV/0!"}}]
[4,{"$f":"input1!E5","v":0},{"$f":"input1!F5","v":0},{"$f":"input1!G5","v":0},{"$f":"input1!H5","v":0},{"$f":"input1!I5","v":0},{"$f":"input1!J5","v":0},{"$f":"input1!K5","v":0},{"$f":"input1!L5","v":0},{"$f":"input1!M5","v":0},{"$f":"input1!N5","v":0},{"$f":"input1!O5","v":0},{"$f":"SUM(B6:L6)","v":0},{"$f":"M6/$M5*100","v":{"$error":"#DIV/0!"}}]
[3.5,{"$f":"input1!E6","v":0},{"$f":"input1!F6","v":0},{"$f":"input1!G6","v":0},{"$f":"input1!H6","v":0},{"$f":"input1!I6","v":0},{"$f":"input1!J6","v":0},{"$f":"input1!K6","v":0},{"$f":"input1!L6","v":0},{"$f":"input1!M6","v":0},{"$f":"input1!N6","v":0},{"$f":"input1!O6","v":0},{"$f":"SUM(B7:L7)","v":0},{"$f":"M7/$M5*100","v":{"$error":"#DIV/0!"}}]
[3,{"$f":"input1!E7","v":0},{"$f":"input1!F7","v":0},{"$f":"input1!G7","v":0},{"$f":"input1!H7","v":0},{"$f":"input1!I7","v":0},{"$f":"input1!J7","v":0},{"$f":"input1!K7","v":0},{"$f":"input1!L7","v":0},{"$f":"input1!M7","v":0},{"$f":"input1!N7","v":0},{"$f":"input1!O7","v":0},0,{"$f":"M8/$M5*100","v":{"$error":"#DIV/0!"}}]
[2.5,{"$f":"input1!E8","v":0},{"$f":"input1!F8","v":0},{"$f":"input1!G8","v":0},{"$f":"input1!H8","v":0},{"$f":"input1!I8","v":0},{"$f":"input1!J8","v":0},{"$f":"input1!K8","v":0},{"$f":"input1!L8","v":0},{"$f":"input1!M8","v":0},{"$f":"input1!N8","v":0},{"$f":"input1!O8","v":0},0,{"$f":"M9/$M5*100","v":{"$error":"#DIV/0!"}}]
[2,{"$f":"input1!E9","v":0},{"$f":"input1!F9","v":0},{"$f":"input1!G9","v":0},{"$f":"input1!H9","v":0},{"$f":"input1!I9","v":0},{"$f":"input1!J9","v":0},{"$f":"input1!K9","v":0},{"$f":"input1!L9","v":0},{"$f":"input1!M9","v":0},{"$f":"input1!N9","v":0},{"$f":"input1!O9","v":0},0,{"$f":"M10/$M5*100","v":{"$error":"#DIV/0!"}}]
[1.5,{"$f":"input1!E10","v":0},{"$f":"input1!F10","v":0},{"$f":"input1!G10","v":0},{"$f":"input1!H10","v":0},{"$f":"input1!I10","v":0},{"$f":"input1!J10","v":0},{"$f":"input1!K10","v":0},{"$f":"input1!L10","v":0},{"$f":"input1!M10","v":0},{"$f":"input1!N10","v":0},{"$f":"input1!O10","v":0},0,{"$f":"M11/$M5*100","v":{"$error":"#DIV/0!"}}]
[1,{"$f":"input1!E11","v":0},{"$f":"input1!F11","v":0},{"$f":"input1!G11","v":0},{"$f":"input1!H11","v":0},{"$f":"input1!I11","v":0},{"$f":"input1!J11","v":0},{"$f":"input1!K11","v":0},{"$f":"input1!L11","v":0},{"$f":"input1!M11","v":0},{"$f":"input1!N11","v":0},{"$f":"input1!O11","v":0},{"$f":"SUM(B12:L12)","v":0},{"$f":"M12/$M5*100","v":{"$error":"#DIV/0!"}}]
[0,{"$f":"input1!E12","v":0},{"$f":"input1!F12","v":0},{"$f":"input1!G12","v":0},{"$f":"input1!H12","v":0},{"$f":"input1!I12","v":0},{"$f":"input1!J12","v":0},{"$f":"input1!K12","v":0},{"$f":"input1!L12","v":0},{"$f":"input1!M12","v":0},{"$f":"input1!N12","v":0},{"$f":"input1!O12","v":0},0,{"$f":"M13/$M5*100","v":{"$error":"#DIV/0!"}}]
["ตัดสิน",{"$f":"IF((SUM(B6:B13))<>0,(SUM(B6:B13)),\"\")","v":""},"","","","","","","","","","","",{"$f":"SUM(N6:N13)+N15+N16","v":{"$error":"#DIV/0!"}}]
["ร",{"$f":"IF(input1!E13<>0,input1!E13,\"\")","v":""},{"$f":"IF(input1!F13<>0,input1!F13,\"\")","v":""},{"$f":"IF(input1!G13<>0,input1!G13,\"\")","v":""},{"$f":"IF(input1!H13<>0,input1!H13,\"\")","v":""},{"$f":"IF(input1!I13<>0,input1!I13,\"\")","v":""},{"$f":"IF(input1!J13<>0,input1!J13,\"\")","v":""},{"$f":"IF(input1!K13<>0,input1!K13,\"\")","v":""},{"$f":"IF(input1!L13<>0,input1!L13,\"\")","v":""},{"$f":"IF(input1!M13<>0,input1!M13,\"\")","v":""},{"$f":"IF(input1!N13<>0,input1!N13,\"\")","v":""},{"$f":"IF(input1!O13<>0,input1!O13,\"\")","v":""},{"$f":"SUM(B15:L15)","v":0},{"$f":"M15/$M5*100","v":{"$error":"#DIV/0!"}}]
["มส",{"$f":"IF(input1!E14<>0,input1!E14,\"\")","v":""},{"$f":"IF(input1!F14<>0,input1!F14,\"\")","v":""},{"$f":"IF(input1!G14<>0,input1!G14,\"\")","v":""},{"$f":"IF(input1!H14<>0,input1!H14,\"\")","v":""},{"$f":"IF(input1!I14<>0,input1!I14,\"\")","v":""},{"$f":"IF(input1!J14<>0,input1!J14,\"\")","v":""},{"$f":"IF(input1!K14<>0,input1!K14,\"\")","v":""},{"$f":"IF(input1!L14<>0,input1!L14,\"\")","v":""},{"$f":"IF(input1!M14<>0,input1!M14,\"\")","v":""},{"$f":"IF(input1!N14<>0,input1!N14,\"\")","v":""},{"$f":"IF(input1!O14<>0,input1!O14,\"\")","v":""},0,{"$f":"M16/$M5*100","v":{"$error":"#DIV/0!"}}]
["ค่าเฉลี่ย",{"$f":"IFERROR(((4*B6)+(3.5*B7)+(3*B8)+(2.5*B9)+(2*B10)+(B11*1.5)+(1*B12))/B14,\"\")","v":""},"","","","","","","","","","","","ร้อยละ"]
["S.D.",{"$f":"IFERROR(SQRT((($A$6^2*B6+$A$7^2*B7+$A$8^2*B8+$A$9^2*B9+$A$10^2*B10+$A$11^2*B11+B12)/B14)-B17^2),\"\")","v":""},"","","","","","","","","","","","ค่าเป้าหมาย"]
["C.V.",{"$f":"IFERROR(B18/B17,\"\")","v":""},{"$f":"IFERROR(C18/C17,\"\")","v":""},"","","","","","","","","","",{"$f":"SUM(M6:M8)*100/M5","v":{"$error":"#DIV/0!"}}]
[]
["สรุปการประเมินคุณลักษณะ"]
["ผลประเมิน","ห้อง 1","ห้อง 2","ห้อง 3","ห้อง 4","ห้อง 5","ห้อง 6","ห้อง 7","ห้อง 8","ห้อง 9","ห้อง 10","ห้อง 11","รวม","ร้อยละ"]
[3,{"$f":"IF(input1!E17<>0,input1!E17,\"\")","v":""},{"$f":"IF(input1!F17<>0,input1!F17,\"\")","v":""},{"$f":"IF(input1!G17<>0,input1!G17,\"\")","v":""},{"$f":"IF(input1!H17<>0,input1!H17,\"\")","v":""},{"$f":"IF(input1!I17<>0,input1!I17,\"\")","v":""},{"$f":"IF(input1!J17<>0,input1!J17,\"\")","v":""},{"$f":"IF(input1!K17<>0,input1!K17,\"\")","v":""},{"$f":"IF(input1!L17<>0,input1!L17,\"\")","v":""},{"$f":"IF(input1!M17<>0,input1!M17,\"\")","v":""},{"$f":"IF(input1!N17<>0,input1!N17,\"\")","v":""},{"$f":"IF(input1!O17<>0,input1!O17,\"\")","v":""},{"$f":"SUM(B23:L23)","v":0},{"$f":"M23/$M26*100","v":{"$error":"#VALUE!"}}]
[2,{"$f":"IF(input1!E18<>0,input1!E18,\"\")","v":""},{"$f":"IF(input1!F18<>0,input1!F18,\"\")","v":""},{"$f":"IF(input1!G18<>0,input1!G18,\"\")","v":""},{"$f":"IF(input1!H18<>0,input1!H18,\"\")","v":""},{"$f":"IF(input1!I18<>0,input1!I18,\"\")","v":""},{"$f":"IF(input1!J18<>0,input1!J18,\"\")","v":""},{"$f":"IF(input1!K18<>0,input1!K18,\"\")","v":""},{"$f":"IF(input1!L18<>0,input1!L18,\"\")","v":""},{"$f":"IF(input1!M18<>0,input1!M18,\"\")","v":""},{"$f":"IF(input1!N18<>0,input1!N18,\"\")","v":""},{"$f":"IF(input1!O18<>0,input1!O18,\"\")","v":""},{"$f":"SUM(B24:L24)","v":0},{"$f":"M24/$M26*100","v":{"$error":"#VALUE!"}}]
[1,{"$f":"IF(input1!E19<>0,input1!E19,\"\")","v":""},{"$f":"IF(input1!F19<>0,input1!F19,\"\")","v":""},{"$f":"IF(input1!G19<>0,input1!G19,\"\")","v":""},{"$f":"IF(input1!H19<>0,input1!H19,\"\")","v":""},{"$f":"IF(input1!I19<>0,input1!I19,\"\")","v":""},{"$f":"IF(input1!J19<>0,input1!J19,\"\")","v":""},{"$f":"IF(input1!K19<>0,input1!K19,\"\")","v":""},{"$f":"IF(input1!L19<>0,input1!L19,\"\")","v":""},{"$f":"IF(input1!M19<>0,input1!M19,\"\")","v":""},{"$f":"IF(input1!N19<>0,input1!N19,\"\")","v":""},{"$f":"IF(input1!O19<>0,input1!O19,\"\")","v":""},{"$f":"SUM(B25:L25)","v":0},{"$f":"M25/$M26*100","v":{"$error":"#VALUE!"}}]
["รวม",{"$f":"IF(SUM(B23:B25) <>0,SUM(B23:B25),\"\")","v":""},{"$f":"IF(SUM(C23:C25) <>0,SUM(C23:C25),\"\")","v":""},"","","","","","","","","",{"$f":"IF(SUM(M23:M25) <>0,SUM(M23:M25),\"\")","v":""},{"$f":"SUM(N23:N25)","v":{"$error":"#VALUE!"}}]
[]
["สรุปการประเมินการอ่าน คิด วิเคราะห์"]
["ผลประเมิน","ห้อง 1","ห้อง 2","ห้อง 3","ห้อง 4","ห้อง 5","ห้อง 6","ห้อง 7","ห้อง 8","ห้อง 9","ห้อง 10","ห้อง 11","รวม","ร้อยละ"]
[3,{"$f":"IF(input1!E23<>0,input1!E23,\"\")","v":""},{"$f":"IF(input1!F23<>0,input1!F23,\"\")","v":""},{"$f":"IF(input1!G23<>0,input1!G23,\"\")","v":""},{"$f":"IF(input1!H23<>0,input1!H23,\"\")","v":""},{"$f":"IF(input1!I23<>0,input1!I23,\"\")","v":""},{"$f":"IF(input1!J23<>0,input1!J23,\"\")","v":""},{"$f":"IF(input1!K23<>0,input1!K23,\"\")","v":""},{"$f":"IF(input1!L23<>0,input1!L23,\"\")","v":""},{"$f":"IF(input1!M23<>0,input1!M23,\"\")","v":""},{"$f":"IF(input1!N23<>0,input1!N23,\"\")","v":""},{"$f":"IF(input1!O23<>0,input1!O23,\"\")","v":""},{"$f":"SUM(B30:L30)","v":0},{"$f":"M30/$M33*100","v":{"$error":"#VALUE!"}}]
[2,{"$f":"IF(input1!E24<>0,input1!E24,\"\")","v":""},{"$f":"IF(input1!F24<>0,input1!F24,\"\")","v":""},{"$f":"IF(input1!G24<>0,input1!G24,\"\")","v":""},{"$f":"IF(input1!H24<>0,input1!H24,\"\")","v":""},{"$f":"IF(input1!I24<>0,input1!I24,\"\")","v":""},{"$f":"IF(input1!J24<>0,input1!J24,\"\")","v":""},{"$f":"IF(input1!K24<>0,input1!K24,\"\")","v":""},{"$f":"IF(input1!L24<>0,input1!L24,\"\")","v":""},{"$f":"IF(input1!M24<>0,input1!M24,\"\")","v":""},{"$f":"IF(input1!N24<>0,input1!N24,\"\")","v":""},{"$f":"IF(input1!O24<>0,input1!O24,\"\")","v":""},{"$f":"SUM(B31:L31)","v":0},{"$f":"M31/$M33*100","v":{"$error":"#VALUE!"}}]
[1,{"$f":"IF(input1!E25<>0,input1!E25,\"\")","v":""},{"$f":"IF(input1!F25<>0,input1!F25,\"\")","v":""},{"$f":"IF(input1!G25<>0,input1!G25,\"\")","v":""},{"$f":"IF(input1!H25<>0,input1!H25,\"\")","v":""},{"$f":"IF(input1!I25<>0,input1!I25,\"\")","v":""},{"$f":"IF(input1!J25<>0,input1!J25,\"\")","v":""},{"$f":"IF(input1!K25<>0,input1!K25,\"\")","v":""},{"$f":"IF(input1!L25<>0,input1!L25,\"\")","v":""},{"$f":"IF(input1!M25<>0,input1!M25,\"\")","v":""},{"$f":"IF(input1!N25<>0,input1!N25,\"\")","v":""},{"$f":"IF(input1!O25<>0,input1!O25,\"\")","v":""},{"$f":"SUM(B32:L32)","v":0},{"$f":"M32/$M33*100","v":{"$error":"#VALUE!"}}]
["รวม",{"$f":"IF(SUM(B30:B32) <>0,SUM(B30:B32),\"\")","v":""},"","","","","","","","","","","",{"$f":"SUM(N30:N32)","v":{"$error":"#VALUE!"}}]

{"sheet":"Report2","index":13,"n_rows":33,"n_cols":14,"rows_kept":33,"cut":false,"hidden":false,"merged":[[0,0,0,13],[1,0,1,13],[2,0,2,13],[20,0,20,13],[27,0,27,13]]}
[{"$f":"\"สรุปผลการเรียนรายวิชา  \"&input2!C5&\"  รหัสวิชา  \" &input2!C6","v":"สรุปผลการเรียนรายวิชา    รหัสวิชา  "}]
[{"$f":"\"ชั้นมัธยมศึกษาปีที่  \"&input2!C4&  \"   ภาคเรียนที่ \"&input2!C7&\"   ปีการศึกษา  \"&input2!C8","v":"ชั้นมัธยมศึกษาปีที่     ภาคเรียนที่    ปีการศึกษา  "}]
[{"$f":"\"ครูผู้สอน  \"&input2!C3","v":"ครูผู้สอน  "}]
["เกรด","ห้อง 1","ห้อง 2","ห้อง 3","ห้อง 4","ห้อง 5","ห้อง 6","ห้อง 7","ห้อง 8","ห้อง 9","ห้อง 10","ห้อง 11","รวม","ร้อยละ"]
["ลงทะเบียน",{"$f":"IF((SUM(B6:B13))<>0,(SUM(B6:B13)),\"\")","v":""},"","","","","","","","","","",{"$f":"SUM(M6:M13)+M15+M16","v":0},{"$f":"SUM(N6:N13)+N15+N16","v":{"$error":"#DIV/0!"}}]
[4,{"$f":"input2!E5","v":0},{"$f":"input2!F5","v":0},{"$f":"input2!G5","v":0},{"$f":"input2!H5","v":0},{"$f":"input2!I5","v":0},{"$f":"input2!J5","v":0},{"$f":"input2!K5","v":0},{"$f":"input2!L5","v":0},{"$f":"input2!M5","v":0},{"$f":"input2!N5","v":0},{"$f":"input2!O5","v":0},{"$f":"SUM(B6:L6)","v":0},{"$f":"M6/$M5*100","v":{"$error":"#DIV/0!"}}]
[3.5,{"$f":"input2!E6","v":0},{"$f":"input2!F6","v":0},{"$f":"input2!G6","v":0},{"$f":"input2!H6","v":0},{"$f":"input2!I6","v":0},{"$f":"input2!J6","v":0},{"$f":"input2!K6","v":0},{"$f":"input2!L6","v":0},{"$f":"input2!M6","v":0},{"$f":"input2!N6","v":0},{"$f":"input2!O6","v":0},{"$f":"SUM(B7:L7)","v":0},{"$f":"M7/$M5*100","v":{"$error":"#DIV/0!"}}]
[3,{"$f":"input2!E7","v":0},{"$f":"input2!F7","v":0},{"$f":"input2!G7","v":0},{"$f":"input2!H7","v":0},{"$f":"input2!I7","v":0},{"$f":"input2!J7","v":0},{"$f":"input2!K7","v":0},{"$f":"input2!L7","v":0},{"$f":"input2!M7","v":0},{"$f":"input2!N7","v":0},{"$f":"input2!O7","v":0},0,{"$f":"M8/$M5*100","v":{"$error":"#DIV/0!"}}]
[2.5,{"$f":"input2!E8","v":0},{"$f":"input2!F8","v":0},{"$f":"input2!G8","v":0},{"$f":"input2!H8","v":0},{"$f":"input2!I8","v":0},{"$f":"input2!J8","v":0},{"$f":"input2!K8","v":0},{"$f":"input2!L8","v":0},{"$f":"input2!M8","v":0},{"$f":"input2!N8","v":0},{"$f":"input2!O8","v":0},0,{"$f":"M9/$M5*100","v":{"$error":"#DIV/0!"}}]
[2,{"$f":"input2!E9","v":0},{"$f":"input2!F9","v":0},{"$f":"input2!G9","v":0},{"$f":"input2!H9","v":0},{"$f":"input2!I9","v":0},{"$f":"input2!J9","v":0},{"$f":"input2!K9","v":0},{"$f":"input2!L9","v":0},{"$f":"input2!M9","v":0},{"$f":"input2!N9","v":0},{"$f":"input2!O9","v":0},0,{"$f":"M10/$M5*100","v":{"$error":"#DIV/0!"}}]
[1.5,{"$f":"input2!E10","v":0},{"$f":"input2!F10","v":0},{"$f":"input2!G10","v":0},{"$f":"input2!H10","v":0},{"$f":"input2!I10","v":0},{"$f":"input2!J10","v":0},{"$f":"input2!K10","v":0},{"$f":"input2!L10","v":0},{"$f":"input2!M10","v":0},{"$f":"input2!N10","v":0},{"$f":"input2!O10","v":0},0,{"$f":"M11/$M5*100","v":{"$error":"#DIV/0!"}}]
[1,{"$f":"input2!E11","v":0},{"$f":"input2!F11","v":0},{"$f":"input2!G11","v":0},{"$f":"input2!H11","v":0},{"$f":"input2!I11","v":0},{"$f":"input2!J11","v":0},{"$f":"input2!K11","v":0},{"$f":"input2!L11","v":0},{"$f":"input2!M11","v":0},{"$f":"input2!N11","v":0},{"$f":"input2!O11","v":0},0,{"$f":"M12/$M5*100","v":{"$error":"#DIV/0!"}}]
[0,{"$f":"input2!E12","v":0},{"$f":"input2!F12","v":0},{"$f":"input2!G12","v":0},{"$f":"input2!H12","v":0},{"$f":"input2!I12","v":0},{"$f":"input2!J12","v":0},{"$f":"input2!K12","v":0},{"$f":"input2!L12","v":0},{"$f":"input2!M12","v":0},{"$f":"input2!N12","v":0},{"$f":"input2!O12","v":0},0,{"$f":"M13/$M5*100","v":{"$error":"#DIV/0!"}}]
["ตัดสิน",{"$f":"IF((SUM(B6:B13))<>0,(SUM(B6:B13)),\"\")","v":""},"","","","","","","","","","","",{"$f":"SUM(N6:N13)+N15+N16","v":{"$error":"#DIV/0!"}}]
["ร",{"$f":"input2!E13","v":0},{"$f":"input2!F13","v":0},{"$f":"input2!G13","v":0},{"$f":"input2!H13","v":0},{"$f":"input2!I13","v":0},{"$f":"input2!J13","v":0},{"$f":"input2!K13","v":0},{"$f":"input2!L13","v":0},{"$f":"input2!M13","v":0},{"$f":"input2!N13","v":0},{"$f":"input2!O13","v":0},{"$f":"SUM(B15:L15)","v":0},{"$f":"M15/$M5*100","v":{"$error":"#DIV/0!"}}]
["มส",{"$f":"input2!E14","v":0},{"$f":"input2!F14","v":0},{"$f":"input2!G14","v":0},{"$f":"input2!H14","v":0},{"$f":"input2!I14","v":0},{"$f":"input2!J14","v":0},{"$f":"input2!K14","v":0},{"$f":"input2!L14","v":0},{"$f":"input2!M14","v":0},{"$f":"input2!N14","v":0},{"$f":"input2!O14","v":0},0,{"$f":"M16/$M5*100","v":{"$error":"#DIV/0!"}}]
["ค่าเฉลี่ย",{"$f":"IFERROR(((4*B6)+(3.5*B7)+(3*B8)+(2.5*B9)+(2*B10)+(B11*1.5)+(1*B12))/B14,\"\")","v":""},"","","","","","","","","","","","ร้อยละ"]
["S.D.",{"$f":"IFERROR(SQRT((($A$6^2*B6+$A$7^2*B7+$A$8^2*B8+$A$9^2*B9+$A$10^2*B10+$A$11^2*B11+B12)/B14)-B17^2),\"\")","v":""},"","","","","","","","","","","","ค่าเป้าหมาย"]
["C.V.",{"$f":"IFERROR(B18/B17,\"\")","v":""},{"$f":"IFERROR(C18/C17,\"\")","v":""},"","","","","","","","","","",{"$f":"SUM(M6:M10)*100/M5","v":{"$error":"#DIV/0!"}}]
[]
["สรุปการประเมินคุณลักษณะ"]
["ผลประเมิน","ห้อง 1","ห้อง 2","ห้อง 3","ห้อง 4","ห้อง 5","ห้อง 6","ห้อง 7","ห้อง 8","ห้อง 9","ห้อง 10","ห้อง 11","รวม","ร้อยละ"]
[3,{"$f":"IF(input2!E17<>0,input2!E17,\"\")","v":""},{"$f":"IF(input2!F17<>0,input2!F17,\"\")","v":""},{"$f":"IF(input2!G17<>0,input2!G17,\"\")","v":""},{"$f":"IF(input2!H17<>0,input2!H17,\"\")","v":""},{"$f":"IF(input2!I17<>0,input2!I17,\"\")","v":""},{"$f":"IF(input2!J17<>0,input2!J17,\"\")","v":""},{"$f":"IF(input2!K17<>0,input2!K17,\"\")","v":""},{"$f":"IF(input2!L17<>0,input2!L17,\"\")","v":""},{"$f":"IF(input2!M17<>0,input2!M17,\"\")","v":""},{"$f":"IF(input2!N17<>0,input2!N17,\"\")","v":""},{"$f":"IF(input2!O17<>0,input2!O17,\"\")","v":""},{"$f":"SUM(B23:L23)","v":0},{"$f":"M23/$M26*100","v":{"$error":"#VALUE!"}}]
[2,{"$f":"IF(input2!E18<>0,input2!E18,\"\")","v":""},{"$f":"IF(input2!F18<>0,input2!F18,\"\")","v":""},{"$f":"IF(input2!G18<>0,input2!G18,\"\")","v":""},{"$f":"IF(input2!H18<>0,input2!H18,\"\")","v":""},{"$f":"IF(input2!I18<>0,input2!I18,\"\")","v":""},{"$f":"IF(input2!J18<>0,input2!J18,\"\")","v":""},{"$f":"IF(input2!K18<>0,input2!K18,\"\")","v":""},{"$f":"IF(input2!L18<>0,input2!L18,\"\")","v":""},{"$f":"IF(input2!M18<>0,input2!M18,\"\")","v":""},{"$f":"IF(input2!N18<>0,input2!N18,\"\")","v":""},{"$f":"IF(input2!O18<>0,input2!O18,\"\")","v":""},{"$f":"SUM(B24:L24)","v":0},{"$f":"M24/$M26*100","v":{"$error":"#VALUE!"}}]
[1,{"$f":"IF(input2!E19<>0,input2!E19,\"\")","v":""},{"$f":"IF(input2!F19<>0,input2!F19,\"\")","v":""},{"$f":"IF(input2!G19<>0,input2!G19,\"\")","v":""},{"$f":"IF(input2!H19<>0,input2!H19,\"\")","v":""},{"$f":"IF(input2!I19<>0,input2!I19,\"\")","v":""},{"$f":"IF(input2!J19<>0,input2!J19,\"\")","v":""},{"$f":"IF(input2!K19<>0,input2!K19,\"\")","v":""},{"$f":"IF(input2!L19<>0,input2!L19,\"\")","v":""},{"$f":"IF(input2!M19<>0,input2!M19,\"\")","v":""},{"$f":"IF(input2!N19<>0,input2!N19,\"\")","v":""},{"$f":"IF(input2!O19<>0,input2!O19,\"\")","v":""},{"$f":"SUM(B25:L25)","v":0},{"$f":"M25/$M26*100","v":{"$error":"#VALUE!"}}]
["รวม",{"$f":"IF(SUM(B23:B25) <>0,SUM(B23:B25),\"\")","v":""},{"$f":"IF(SUM(C23:C25) <>0,SUM(C23:C25),\"\")","v":""},"","","","","","","","","",{"$f":"IF(SUM(M23:M25) <>0,SUM(M23:M25),\"\")","v":""},{"$f":"SUM(N23:N25)","v":{"$error":"#VALUE!"}}]
[]
["สรุปการประเมินการอ่าน คิด วิเคราะห์"]
["ผลประเมิน","ห้อง 1","ห้อง 2","ห้อง 3","ห้อง 4","ห้อง 5","ห้อง 6","ห้อง 7","ห้อง 8","ห้อง 9","ห้อง 10","ห้อง 11","รวม","ร้อยละ"]
[3,{"$f":"IF(input2!E23<>0,input2!E23,\"\")","v":""},{"$f":"IF(input2!F23<>0,input2!F23,\"\")","v":""},{"$f":"IF(input2!G23<>0,input2!G23,\"\")","v":""},{"$f":"IF(input2!H23<>0,input2!H23,\"\")","v":""},{"$f":"IF(input2!I23<>0,input2!I23,\"\")","v":""},{"$f":"IF(input2!J23<>0,input2!J23,\"\")","v":""},{"$f":"IF(input2!K23<>0,input2!K23,\"\")","v":""},{"$f":"IF(input2!L23<>0,input2!L23,\"\")","v":""},{"$f":"IF(input2!M23<>0,input2!M23,\"\")","v":""},{"$f":"IF(input2!N23<>0,input2!N23,\"\")","v":""},{"$f":"IF(input2!O23<>0,input2!O23,\"\")","v":""},{"$f":"SUM(B30:L30)","v":0},{"$f":"M30/$M33*100","v":{"$error":"#VALUE!"}}]
[2,{"$f":"IF(input2!E24<>0,input2!E24,\"\")","v":""},{"$f":"IF(input2!F24<>0,input2!F24,\"\")","v":""},{"$f":"IF(input2!G24<>0,input2!G24,\"\")","v":""},{"$f":"IF(input2!H24<>0,input2!H24,\"\")","v":""},{"$f":"IF(input2!I24<>0,input2!I24,\"\")","v":""},{"$f":"IF(input2!J24<>0,input2!J24,\"\")","v":""},{"$f":"IF(input2!K24<>0,input2!K24,\"\")","v":""},{"$f":"IF(input2!L24<>0,input2!L24,\"\")","v":""},{"$f":"IF(input2!M24<>0,input2!M24,\"\")","v":""},{"$f":"IF(input2!N24<>0,input2!N24,\"\")","v":""},{"$f":"IF(input2!O24<>0,input2!O24,\"\")","v":""},{"$f":"SUM(B31:L31)","v":0},{"$f":"M31/$M33*100","v":{"$error":"#VALUE!"}}]
[1,{"$f":"IF(input2!E25<>0,input2!E25,\"\")","v":""},{"$f":"IF(input2!F25<>0,input2!F25,\"\")","v":""},{"$f":"IF(input2!G25<>0,input2!G25,\"\")","v":""},{"$f":"IF(input2!H25<>0,input2!H25,\"\")","v":""},{"$f":"IF(input2!I25<>0,input2!I25,\"\")","v":""},{"$f":"IF(input2!J25<>0,input2!J25,\"\")","v":""},{"$f":"IF(input2!K25<>0,input2!K25,\"\")","v":""},{"$f":"IF(input2!L25<>0,input2!L25,\"\")","v":""},{"$f":"IF(input2!M25<>0,input2!M25,\"\")","v":""},{"$f":"IF(input2!N25<>0,input2!N25,\"\")","v":""},{"$f":"IF(input2!O25<>0,input2!O25,\"\")","v":""},{"$f":"SUM(B32:L32)","v":0},{"$f":"M32/$M33*100","v":{"$error":"#VALUE!"}}]
["รวม",{"$f":"IF(SUM(B30:B32) <>0,SUM(B30:B32),\"\")","v":""},{"$f":"IF(SUM(C30:C32) <>0,SUM(C30:C32),\"\")","v":""},"","","","","","","","","",{"$f":"IF(SUM(M30:M32) <>0,SUM(M30:M32),\"\")","v":""},{"$f":"SUM(N30:N32)","v":{"$error":"#VALUE!"}}]

{"sheet":"Report3","index":14,"n_rows":33,"n_cols":14,"rows_kept":33,"cut":false,"hidden":false,"merged":[[0,0,0,13],[1,0,1,13],[2,0,2,13],[20,0,20,13],[27,0,27,13]]}
[{"$f":"\"สรุปผลการเรียนรายวิชา  \"&input3!C5&\"  รหัสวิชา  \" &input3!C6","v":"สรุปผลการเรียนรายวิชา    รหัสวิชา  "}]
[{"$f":"\"ชั้นมัธยมศึกษาปีที่  \"&input3!C4&  \"   ภาคเรียนที่ \"&input3!C7&\"   ปีการศึกษา  \"&input3!C8","v":"ชั้นมัธยมศึกษาปีที่     ภาคเรียนที่    ปีการศึกษา  "}]
[{"$f":"\"ครูผู้สอน  \"&input3!C3","v":"ครูผู้สอน  "}]
["เกรด","ห้อง 1","ห้อง 2","ห้อง 3","ห้อง 4","ห้อง 5","ห้อง 6","ห้อง 7","ห้อง 8","ห้อง 9","ห้อง 10","ห้อง 11","รวม","ร้อยละ"]
["ลงทะเบียน",{"$f":"IF((SUM(B6:B13))<>0,(SUM(B6:B13)),\"\")","v":""},"","","","","","","","","","",{"$f":"SUM(M6:M13)+M15+M16","v":0},{"$f":"SUM(N6:N13)+N15+N16","v":{"$error":"#DIV/0!"}}]
[4,{"$f":"input3!E5","v":0},{"$f":"input3!F5","v":0},{"$f":"input3!G5","v":0},{"$f":"input3!H5","v":0},{"$f":"input3!I5","v":0},{"$f":"input3!J5","v":0},{"$f":"input3!K5","v":0},{"$f":"input3!L5","v":0},{"$f":"input3!M5","v":0},{"$f":"input3!N5","v":0},{"$f":"input3!O5","v":0},{"$f":"SUM(B6:L6)","v":0},{"$f":"M6/$M5*100","v":{"$error":"#DIV/0!"}}]
[3.5,{"$f":"input3!E6","v":0},{"$f":"input3!F6","v":0},{"$f":"input3!G6","v":0},{"$f":"input3!H6","v":0},{"$f":"input3!I6","v":0},{"$f":"input3!J6","v":0},{"$f":"input3!K6","v":0},{"$f":"input3!L6","v":0},{"$f":"input3!M6","v":0},{"$f":"input3!N6","v":0},{"$f":"input3!O6","v":0},{"$f":"SUM(B7:L7)","v":0},{"$f":"M7/$M5*100","v":{"$error":"#DIV/0!"}}]
[3,{"$f":"input3!E7","v":0},{"$f":"input3!F7","v":0},{"$f":"input3!G7","v":0},{"$f":"input3!H7","v":0},{"$f":"input3!I7","v":0},{"$f":"input3!J7","v":0},{"$f":"input3!K7","v":0},{"$f":"input3!L7","v":0},{"$f":"input3!M7","v":0},{"$f":"input3!N7","v":0},{"$f":"input3!O7","v":0},0,{"$f":"M8/$M5*100","v":{"$error":"#DIV/0!"}}]
[2.5,{"$f":"input3!E8","v":0},{"$f":"input3!F8","v":0},{"$f":"input3!G8","v":0},{"$f":"input3!H8","v":0},{"$f":"input3!I8","v":0},{"$f":"input3!J8","v":0},{"$f":"input3!K8","v":0},{"$f":"input3!L8","v":0},{"$f":"input3!M8","v":0},{"$f":"input3!N8","v":0},{"$f":"input3!O8","v":0},0,{"$f":"M9/$M5*100","v":{"$error":"#DIV/0!"}}]
[2,{"$f":"input3!E9","v":0},{"$f":"input3!F9","v":0},{"$f":"input3!G9","v":0},{"$f":"input3!H9","v":0},{"$f":"input3!I9","v":0},{"$f":"input3!J9","v":0},{"$f":"input3!K9","v":0},{"$f":"input3!L9","v":0},{"$f":"input3!M9","v":0},{"$f":"input3!N9","v":0},{"$f":"input3!O9","v":0},0,{"$f":"M10/$M5*100","v":{"$error":"#DIV/0!"}}]
[1.5,{"$f":"input3!E10","v":0},{"$f":"input3!F10","v":0},{"$f":"input3!G10","v":0},{"$f":"input3!H10","v":0},{"$f":"input3!I10","v":0},{"$f":"input3!J10","v":0},{"$f":"input3!K10","v":0},{"$f":"input3!L10","v":0},{"$f":"input3!M10","v":0},{"$f":"input3!N10","v":0},{"$f":"input3!O10","v":0},0,{"$f":"M11/$M5*100","v":{"$error":"#DIV/0!"}}]
[1,{"$f":"input3!E11","v":0},{"$f":"input3!F11","v":0},{"$f":"input3!G11","v":0},{"$f":"input3!H11","v":0},{"$f":"input3!I11","v":0},{"$f":"input3!J11","v":0},{"$f":"input3!K11","v":0},{"$f":"input3!L11","v":0},{"$f":"input3!M11","v":0},{"$f":"input3!N11","v":0},{"$f":"input3!O11","v":0},0,{"$f":"M12/$M5*100","v":{"$error":"#DIV/0!"}}]
[0,{"$f":"input3!E12","v":0},{"$f":"input3!F12","v":0},{"$f":"input3!G12","v":0},{"$f":"input3!H12","v":0},{"$f":"input3!I12","v":0},{"$f":"input3!J12","v":0},{"$f":"input3!K12","v":0},{"$f":"input3!L12","v":0},{"$f":"input3!M12","v":0},{"$f":"input3!N12","v":0},{"$f":"input3!O12","v":0},0,{"$f":"M13/$M5*100","v":{"$error":"#DIV/0!"}}]
["ตัดสิน",{"$f":"IF((SUM(B6:B13))<>0,(SUM(B6:B13)),\"\")","v":""},"","","","","","","","","","","",{"$f":"SUM(N6:N13)+N15+N16","v":{"$error":"#DIV/0!"}}]
["ร",{"$f":"input3!E13","v":0},{"$f":"input3!F13","v":0},{"$f":"input3!G13","v":0},{"$f":"input3!H13","v":0},{"$f":"input3!I13","v":0},{"$f":"input3!J13","v":0},{"$f":"input3!K13","v":0},{"$f":"input3!L13","v":0},{"$f":"input3!M13","v":0},{"$f":"input3!N13","v":0},{"$f":"input3!O13","v":0},{"$f":"SUM(B15:L15)","v":0},{"$f":"M15/$M5*100","v":{"$error":"#DIV/0!"}}]
["มส",{"$f":"input3!E14","v":0},{"$f":"input3!F14","v":0},{"$f":"input3!G14","v":0},{"$f":"input3!H14","v":0},{"$f":"input3!I14","v":0},{"$f":"input3!J14","v":0},{"$f":"input3!K14","v":0},{"$f":"input3!L14","v":0},{"$f":"input3!M14","v":0},{"$f":"input3!N14","v":0},{"$f":"input3!O14","v":0},0,{"$f":"M16/$M5*100","v":{"$error":"#DIV/0!"}}]
["ค่าเฉลี่ย",{"$f":"IFERROR(((4*B6)+(3.5*B7)+(3*B8)+(2.5*B9)+(2*B10)+(B11*1.5)+(1*B12))/B14,\"\")","v":""},"","","","","","","","","","","","ร้อยละ"]
["S.D.",{"$f":"IFERROR(SQRT((($A$6^2*B6+$A$7^2*B7+$A$8^2*B8+$A$9^2*B9+$A$10^2*B10+$A$11^2*B11+B12)/B14)-B17^2),\"\")","v":""},"","","","","","","","","","","","ค่าเป้าหมาย"]
["C.V.",{"$f":"IFERROR(B18/B17,\"\")","v":""},{"$f":"IFERROR(C18/C17,\"\")","v":""},"","","","","","","","","","",{"$f":"SUM(M6:M10)*100/M5","v":{"$error":"#DIV/0!"}}]
[]
["สรุปการประเมินคุณลักษณะ"]
["ผลประเมิน","ห้อง 1","ห้อง 2","ห้อง 3","ห้อง 4","ห้อง 5","ห้อง 6","ห้อง 7","ห้อง 8","ห้อง 9","ห้อง 10","ห้อง 11","รวม","ร้อยละ"]
[3,{"$f":"IF(input3!E17<>0,input3!E17,\"\")","v":""},{"$f":"IF(input3!F17<>0,input3!F17,\"\")","v":""},{"$f":"IF(input3!G17<>0,input3!G17,\"\")","v":""},{"$f":"IF(input3!H17<>0,input3!H17,\"\")","v":""},{"$f":"IF(input3!I17<>0,input3!I17,\"\")","v":""},{"$f":"IF(input3!J17<>0,input3!J17,\"\")","v":""},{"$f":"IF(input3!K17<>0,input3!K17,\"\")","v":""},{"$f":"IF(input3!L17<>0,input3!L17,\"\")","v":""},{"$f":"IF(input3!M17<>0,input3!M17,\"\")","v":""},{"$f":"IF(input3!N17<>0,input3!N17,\"\")","v":""},{"$f":"IF(input3!O17<>0,input3!O17,\"\")","v":""},{"$f":"SUM(B23:L23)","v":0},{"$f":"M23/$M26*100","v":{"$error":"#VALUE!"}}]
[2,{"$f":"IF(input3!E18<>0,input3!E18,\"\")","v":""},{"$f":"IF(input3!F18<>0,input3!F18,\"\")","v":""},{"$f":"IF(input3!G18<>0,input3!G18,\"\")","v":""},{"$f":"IF(input3!H18<>0,input3!H18,\"\")","v":""},{"$f":"IF(input3!I18<>0,input3!I18,\"\")","v":""},{"$f":"IF(input3!J18<>0,input3!J18,\"\")","v":""},{"$f":"IF(input3!K18<>0,input3!K18,\"\")","v":""},{"$f":"IF(input3!L18<>0,input3!L18,\"\")","v":""},{"$f":"IF(input3!M18<>0,input3!M18,\"\")","v":""},{"$f":"IF(input3!N18<>0,input3!N18,\"\")","v":""},{"$f":"IF(input3!O18<>0,input3!O18,\"\")","v":""},{"$f":"SUM(B24:L24)","v":0},{"$f":"M24/$M26*100","v":{"$error":"#VALUE!"}}]
[1,{"$f":"IF(input3!E19<>0,input3!E19,\"\")","v":""},{"$f":"IF(input3!F19<>0,input3!F19,\"\")","v":""},{"$f":"IF(input3!G19<>0,input3!G19,\"\")","v":""},{"$f":"IF(input3!H19<>0,input3!H19,\"\")","v":""},{"$f":"IF(input3!I19<>0,input3!I19,\"\")","v":""},{"$f":"IF(input3!J19<>0,input3!J19,\"\")","v":""},{"$f":"IF(input3!K19<>0,input3!K19,\"\")","v":""},{"$f":"IF(input3!L19<>0,input3!L19,\"\")","v":""},{"$f":"IF(input3!M19<>0,input3!M19,\"\")","v":""},{"$f":"IF(input3!N19<>0,input3!N19,\"\")","v":""},{"$f":"IF(input3!O19<>0,input3!O19,\"\")","v":""},{"$f":"SUM(B25:L25)","v":0},{"$f":"M25/$M26*100","v":{"$error":"#VALUE!"}}]
["รวม",{"$f":"IF(SUM(B23:B25) <>0,SUM(B23:B25),\"\")","v":""},{"$f":"IF(SUM(C23:C25) <>0,SUM(C23:C25),\"\")","v":""},"","","","","","","","","",{"$f":"IF(SUM(M23:M25) <>0,SUM(M23:M25),\"\")","v":""},{"$f":"SUM(N23:N25)","v":{"$error":"#VALUE!"}}]
[]
["สรุปการประเมินการอ่าน คิด วิเคราะห์"]
["ผลประเมิน","ห้อง 1","ห้อง 2","ห้อง 3","ห้อง 4","ห้อง 5","ห้อง 6","ห้อง 7","ห้อง 8","ห้อง 9","ห้อง 10","ห้อง 11","รวม","ร้อยละ"]
[3,{"$f":"IF(input3!E23<>0,input3!E23,\"\")","v":""},{"$f":"IF(input3!F23<>0,input3!F23,\"\")","v":""},{"$f":"IF(input3!G23<>0,input3!G23,\"\")","v":""},{"$f":"IF(input3!H23<>0,input3!H23,\"\")","v":""},{"$f":"IF(input3!I23<>0,input3!I23,\"\")","v":""},{"$f":"IF(input3!J23<>0,input3!J23,\"\")","v":""},{"$f":"IF(input3!K23<>0,input3!K23,\"\")","v":""},{"$f":"IF(input3!L23<>0,input3!L23,\"\")","v":""},{"$f":"IF(input3!M23<>0,input3!M23,\"\")","v":""},{"$f":"IF(input3!N23<>0,input3!N23,\"\")","v":""},{"$f":"IF(input3!O23<>0,input3!O23,\"\")","v":""},{"$f":"SUM(B30:L30)","v":0},{"$f":"M30/$M33*100","v":{"$error":"#VALUE!"}}]
[2,{"$f":"IF(input3!E24<>0,input3!E24,\"\")","v":""},{"$f":"IF(input3!F24<>0,input3!F24,\"\")","v":""},{"$f":"IF(input3!G24<>0,input3!G24,\"\")","v":""},{"$f":"IF(input3!H24<>0,input3!H24,\"\")","v":""},{"$f":"IF(input3!I24<>0,input3!I24,\"\")","v":""},{"$f":"IF(input3!J24<>0,input3!J24,\"\")","v":""},{"$f":"IF(input3!K24<>0,input3!K24,\"\")","v":""},{"$f":"IF(input3!L24<>0,input3!L24,\"\")","v":""},{"$f":"IF(input3!M24<>0,input3!M24,\"\")","v":""},{"$f":"IF(input3!N24<>0,input3!N24,\"\")","v":""},{"$f":"IF(input3!O24<>0,input3!O24,\"\")","v":""},{"$f":"SUM(B31:L31)","v":0},{"$f":"M31/$M33*100","v":{"$error":"#VALUE!"}}]
[1,{"$f":"IF(input3!E25<>0,input3!E25,\"\")","v":""},{"$f":"IF(input3!F25<>0,input3!F25,\"\")","v":""},{"$f":"IF(input3!G25<>0,input3!G25,\"\")","v":""},{"$f":"IF(input3!H25<>0,input3!H25,\"\")","v":""},{"$f":"IF(input3!I25<>0,input3!I25,\"\")","v":""},{"$f":"IF(input3!J25<>0,input3!J25,\"\")","v":""},{"$f":"IF(input3!K25<>0,input3!K25,\"\")","v":""},{"$f":"IF(input3!L25<>0,input3!L25,\"\")","v":""},{"$f":"IF(input3!M25<>0,input3!M25,\"\")","v":""},{"$f":"IF(input3!N25<>0,input3!N25,\"\")","v":""},{"$f":"IF(input3!O25<>0,input3!O25,\"\")","v":""},{"$f":"SUM(B32:L32)","v":0},{"$f":"M32/$M33*100","v":{"$error":"#VALUE!"}}]
["รวม",{"$f":"IF(SUM(B30:B32) <>0,SUM(B30:B32),\"\")","v":""},{"$f":"IF(SUM(C30:C32) <>0,SUM(C30:C32),\"\")","v":""},"","","","","","","","","",{"$f":"IF(SUM(M30:M32) <>0,SUM(M30:M32),\"\")","v":""},{"$f":"SUM(N30:N32)","v":{"$error":"#VALUE!"}}]

{"sheet":"Report4","index":15,"n_rows":33,"n_cols":14,"rows_kept":33,"cut":false,"hidden":false,"merged":[[0,0,0,13],[1,0,1,13],[2,0,2,13],[20,0,20,13],[27,0,27,13]]}
[{"$f":"\"สรุปผลการเรียนรายวิชา  \"&input4!C5&\"  รหัสวิชา  \" &input4!C6","v":"สรุปผลการเรียนรายวิชา    รหัสวิชา  "}]
[{"$f":"\"ชั้นมัธยมศึกษาปีที่  \"&input4!C4&  \"   ภาคเรียนที่ \"&input4!C7&\"   ปีการศึกษา  \"&input4!C8","v":"ชั้นมัธยมศึกษาปีที่     ภาคเรียนที่    ปีการศึกษา  "}]
[{"$f":"\"ครูผู้สอน  \"&input4!C3","v":"ครูผู้สอน  "}]
["เกรด","ห้อง 1","ห้อง 2","ห้อง 3","ห้อง 4","ห้อง 5","ห้อง 6","ห้อง 7","ห้อง 8","ห้อง 9","ห้อง 10","ห้อง 11","รวม","ร้อยละ"]
["ลงทะเบียน",{"$f":"IF((SUM(B6:B13))<>0,(SUM(B6:B13)),\"\")","v":""},"","","","","","","","","","",{"$f":"SUM(M6:M13)+M15+M16","v":0},{"$f":"SUM(N6:N13)+N15+N16","v":{"$error":"#DIV/0!"}}]
[4,{"$f":"input4!E5","v":0},{"$f":"input4!F5","v":0},{"$f":"input4!G5","v":0},{"$f":"input4!H5","v":0},{"$f":"input4!I5","v":0},{"$f":"input4!J5","v":0},{"$f":"input4!K5","v":0},{"$f":"input4!L5","v":0},{"$f":"input4!M5","v":0},{"$f":"input4!N5","v":0},{"$f":"input4!O5","v":0},{"$f":"SUM(B6:L6)","v":0},{"$f":"M6/$M5*100","v":{"$error":"#DIV/0!"}}]
[3.5,{"$f":"input4!E6","v":0},{"$f":"input4!F6","v":0},{"$f":"input4!G6","v":0},{"$f":"input4!H6","v":0},{"$f":"input4!I6","v":0},{"$f":"input4!J6","v":0},{"$f":"input4!K6","v":0},{"$f":"input4!L6","v":0},{"$f":"input4!M6","v":0},{"$f":"input4!N6","v":0},{"$f":"input4!O6","v":0},{"$f":"SUM(B7:L7)","v":0},{"$f":"M7/$M5*100","v":{"$error":"#DIV/0!"}}]
[3,{"$f":"input4!E7","v":0},{"$f":"input4!F7","v":0},{"$f":"input4!G7","v":0},{"$f":"input4!H7","v":0},{"$f":"input4!I7","v":0},{"$f":"input4!J7","v":0},{"$f":"input4!K7","v":0},{"$f":"input4!L7","v":0},{"$f":"input4!M7","v":0},{"$f":"input4!N7","v":0},{"$f":"input4!O7","v":0},0,{"$f":"M8/$M5*100","v":{"$error":"#DIV/0!"}}]
[2.5,{"$f":"input4!E8","v":0},{"$f":"input4!F8","v":0},{"$f":"input4!G8","v":0},{"$f":"input4!H8","v":0},{"$f":"input4!I8","v":0},{"$f":"input4!J8","v":0},{"$f":"input4!K8","v":0},{"$f":"input4!L8","v":0},{"$f":"input4!M8","v":0},{"$f":"input4!N8","v":0},{"$f":"input4!O8","v":0},0,{"$f":"M9/$M5*100","v":{"$error":"#DIV/0!"}}]
[2,{"$f":"input4!E9","v":0},{"$f":"input4!F9","v":0},{"$f":"input4!G9","v":0},{"$f":"input4!H9","v":0},{"$f":"input4!I9","v":0},{"$f":"input4!J9","v":0},{"$f":"input4!K9","v":0},{"$f":"input4!L9","v":0},{"$f":"input4!M9","v":0},{"$f":"input4!N9","v":0},{"$f":"input4!O9","v":0},0,{"$f":"M10/$M5*100","v":{"$error":"#DIV/0!"}}]
[1.5,{"$f":"input4!E10","v":0},{"$f":"input4!F10","v":0},{"$f":"input4!G10","v":0},{"$f":"input4!H10","v":0},{"$f":"input4!I10","v":0},{"$f":"input4!J10","v":0},{"$f":"input4!K10","v":0},{"$f":"input4!L10","v":0},{"$f":"input4!M10","v":0},{"$f":"input4!N10","v":0},{"$f":"input4!O10","v":0},0,{"$f":"M11/$M5*100","v":{"$error":"#DIV/0!"}}]
[1,{"$f":"input4!E11","v":0},{"$f":"input4!F11","v":0},{"$f":"input4!G11","v":0},{"$f":"input4!H11","v":0},{"$f":"input4!I11","v":0},{"$f":"input4!J11","v":0},{"$f":"input4!K11","v":0},{"$f":"input4!L11","v":0},{"$f":"input4!M11","v":0},{"$f":"input4!N11","v":0},{"$f":"input4!O11","v":0},0,{"$f":"M12/$M5*100","v":{"$error":"#DIV/0!"}}]
[0,{"$f":"input4!E12","v":0},{"$f":"input4!F12","v":0},{"$f":"input4!G12","v":0},{"$f":"input4!H12","v":0},{"$f":"input4!I12","v":0},{"$f":"input4!J12","v":0},{"$f":"input4!K12","v":0},{"$f":"input4!L12","v":0},{"$f":"input4!M12","v":0},{"$f":"input4!N12","v":0},{"$f":"input4!O12","v":0},0,{"$f":"M13/$M5*100","v":{"$error":"#DIV/0!"}}]
["ตัดสิน",{"$f":"IF((SUM(B6:B13))<>0,(SUM(B6:B13)),\"\")","v":""},"","","","","","","","","","","",{"$f":"SUM(N6:N13)+N15+N16","v":{"$error":"#DIV/0!"}}]
["ร",{"$f":"input4!E13","v":0},{"$f":"input4!F13","v":0},{"$f":"input4!G13","v":0},{"$f":"input4!H13","v":0},{"$f":"input4!I13","v":0},{"$f":"input4!J13","v":0},{"$f":"input4!K13","v":0},{"$f":"input4!L13","v":0},{"$f":"input4!M13","v":0},{"$f":"input4!N13","v":0},{"$f":"input4!O13","v":0},{"$f":"SUM(B15:L15)","v":0},{"$f":"M15/$M5*100","v":{"$error":"#DIV/0!"}}]
["มส",{"$f":"input4!E14","v":0},{"$f":"input4!F14","v":0},{"$f":"input4!G14","v":0},{"$f":"input4!H14","v":0},{"$f":"input4!I14","v":0},{"$f":"input4!J14","v":0},{"$f":"input4!K14","v":0},{"$f":"input4!L14","v":0},{"$f":"input4!M14","v":0},{"$f":"input4!N14","v":0},{"$f":"input4!O14","v":0},0,{"$f":"M16/$M5*100","v":{"$error":"#DIV/0!"}}]
["ค่าเฉลี่ย",{"$f":"IFERROR(((4*B6)+(3.5*B7)+(3*B8)+(2.5*B9)+(2*B10)+(B11*1.5)+(1*B12))/B14,\"\")","v":""},"","","","","","","","","","","","ร้อยละ"]
["S.D.",{"$f":"IFERROR(SQRT((($A$6^2*B6+$A$7^2*B7+$A$8^2*B8+$A$9^2*B9+$A$10^2*B10+$A$11^2*B11+B12)/B14)-B17^2),\"\")","v":""},"","","","","","","","","","","","ค่าเป้าหมาย"]
["C.V.",{"$f":"IFERROR(B18/B17,\"\")","v":""},{"$f":"IFERROR(C18/C17,\"\")","v":""},"","","","","","","","","","",{"$f":"SUM(M6:M10)*100/M5","v":{"$error":"#DIV/0!"}}]
[]
["สรุปการประเมินคุณลักษณะ"]
["ผลประเมิน","ห้อง 1","ห้อง 2","ห้อง 3","ห้อง 4","ห้อง 5","ห้อง 6","ห้อง 7","ห้อง 8","ห้อง 9","ห้อง 10","ห้อง 11","รวม","ร้อยละ"]
[3,{"$f":"IF(input4!E17<>0,input4!E17,\"\")","v":""},{"$f":"IF(input4!F17<>0,input4!F17,\"\")","v":""},{"$f":"IF(input4!G17<>0,input4!G17,\"\")","v":""},{"$f":"IF(input4!H17<>0,input4!H17,\"\")","v":""},{"$f":"IF(input4!I17<>0,input4!I17,\"\")","v":""},{"$f":"IF(input4!J17<>0,input4!J17,\"\")","v":""},{"$f":"IF(input4!K17<>0,input4!K17,\"\")","v":""},{"$f":"IF(input4!L17<>0,input4!L17,\"\")","v":""},{"$f":"IF(input4!M17<>0,input4!M17,\"\")","v":""},{"$f":"IF(input4!N17<>0,input4!N17,\"\")","v":""},{"$f":"IF(input4!O17<>0,input4!O17,\"\")","v":""},{"$f":"SUM(B23:L23)","v":0},{"$f":"M23/$M26*100","v":{"$error":"#VALUE!"}}]
[2,{"$f":"IF(input4!E18<>0,input4!E18,\"\")","v":""},{"$f":"IF(input4!F18<>0,input4!F18,\"\")","v":""},{"$f":"IF(input4!G18<>0,input4!G18,\"\")","v":""},{"$f":"IF(input4!H18<>0,input4!H18,\"\")","v":""},{"$f":"IF(input4!I18<>0,input4!I18,\"\")","v":""},{"$f":"IF(input4!J18<>0,input4!J18,\"\")","v":""},{"$f":"IF(input4!K18<>0,input4!K18,\"\")","v":""},{"$f":"IF(input4!L18<>0,input4!L18,\"\")","v":""},{"$f":"IF(input4!M18<>0,input4!M18,\"\")","v":""},{"$f":"IF(input4!N18<>0,input4!N18,\"\")","v":""},{"$f":"IF(input4!O18<>0,input4!O18,\"\")","v":""},{"$f":"SUM(B24:L24)","v":0},{"$f":"M24/$M26*100","v":{"$error":"#VALUE!"}}]
[1,{"$f":"IF(input4!E19<>0,input4!E19,\"\")","v":""},{"$f":"IF(input4!F19<>0,input4!F19,\"\")","v":""},{"$f":"IF(input4!G19<>0,input4!G19,\"\")","v":""},{"$f":"IF(input4!H19<>0,input4!H19,\"\")","v":""},{"$f":"IF(input4!I19<>0,input4!I19,\"\")","v":""},{"$f":"IF(input4!J19<>0,input4!J19,\"\")","v":""},{"$f":"IF(input4!K19<>0,input4!K19,\"\")","v":""},{"$f":"IF(input4!L19<>0,input4!L19,\"\")","v":""},{"$f":"IF(input4!M19<>0,input4!M19,\"\")","v":""},{"$f":"IF(input4!N19<>0,input4!N19,\"\")","v":""},{"$f":"IF(input4!O19<>0,input4!O19,\"\")","v":""},{"$f":"SUM(B25:L25)","v":0},{"$f":"M25/$M26*100","v":{"$error":"#VALUE!"}}]
["รวม",{"$f":"IF(SUM(B23:B25) <>0,SUM(B23:B25),\"\")","v":""},{"$f":"IF(SUM(C23:C25) <>0,SUM(C23:C25),\"\")","v":""},"","","","","","","","","",{"$f":"IF(SUM(M23:M25) <>0,SUM(M23:M25),\"\")","v":""},{"$f":"SUM(N23:N25)","v":{"$error":"#VALUE!"}}]
[]
["สรุปการประเมินการอ่าน คิด วิเคราะห์"]
["ผลประเมิน","ห้อง 1","ห้อง 2","ห้อง 3","ห้อง 4","ห้อง 5","ห้อง 6","ห้อง 7","ห้อง 8","ห้อง 9","ห้อง 10","ห้อง 11","รวม","ร้อยละ"]
[3,{"$f":"IF(input4!E23<>0,input4!E23,\"\")","v":""},{"$f":"IF(input4!F23<>0,input4!F23,\"\")","v":""},{"$f":"IF(input4!G23<>0,input4!G23,\"\")","v":""},{"$f":"IF(input4!H23<>0,input4!H23,\"\")","v":""},{"$f":"IF(input4!I23<>0,input4!I23,\"\")","v":""},{"$f":"IF(input4!J23<>0,input4!J23,\"\")","v":""},{"$f":"IF(input4!K23<>0,input4!K23,\"\")","v":""},{"$f":"IF(input4!L23<>0,input4!L23,\"\")","v":""},{"$f":"IF(input4!M23<>0,input4!M23,\"\")","v":""},{"$f":"IF(input4!N23<>0,input4!N23,\"\")","v":""},{"$f":"IF(input4!O23<>0,input4!O23,\"\")","v":""},{"$f":"SUM(B30:L30)","v":0},{"$f":"M30/$M33*100","v":{"$error":"#VALUE!"}}]
[2,{"$f":"IF(input4!E24<>0,input4!E24,\"\")","v":""},{"$f":"IF(input4!F24<>0,input4!F24,\"\")","v":""},{"$f":"IF(input4!G24<>0,input4!G24,\"\")","v":""},{"$f":"IF(input4!H24<>0,input4!H24,\"\")","v":""},{"$f":"IF(input4!I24<>0,input4!I24,\"\")","v":""},{"$f":"IF(input4!J24<>0,input4!J24,\"\")","v":""},{"$f":"IF(input4!K24<>0,input4!K24,\"\")","v":""},{"$f":"IF(input4!L24<>0,input4!L24,\"\")","v":""},{"$f":"IF(input4!M24<>0,input4!M24,\"\")","v":""},{"$f":"IF(input4!N24<>0,input4!N24,\"\")","v":""},{"$f":"IF(input4!O24<>0,input4!O24,\"\")","v":""},{"$f":"SUM(B31:L31)","v":0},{"$f":"M31/$M33*100","v":{"$error":"#VALUE!"}}]
[1,{"$f":"IF(input4!E25<>0,input4!E25,\"\")","v":""},{"$f":"IF(input4!F25<>0,input4!F25,\"\")","v":""},{"$f":"IF(input4!G25<>0,input4!G25,\"\")","v":""},{"$f":"IF(input4!H25<>0,input4!H25,\"\")","v":""},{"$f":"IF(input4!I25<>0,input4!I25,\"\")","v":""},{"$f":"IF(input4!J25<>0,input4!J25,\"\")","v":""},{"$f":"IF(input4!K25<>0,input4!K25,\"\")","v":""},{"$f":"IF(input4!L25<>0,input4!L25,\"\")","v":""},{"$f":"IF(input4!M25<>0,input4!M25,\"\")","v":""},{"$f":"IF(input4!N25<>0,input4!N25,\"\")","v":""},{"$f":"IF(input4!O25<>0,input4!O25,\"\")","v":""},{"$f":"SUM(B32:L32)","v":0},{"$f":"M32/$M33*100","v":{"$error":"#VALUE!"}}]
["รวม",{"$f":"IF(SUM(B30:B32) <>0,SUM(B30:B32),\"\")","v":""},{"$f":"IF(SUM(C30:C32) <>0,SUM(C30:C32),\"\")","v":""},"","","","","","","","","",{"$f":"IF(SUM(M30:M32) <>0,SUM(M30:M32),\"\")","v":""},{"$f":"SUM(N30:N32)","v":{"$error":"#VALUE!"}}]

{"sheet":"Report5","index":16,"n_rows":33,"n_cols":14,"rows_kept":33,"cut":false,"hidden":false,"merged":[[0,0,0,13],[1,0,1,13],[2,0,2,13],[20,0,20,13],[27,0,27,13]]}
[{"$f":"\"สรุปผลการเรียนรายวิชา  \"&input5!C5&\"  รหัสวิชา  \" &input5!C6","v":"สรุปผลการเรียนรายวิชา    รหัสวิชา  "}]
[{"$f":"\"ชั้นมัธยมศึกษาปีที่  \"&input5!C4&  \"   ภาคเรียนที่ \"&input5!C7&\"   ปีการศึกษา  \"&input5!C8","v":"ชั้นมัธยมศึกษาปีที่     ภาคเรียนที่    ปีการศึกษา  "}]
[{"$f":"\"ครูผู้สอน  \"&input5!C3","v":"ครูผู้สอน  "}]
["เกรด","ห้อง 1","ห้อง 2","ห้อง 3","ห้อง 4","ห้อง 5","ห้อง 6","ห้อง 7","ห้อง 8","ห้อง 9","ห้อง 10","ห้อง 11","รวม","ร้อยละ"]
["ลงทะเบียน",{"$f":"IF((SUM(B6:B13))<>0,(SUM(B6:B13)),\"\")","v":""},"","","","","","","","","","",{"$f":"SUM(M6:M13)+M15+M16","v":0},{"$f":"SUM(N6:N13)+N15+N16","v":{"$error":"#DIV/0!"}}]
[4,{"$f":"input5!E5","v":0},{"$f":"input5!F5","v":0},{"$f":"input5!G5","v":0},{"$f":"input5!H5","v":0},{"$f":"input5!I5","v":0},{"$f":"input5!J5","v":0},{"$f":"input5!K5","v":0},{"$f":"input5!L5","v":0},{"$f":"input5!M5","v":0},{"$f":"input5!N5","v":0},{"$f":"input5!O5","v":0},{"$f":"SUM(B6:L6)","v":0},{"$f":"M6/$M5*100","v":{"$error":"#DIV/0!"}}]
[3.5,{"$f":"input5!E6","v":0},{"$f":"input5!F6","v":0},{"$f":"input5!G6","v":0},{"$f":"input5!H6","v":0},{"$f":"input5!I6","v":0},{"$f":"input5!J6","v":0},{"$f":"input5!K6","v":0},{"$f":"input5!L6","v":0},{"$f":"input5!M6","v":0},{"$f":"input5!N6","v":0},{"$f":"input5!O6","v":0},{"$f":"SUM(B7:L7)","v":0},{"$f":"M7/$M5*100","v":{"$error":"#DIV/0!"}}]
[3,{"$f":"input5!E7","v":0},{"$f":"input5!F7","v":0},{"$f":"input5!G7","v":0},{"$f":"input5!H7","v":0},{"$f":"input5!I7","v":0},{"$f":"input5!J7","v":0},{"$f":"input5!K7","v":0},{"$f":"input5!L7","v":0},{"$f":"input5!M7","v":0},{"$f":"input5!N7","v":0},{"$f":"input5!O7","v":0},0,{"$f":"M8/$M5*100","v":{"$error":"#DIV/0!"}}]
[2.5,{"$f":"input5!E8","v":0},{"$f":"input5!F8","v":0},{"$f":"input5!G8","v":0},{"$f":"input5!H8","v":0},{"$f":"input5!I8","v":0},{"$f":"input5!J8","v":0},{"$f":"input5!K8","v":0},{"$f":"input5!L8","v":0},{"$f":"input5!M8","v":0},{"$f":"input5!N8","v":0},{"$f":"input5!O8","v":0},0,{"$f":"M9/$M5*100","v":{"$error":"#DIV/0!"}}]
[2,{"$f":"input5!E9","v":0},{"$f":"input5!F9","v":0},{"$f":"input5!G9","v":0},{"$f":"input5!H9","v":0},{"$f":"input5!I9","v":0},{"$f":"input5!J9","v":0},{"$f":"input5!K9","v":0},{"$f":"input5!L9","v":0},{"$f":"input5!M9","v":0},{"$f":"input5!N9","v":0},{"$f":"input5!O9","v":0},0,{"$f":"M10/$M5*100","v":{"$error":"#DIV/0!"}}]
[1.5,{"$f":"input5!E10","v":0},{"$f":"input5!F10","v":0},{"$f":"input5!G10","v":0},{"$f":"input5!H10","v":0},{"$f":"input5!I10","v":0},{"$f":"input5!J10","v":0},{"$f":"input5!K10","v":0},{"$f":"input5!L10","v":0},{"$f":"input5!M10","v":0},{"$f":"input5!N10","v":0},{"$f":"input5!O10","v":0},0,{"$f":"M11/$M5*100","v":{"$error":"#DIV/0!"}}]
[1,{"$f":"input5!E11","v":0},{"$f":"input5!F11","v":0},{"$f":"input5!G11","v":0},{"$f":"input5!H11","v":0},{"$f":"input5!I11","v":0},{"$f":"input5!J11","v":0},{"$f":"input5!K11","v":0},{"$f":"input5!L11","v":0},{"$f":"input5!M11","v":0},{"$f":"input5!N11","v":0},{"$f":"input5!O11","v":0},0,{"$f":"M12/$M5*100","v":{"$error":"#DIV/0!"}}]
[0,{"$f":"input5!E12","v":0},{"$f":"input5!F12","v":0},{"$f":"input5!G12","v":0},{"$f":"input5!H12","v":0},{"$f":"input5!I12","v":0},{"$f":"input5!J12","v":0},{"$f":"input5!K12","v":0},{"$f":"input5!L12","v":0},{"$f":"input5!M12","v":0},{"$f":"input5!N12","v":0},{"$f":"input5!O12","v":0},0,{"$f":"M13/$M5*100","v":{"$error":"#DIV/0!"}}]
["ตัดสิน",{"$f":"IF((SUM(B6:B13))<>0,(SUM(B6:B13)),\"\")","v":""},"","","","","","","","","","","",{"$f":"SUM(N6:N13)+N15+N16","v":{"$error":"#DIV/0!"}}]
["ร",{"$f":"input5!E13","v":0},{"$f":"input5!F13","v":0},{"$f":"input5!G13","v":0},{"$f":"input5!H13","v":0},{"$f":"input5!I13","v":0},{"$f":"input5!J13","v":0},{"$f":"input5!K13","v":0},{"$f":"input5!L13","v":0},{"$f":"input5!M13","v":0},{"$f":"input5!N13","v":0},{"$f":"input5!O13","v":0},{"$f":"SUM(B15:L15)","v":0},{"$f":"M15/$M5*100","v":{"$error":"#DIV/0!"}}]
["มส",{"$f":"input5!E14","v":0},{"$f":"input5!F14","v":0},{"$f":"input5!G14","v":0},{"$f":"input5!H14","v":0},{"$f":"input5!I14","v":0},{"$f":"input5!J14","v":0},{"$f":"input5!K14","v":0},{"$f":"input5!L14","v":0},{"$f":"input5!M14","v":0},{"$f":"input5!N14","v":0},{"$f":"input5!O14","v":0},0,{"$f":"M16/$M5*100","v":{"$error":"#DIV/0!"}}]
["ค่าเฉลี่ย",{"$f":"IFERROR(((4*B6)+(3.5*B7)+(3*B8)+(2.5*B9)+(2*B10)+(B11*1.5)+(1*B12))/B14,\"\")","v":""},"","","","","","","","","","","","ร้อยละ"]
["S.D.",{"$f":"IFERROR(SQRT((($A$6^2*B6+$A$7^2*B7+$A$8^2*B8+$A$9^2*B9+$A$10^2*B10+$A$11^2*B11+B12)/B14)-B17^2),\"\")","v":""},"","","","","","","","","","","","ค่าเป้าหมาย"]
["C.V.",{"$f":"IFERROR(B18/B17,\"\")","v":""},{"$f":"IFERROR(C18/C17,\"\")","v":""},"","","","","","","","","","",{"$f":"SUM(M6:M10)*100/M5","v":{"$error":"#DIV/0!"}}]
[]
["สรุปการประเมินคุณลักษณะ"]
["ผลประเมิน","ห้อง 1","ห้อง 2","ห้อง 3","ห้อง 4","ห้อง 5","ห้อง 6","ห้อง 7","ห้อง 8","ห้อง 9","ห้อง 10","ห้อง 11","รวม","ร้อยละ"]
[3,{"$f":"IF(input5!E17<>0,input5!E17,\"\")","v":""},{"$f":"IF(input5!F17<>0,input5!F17,\"\")","v":""},{"$f":"IF(input5!G17<>0,input5!G17,\"\")","v":""},{"$f":"IF(input5!H17<>0,input5!H17,\"\")","v":""},{"$f":"IF(input5!I17<>0,input5!I17,\"\")","v":""},{"$f":"IF(input5!J17<>0,input5!J17,\"\")","v":""},{"$f":"IF(input5!K17<>0,input5!K17,\"\")","v":""},{"$f":"IF(input5!L17<>0,input5!L17,\"\")","v":""},{"$f":"IF(input5!M17<>0,input5!M17,\"\")","v":""},{"$f":"IF(input5!N17<>0,input5!N17,\"\")","v":""},{"$f":"IF(input5!O17<>0,input5!O17,\"\")","v":""},{"$f":"SUM(B23:L23)","v":0},{"$f":"M23/$M26*100","v":{"$error":"#VALUE!"}}]
[2,{"$f":"IF(input5!E18<>0,input5!E18,\"\")","v":""},{"$f":"IF(input5!F18<>0,input5!F18,\"\")","v":""},{"$f":"IF(input5!G18<>0,input5!G18,\"\")","v":""},{"$f":"IF(input5!H18<>0,input5!H18,\"\")","v":""},{"$f":"IF(input5!I18<>0,input5!I18,\"\")","v":""},{"$f":"IF(input5!J18<>0,input5!J18,\"\")","v":""},{"$f":"IF(input5!K18<>0,input5!K18,\"\")","v":""},{"$f":"IF(input5!L18<>0,input5!L18,\"\")","v":""},{"$f":"IF(input5!M18<>0,input5!M18,\"\")","v":""},{"$f":"IF(input5!N18<>0,input5!N18,\"\")","v":""},{"$f":"IF(input5!O18<>0,input5!O18,\"\")","v":""},{"$f":"SUM(B24:L24)","v":0},{"$f":"M24/$M26*100","v":{"$error":"#VALUE!"}}]
[1,{"$f":"IF(input5!E19<>0,input5!E19,\"\")","v":""},{"$f":"IF(input5!F19<>0,input5!F19,\"\")","v":""},{"$f":"IF(input5!G19<>0,input5!G19,\"\")","v":""},{"$f":"IF(input5!H19<>0,input5!H19,\"\")","v":""},{"$f":"IF(input5!I19<>0,input5!I19,\"\")","v":""},{"$f":"IF(input5!J19<>0,input5!J19,\"\")","v":""},{"$f":"IF(input5!K19<>0,input5!K19,\"\")","v":""},{"$f":"IF(input5!L19<>0,input5!L19,\"\")","v":""},{"$f":"IF(input5!M19<>0,input5!M19,\"\")","v":""},{"$f":"IF(input5!N19<>0,input5!N19,\"\")","v":""},{"$f":"IF(input5!O19<>0,input5!O19,\"\")","v":""},{"$f":"SUM(B25:L25)","v":0},{"$f":"M25/$M26*100","v":{"$error":"#VALUE!"}}]
["รวม",{"$f":"IF(SUM(B23:B25) <>0,SUM(B23:B25),\"\")","v":""},{"$f":"IF(SUM(C23:C25) <>0,SUM(C23:C25),\"\")","v":""},"","","","","","","","","",{"$f":"IF(SUM(M23:M25) <>0,SUM(M23:M25),\"\")","v":""},{"$f":"SUM(N23:N25)","v":{"$error":"#VALUE!"}}]
[]
["สรุปการประเมินการอ่าน คิด วิเคราะห์"]
["ผลประเมิน","ห้อง 1","ห้อง 2","ห้อง 3","ห้อง 4","ห้อง 5","ห้อง 6","ห้อง 7","ห้อง 8","ห้อง 9","ห้อง 10","ห้อง 11","รวม","ร้อยละ"]
[3,{"$f":"IF(input5!E23<>0,input5!E23,\"\")","v":""},{"$f":"IF(input5!F23<>0,input5!F23,\"\")","v":""},{"$f":"IF(input5!G23<>0,input5!G23,\"\")","v":""},{"$f":"IF(input5!H23<>0,input5!H23,\"\")","v":""},{"$f":"IF(input5!I23<>0,input5!I23,\"\")","v":""},{"$f":"IF(input5!J23<>0,input5!J23,\"\")","v":""},{"$f":"IF(input5!K23<>0,input5!K23,\"\")","v":""},{"$f":"IF(input5!L23<>0,input5!L23,\"\")","v":""},{"$f":"IF(input5!M23<>0,input5!M23,\"\")","v":""},{"$f":"IF(input5!N23<>0,input5!N23,\"\")","v":""},{"$f":"IF(input5!O23<>0,input5!O23,\"\")","v":""},{"$f":"SUM(B30:L30)","v":0},{"$f":"M30/$M33*100","v":{"$error":"#VALUE!"}}]
[2,{"$f":"IF(input5!E24<>0,input5!E24,\"\")","v":""},{"$f":"IF(input5!F24<>0,input5!F24,\"\")","v":""},{"$f":"IF(input5!G24<>0,input5!G24,\"\")","v":""},{"$f":"IF(input5!H24<>0,input5!H24,\"\")","v":""},{"$f":"IF(input5!I24<>0,input5!I24,\"\")","v":""},{"$f":"IF(input5!J24<>0,input5!J24,\"\")","v":""},{"$f":"IF(input5!K24<>0,input5!K24,\"\")","v":""},{"$f":"IF(input5!L24<>0,input5!L24,\"\")","v":""},{"$f":"IF(input5!M24<>0,input5!M24,\"\")","v":""},{"$f":"IF(input5!N24<>0,input5!N24,\"\")","v":""},{"$f":"IF(input5!O24<>0,input5!O24,\"\")","v":""},{"$f":"SUM(B31:L31)","v":0},{"$f":"M31/$M33*100","v":{"$error":"#VALUE!"}}]
[1,{"$f":"IF(input5!E25<>0,input5!E25,\"\")","v":""},{"$f":"IF(input5!F25<>0,input5!F25,\"\")","v":""},{"$f":"IF(input5!G25<>0,input5!G25,\"\")","v":""},{"$f":"IF(input5!H25<>0,input5!H25,\"\")","v":""},{"$f":"IF(input5!I25<>0,input5!I25,\"\")","v":""},{"$f":"IF(input5!J25<>0,input5!J25,\"\")","v":""},{"$f":"IF(input5!K25<>0,input5!K25,\"\")","v":""},{"$f":"IF(input5!L25<>0,input5!L25,\"\")","v":""},{"$f":"IF(input5!M25<>0,input5!M25,\"\")","v":""},{"$f":"IF(input5!N25<>0,input5!N25,\"\")","v":""},{"$f":"IF(input5!O25<>0,input5!O25,\"\")","v":""},{"$f":"SUM(B32:L32)","v":0},{"$f":"M32/$M33*100","v":{"$error":"#VALUE!"}}]
["รวม",{"$f":"IF(SUM(B30:B32) <>0,SUM(B30:B32),\"\")","v":""},{"$f":"IF(SUM(C30:C32) <>0,SUM(C30:C32),\"\")","v":""},"","","","","","","","","",{"$f":"IF(SUM(M30:M32) <>0,SUM(M30:M32),\"\")","v":""},{"$f":"SUM(N30:N32)","v":{"$error":"#VALUE!"}}]

{"sheet":"Report6","index":17,"n_rows":33,"n_cols":14,"rows_kept":33,"cut":false,"hidden":false,"merged":[[0,0,0,13],[1,0,1,13],[2,0,2,13],[20,0,20,13],[27,0,27,13]]}
[{"$f":"\"สรุปผลการเรียนรายวิชา  \"&input6!C5&\"  รหัสวิชา  \" &input6!C6","v":"สรุปผลการเรียนรายวิชา    รหัสวิชา  "}]
[{"$f":"\"ชั้นมัธยมศึกษาปีที่  \"&input6!C4&  \"   ภาคเรียนที่ \"&input6!C7&\"   ปีการศึกษา  \"&input6!C8","v":"ชั้นมัธยมศึกษาปีที่     ภาคเรียนที่    ปีการศึกษา  "}]
[{"$f":"\"ครูผู้สอน  \"&input6!C3","v":"ครูผู้สอน  "}]
["เกรด","ห้อง 1","ห้อง 2","ห้อง 3","ห้อง 4","ห้อง 5","ห้อง 6","ห้อง 7","ห้อง 8","ห้อง 9","ห้อง 10","ห้อง 11","รวม","ร้อยละ"]
["ลงทะเบียน",{"$f":"IF((SUM(B6:B13))<>0,(SUM(B6:B13)),\"\")","v":""},"","","","","","","","","","",{"$f":"SUM(M6:M13)+M15+M16","v":0},{"$f":"SUM(N6:N13)+N15+N16","v":{"$error":"#DIV/0!"}}]
[4,{"$f":"input6!E5","v":0},{"$f":"input6!F5","v":0},{"$f":"input6!G5","v":0},{"$f":"input6!H5","v":0},{"$f":"input6!I5","v":0},{"$f":"input6!J5","v":0},{"$f":"input6!K5","v":0},{"$f":"input6!L5","v":0},{"$f":"input6!M5","v":0},{"$f":"input6!N5","v":0},{"$f":"input6!O5","v":0},{"$f":"SUM(B6:L6)","v":0},{"$f":"M6/$M5*100","v":{"$error":"#DIV/0!"}}]
[3.5,{"$f":"input6!E6","v":0},{"$f":"input6!F6","v":0},{"$f":"input6!G6","v":0},{"$f":"input6!H6","v":0},{"$f":"input6!I6","v":0},{"$f":"input6!J6","v":0},{"$f":"input6!K6","v":0},{"$f":"input6!L6","v":0},{"$f":"input6!M6","v":0},{"$f":"input6!N6","v":0},{"$f":"input6!O6","v":0},{"$f":"SUM(B7:L7)","v":0},{"$f":"M7/$M5*100","v":{"$error":"#DIV/0!"}}]
[3,{"$f":"input6!E7","v":0},{"$f":"input6!F7","v":0},{"$f":"input6!G7","v":0},{"$f":"input6!H7","v":0},{"$f":"input6!I7","v":0},{"$f":"input6!J7","v":0},{"$f":"input6!K7","v":0},{"$f":"input6!L7","v":0},{"$f":"input6!M7","v":0},{"$f":"input6!N7","v":0},{"$f":"input6!O7","v":0},0,{"$f":"M8/$M5*100","v":{"$error":"#DIV/0!"}}]
[2.5,{"$f":"input6!E8","v":0},{"$f":"input6!F8","v":0},{"$f":"input6!G8","v":0},{"$f":"input6!H8","v":0},{"$f":"input6!I8","v":0},{"$f":"input6!J8","v":0},{"$f":"input6!K8","v":0},{"$f":"input6!L8","v":0},{"$f":"input6!M8","v":0},{"$f":"input6!N8","v":0},{"$f":"input6!O8","v":0},0,{"$f":"M9/$M5*100","v":{"$error":"#DIV/0!"}}]
[2,{"$f":"input6!E9","v":0},{"$f":"input6!F9","v":0},{"$f":"input6!G9","v":0},{"$f":"input6!H9","v":0},{"$f":"input6!I9","v":0},{"$f":"input6!J9","v":0},{"$f":"input6!K9","v":0},{"$f":"input6!L9","v":0},{"$f":"input6!M9","v":0},{"$f":"input6!N9","v":0},{"$f":"input6!O9","v":0},0,{"$f":"M10/$M5*100","v":{"$error":"#DIV/0!"}}]
[1.5,{"$f":"input6!E10","v":0},{"$f":"input6!F10","v":0},{"$f":"input6!G10","v":0},{"$f":"input6!H10","v":0},{"$f":"input6!I10","v":0},{"$f":"input6!J10","v":0},{"$f":"input6!K10","v":0},{"$f":"input6!L10","v":0},{"$f":"input6!M10","v":0},{"$f":"input6!N10","v":0},{"$f":"input6!O10","v":0},0,{"$f":"M11/$M5*100","v":{"$error":"#DIV/0!"}}]
[1,{"$f":"input6!E11","v":0},{"$f":"input6!F11","v":0},{"$f":"input6!G11","v":0},{"$f":"input6!H11","v":0},{"$f":"input6!I11","v":0},{"$f":"input6!J11","v":0},{"$f":"input6!K11","v":0},{"$f":"input6!L11","v":0},{"$f":"input6!M11","v":0},{"$f":"input6!N11","v":0},{"$f":"input6!O11","v":0},0,{"$f":"M12/$M5*100","v":{"$error":"#DIV/0!"}}]
[0,{"$f":"input6!E12","v":0},{"$f":"input6!F12","v":0},{"$f":"input6!G12","v":0},{"$f":"input6!H12","v":0},{"$f":"input6!I12","v":0},{"$f":"input6!J12","v":0},{"$f":"input6!K12","v":0},{"$f":"input6!L12","v":0},{"$f":"input6!M12","v":0},{"$f":"input6!N12","v":0},{"$f":"input6!O12","v":0},0,{"$f":"M13/$M5*100","v":{"$error":"#DIV/0!"}}]
["ตัดสิน",{"$f":"IF((SUM(B6:B13))<>0,(SUM(B6:B13)),\"\")","v":""},"","","","","","","","","","","",{"$f":"SUM(N6:N13)+N15+N16","v":{"$error":"#DIV/0!"}}]
["ร",{"$f":"input6!E13","v":0},{"$f":"input6!F13","v":0},{"$f":"input6!G13","v":0},{"$f":"input6!H13","v":0},{"$f":"input6!I13","v":0},{"$f":"input6!J13","v":0},{"$f":"input6!K13","v":0},{"$f":"input6!L13","v":0},{"$f":"input6!M13","v":0},{"$f":"input6!N13","v":0},{"$f":"input6!O13","v":0},{"$f":"SUM(B15:L15)","v":0},{"$f":"M15/$M5*100","v":{"$error":"#DIV/0!"}}]
["มส",{"$f":"input6!E14","v":0},{"$f":"input6!F14","v":0},{"$f":"input6!G14","v":0},{"$f":"input6!H14","v":0},{"$f":"input6!I14","v":0},{"$f":"input6!J14","v":0},{"$f":"input6!K14","v":0},{"$f":"input6!L14","v":0},{"$f":"input6!M14","v":0},{"$f":"input6!N14","v":0},{"$f":"input6!O14","v":0},0,{"$f":"M16/$M5*100","v":{"$error":"#DIV/0!"}}]
["ค่าเฉลี่ย",{"$f":"IFERROR(((4*B6)+(3.5*B7)+(3*B8)+(2.5*B9)+(2*B10)+(B11*1.5)+(1*B12))/B14,\"\")","v":""},"","","","","","","","","","","","ร้อยละ"]
["S.D.",{"$f":"IFERROR(SQRT((($A$6^2*B6+$A$7^2*B7+$A$8^2*B8+$A$9^2*B9+$A$10^2*B10+$A$11^2*B11+B12)/B14)-B17^2),\"\")","v":""},"","","","","","","","","","","","ค่าเป้าหมาย"]
["C.V.",{"$f":"IFERROR(B18/B17,\"\")","v":""},{"$f":"IFERROR(C18/C17,\"\")","v":""},"","","","","","","","","","",{"$f":"SUM(M6:M10)*100/M5","v":{"$error":"#DIV/0!"}}]
[]
["สรุปการประเมินคุณลักษณะ"]
["ผลประเมิน","ห้อง 1","ห้อง 2","ห้อง 3","ห้อง 4","ห้อง 5","ห้อง 6","ห้อง 7","ห้อง 8","ห้อง 9","ห้อง 10","ห้อง 11","รวม","ร้อยละ"]
[3,{"$f":"IF(input6!E17<>0,input6!E17,\"\")","v":""},{"$f":"IF(input6!F17<>0,input6!F17,\"\")","v":""},{"$f":"IF(input6!G17<>0,input6!G17,\"\")","v":""},{"$f":"IF(input6!H17<>0,input6!H17,\"\")","v":""},{"$f":"IF(input6!I17<>0,input6!I17,\"\")","v":""},{"$f":"IF(input6!J17<>0,input6!J17,\"\")","v":""},{"$f":"IF(input6!K17<>0,input6!K17,\"\")","v":""},{"$f":"IF(input6!L17<>0,input6!L17,\"\")","v":""},{"$f":"IF(input6!M17<>0,input6!M17,\"\")","v":""},{"$f":"IF(input6!N17<>0,input6!N17,\"\")","v":""},{"$f":"IF(input6!O17<>0,input6!O17,\"\")","v":""},{"$f":"SUM(B23:L23)","v":0},{"$f":"M23/$M26*100","v":{"$error":"#VALUE!"}}]
[2,{"$f":"IF(input6!E18<>0,input6!E18,\"\")","v":""},{"$f":"IF(input6!F18<>0,input6!F18,\"\")","v":""},{"$f":"IF(input6!G18<>0,input6!G18,\"\")","v":""},{"$f":"IF(input6!H18<>0,input6!H18,\"\")","v":""},{"$f":"IF(input6!I18<>0,input6!I18,\"\")","v":""},{"$f":"IF(input6!J18<>0,input6!J18,\"\")","v":""},{"$f":"IF(input6!K18<>0,input6!K18,\"\")","v":""},{"$f":"IF(input6!L18<>0,input6!L18,\"\")","v":""},{"$f":"IF(input6!M18<>0,input6!M18,\"\")","v":""},{"$f":"IF(input6!N18<>0,input6!N18,\"\")","v":""},{"$f":"IF(input6!O18<>0,input6!O18,\"\")","v":""},{"$f":"SUM(B24:L24)","v":0},{"$f":"M24/$M26*100","v":{"$error":"#VALUE!"}}]
[1,{"$f":"IF(input6!E19<>0,input6!E19,\"\")","v":""},{"$f":"IF(input6!F19<>0,input6!F19,\"\")","v":""},{"$f":"IF(input6!G19<>0,input6!G19,\"\")","v":""},{"$f":"IF(input6!H19<>0,input6!H19,\"\")","v":""},{"$f":"IF(input6!I19<>0,input6!I19,\"\")","v":""},{"$f":"IF(input6!J19<>0,input6!J19,\"\")","v":""},{"$f":"IF(input6!K19<>0,input6!K19,\"\")","v":""},{"$f":"IF(input6!L19<>0,input6!L19,\"\")","v":""},{"$f":"IF(input6!M19<>0,input6!M19,\"\")","v":""},{"$f":"IF(input6!N19<>0,input6!N19,\"\")","v":""},{"$f":"IF(input6!O19<>0,input6!O19,\"\")","v":""},{"$f":"SUM(B25:L25)","v":0},{"$f":"M25/$M26*100","v":{"$error":"#VALUE!"}}]
["รวม",{"$f":"IF(SUM(B23:B25) <>0,SUM(B23:B25),\"\")","v":""},{"$f":"IF(SUM(C23:C25) <>0,SUM(C23:C25),\"\")","v":""},"","","","","","","","","",{"$f":"IF(SUM(M23:M25) <>0,SUM(M23:M25),\"\")","v":""},{"$f":"SUM(N23:N25)","v":{"$error":"#VALUE!"}}]
[]
["สรุปการประเมินการอ่าน คิด วิเคราะห์"]
["ผลประเมิน","ห้อง 1","ห้อง 2","ห้อง 3","ห้อง 4","ห้อง 5","ห้อง 6","ห้อง 7","ห้อง 8","ห้อง 9","ห้อง 10","ห้อง 11","รวม","ร้อยละ"]
[3,{"$f":"IF(input6!E23<>0,input6!E23,\"\")","v":""},{"$f":"IF(input6!F23<>0,input6!F23,\"\")","v":""},{"$f":"IF(input6!G23<>0,input6!G23,\"\")","v":""},{"$f":"IF(input6!H23<>0,input6!H23,\"\")","v":""},{"$f":"IF(input6!I23<>0,input6!I23,\"\")","v":""},{"$f":"IF(input6!J23<>0,input6!J23,\"\")","v":""},{"$f":"IF(input6!K23<>0,input6!K23,\"\")","v":""},{"$f":"IF(input6!L23<>0,input6!L23,\"\")","v":""},{"$f":"IF(input6!M23<>0,input6!M23,\"\")","v":""},{"$f":"IF(input6!N23<>0,input6!N23,\"\")","v":""},{"$f":"IF(input6!O23<>0,input6!O23,\"\")","v":""},{"$f":"SUM(B30:L30)","v":0},{"$f":"M30/$M33*100","v":{"$error":"#VALUE!"}}]
[2,{"$f":"IF(input6!E24<>0,input6!E24,\"\")","v":""},{"$f":"IF(input6!F24<>0,input6!F24,\"\")","v":""},{"$f":"IF(input6!G24<>0,input6!G24,\"\")","v":""},{"$f":"IF(input6!H24<>0,input6!H24,\"\")","v":""},{"$f":"IF(input6!I24<>0,input6!I24,\"\")","v":""},{"$f":"IF(input6!J24<>0,input6!J24,\"\")","v":""},{"$f":"IF(input6!K24<>0,input6!K24,\"\")","v":""},{"$f":"IF(input6!L24<>0,input6!L24,\"\")","v":""},{"$f":"IF(input6!M24<>0,input6!M24,\"\")","v":""},{"$f":"IF(input6!N24<>0,input6!N24,\"\")","v":""},{"$f":"IF(input6!O24<>0,input6!O24,\"\")","v":""},{"$f":"SUM(B31:L31)","v":0},{"$f":"M31/$M33*100","v":{"$error":"#VALUE!"}}]
[1,{"$f":"IF(input6!E25<>0,input6!E25,\"\")","v":""},{"$f":"IF(input6!F25<>0,input6!F25,\"\")","v":""},{"$f":"IF(input6!G25<>0,input6!G25,\"\")","v":""},{"$f":"IF(input6!H25<>0,input6!H25,\"\")","v":""},{"$f":"IF(input6!I25<>0,input6!I25,\"\")","v":""},{"$f":"IF(input6!J25<>0,input6!J25,\"\")","v":""},{"$f":"IF(input6!K25<>0,input6!K25,\"\")","v":""},{"$f":"IF(input6!L25<>0,input6!L25,\"\")","v":""},{"$f":"IF(input6!M25<>0,input6!M25,\"\")","v":""},{"$f":"IF(input6!N25<>0,input6!N25,\"\")","v":""},{"$f":"IF(input6!O25<>0,input6!O25,\"\")","v":""},{"$f":"SUM(B32:L32)","v":0},{"$f":"M32/$M33*100","v":{"$error":"#VALUE!"}}]
["รวม",{"$f":"IF(SUM(B30:B32) <>0,SUM(B30:B32),\"\")","v":""},{"$f":"IF(SUM(C30:C32) <>0,SUM(C30:C32),\"\")","v":""},"","","","","","","","","",{"$f":"IF(SUM(M30:M32) <>0,SUM(M30:M32),\"\")","v":""},{"$f":"SUM(N30:N32)","v":{"$error":"#VALUE!"}}]

{"sheet":"Report7","index":18,"n_rows":33,"n_cols":14,"rows_kept":33,"cut":false,"hidden":false,"merged":[[0,0,0,13],[1,0,1,13],[2,0,2,13],[20,0,20,13],[27,0,27,13]]}
[{"$f":"\"สรุปผลการเรียนรายวิชา  \"&input7!C5&\"  รหัสวิชา  \" &input7!C6","v":"สรุปผลการเรียนรายวิชา    รหัสวิชา  "}]
[{"$f":"\"ชั้นมัธยมศึกษาปีที่  \"&input7!C4&  \"   ภาคเรียนที่ \"&input7!C7&\"   ปีการศึกษา  \"&input7!C8","v":"ชั้นมัธยมศึกษาปีที่     ภาคเรียนที่    ปีการศึกษา  "}]
[{"$f":"\"ครูผู้สอน  \"&input7!C3","v":"ครูผู้สอน  "}]
["เกรด","ห้อง 1","ห้อง 2","ห้อง 3","ห้อง 4","ห้อง 5","ห้อง 6","ห้อง 7","ห้อง 8","ห้อง 9","ห้อง 10","ห้อง 11","รวม","ร้อยละ"]
["ลงทะเบียน",{"$f":"IF((SUM(B6:B13))<>0,(SUM(B6:B13)),\"\")","v":""},"","","","","","","","","","",{"$f":"SUM(M6:M13)+M15+M16","v":0},{"$f":"SUM(N6:N13)+N15+N16","v":{"$error":"#DIV/0!"}}]
[4,{"$f":"input7!E5","v":0},{"$f":"input7!F5","v":0},{"$f":"input7!G5","v":0},{"$f":"input7!H5","v":0},{"$f":"input7!I5","v":0},{"$f":"input7!J5","v":0},{"$f":"input7!K5","v":0},{"$f":"input7!L5","v":0},{"$f":"input7!M5","v":0},{"$f":"input7!N5","v":0},{"$f":"input7!O5","v":0},{"$f":"SUM(B6:L6)","v":0},{"$f":"M6/$M5*100","v":{"$error":"#DIV/0!"}}]
[3.5,{"$f":"input7!E6","v":0},{"$f":"input7!F6","v":0},{"$f":"input7!G6","v":0},{"$f":"input7!H6","v":0},{"$f":"input7!I6","v":0},{"$f":"input7!J6","v":0},{"$f":"input7!K6","v":0},{"$f":"input7!L6","v":0},{"$f":"input7!M6","v":0},{"$f":"input7!N6","v":0},{"$f":"input7!O6","v":0},{"$f":"SUM(B7:L7)","v":0},{"$f":"M7/$M5*100","v":{"$error":"#DIV/0!"}}]
[3,{"$f":"input7!E7","v":0},{"$f":"input7!F7","v":0},{"$f":"input7!G7","v":0},{"$f":"input7!H7","v":0},{"$f":"input7!I7","v":0},{"$f":"input7!J7","v":0},{"$f":"input7!K7","v":0},{"$f":"input7!L7","v":0},{"$f":"input7!M7","v":0},{"$f":"input7!N7","v":0},{"$f":"input7!O7","v":0},0,{"$f":"M8/$M5*100","v":{"$error":"#DIV/0!"}}]
[2.5,{"$f":"input7!E8","v":0},{"$f":"input7!F8","v":0},{"$f":"input7!G8","v":0},{"$f":"input7!H8","v":0},{"$f":"input7!I8","v":0},{"$f":"input7!J8","v":0},{"$f":"input7!K8","v":0},{"$f":"input7!L8","v":0},{"$f":"input7!M8","v":0},{"$f":"input7!N8","v":0},{"$f":"input7!O8","v":0},0,{"$f":"M9/$M5*100","v":{"$error":"#DIV/0!"}}]
[2,{"$f":"input7!E9","v":0},{"$f":"input7!F9","v":0},{"$f":"input7!G9","v":0},{"$f":"input7!H9","v":0},{"$f":"input7!I9","v":0},{"$f":"input7!J9","v":0},{"$f":"input7!K9","v":0},{"$f":"input7!L9","v":0},{"$f":"input7!M9","v":0},{"$f":"input7!N9","v":0},{"$f":"input7!O9","v":0},0,{"$f":"M10/$M5*100","v":{"$error":"#DIV/0!"}}]
[1.5,{"$f":"input7!E10","v":0},{"$f":"input7!F10","v":0},{"$f":"input7!G10","v":0},{"$f":"input7!H10","v":0},{"$f":"input7!I10","v":0},{"$f":"input7!J10","v":0},{"$f":"input7!K10","v":0},{"$f":"input7!L10","v":0},{"$f":"input7!M10","v":0},{"$f":"input7!N10","v":0},{"$f":"input7!O10","v":0},0,{"$f":"M11/$M5*100","v":{"$error":"#DIV/0!"}}]
[1,{"$f":"input7!E11","v":0},{"$f":"input7!F11","v":0},{"$f":"input7!G11","v":0},{"$f":"input7!H11","v":0},{"$f":"input7!I11","v":0},{"$f":"input7!J11","v":0},{"$f":"input7!K11","v":0},{"$f":"input7!L11","v":0},{"$f":"input7!M11","v":0},{"$f":"input7!N11","v":0},{"$f":"input7!O11","v":0},0,{"$f":"M12/$M5*100","v":{"$error":"#DIV/0!"}}]
[0,{"$f":"input7!E12","v":0},{"$f":"input7!F12","v":0},{"$f":"input7!G12","v":0},{"$f":"input7!H12","v":0},{"$f":"input7!I12","v":0},{"$f":"input7!J12","v":0},{"$f":"input7!K12","v":0},{"$f":"input7!L12","v":0},{"$f":"input7!M12","v":0},{"$f":"input7!N12","v":0},{"$f":"input7!O12","v":0},0,{"$f":"M13/$M5*100","v":{"$error":"#DIV/0!"}}]
["ตัดสิน",{"$f":"IF((SUM(B6:B13))<>0,(SUM(B6:B13)),\"\")","v":""},"","","","","","","","","","","",{"$f":"SUM(N6:N13)+N15+N16","v":{"$error":"#DIV/0!"}}]
["ร",{"$f":"input7!E13","v":0},{"$f":"input7!F13","v":0},{"$f":"input7!G13","v":0},{"$f":"input7!H13","v":0},{"$f":"input7!I13","v":0},{"$f":"input7!J13","v":0},{"$f":"input7!K13","v":0},{"$f":"input7!L13","v":0},{"$f":"input7!M13","v":0},{"$f":"input7!N13","v":0},{"$f":"input7!O13","v":0},{"$f":"SUM(B15:L15)","v":0},{"$f":"M15/$M5*100","v":{"$error":"#DIV/0!"}}]
["มส",{"$f":"input7!E14","v":0},{"$f":"input7!F14","v":0},{"$f":"input7!G14","v":0},{"$f":"input7!H14","v":0},{"$f":"input7!I14","v":0},{"$f":"input7!J14","v":0},{"$f":"input7!K14","v":0},{"$f":"input7!L14","v":0},{"$f":"input7!M14","v":0},{"$f":"input7!N14","v":0},{"$f":"input7!O14","v":0},0,{"$f":"M16/$M5*100","v":{"$error":"#DIV/0!"}}]
["ค่าเฉลี่ย",{"$f":"IFERROR(((4*B6)+(3.5*B7)+(3*B8)+(2.5*B9)+(2*B10)+(B11*1.5)+(1*B12))/B14,\"\")","v":""},"","","","","","","","","","","","ร้อยละ"]
["S.D.",{"$f":"IFERROR(SQRT((($A$6^2*B6+$A$7^2*B7+$A$8^2*B8+$A$9^2*B9+$A$10^2*B10+$A$11^2*B11+B12)/B14)-B17^2),\"\")","v":""},"","","","","","","","","","","","ค่าเป้าหมาย"]
["C.V.",{"$f":"IFERROR(B18/B17,\"\")","v":""},{"$f":"IFERROR(C18/C17,\"\")","v":""},"","","","","","","","","","",{"$f":"SUM(M6:M10)*100/M5","v":{"$error":"#DIV/0!"}}]
[]
["สรุปการประเมินคุณลักษณะ"]
["ผลประเมิน","ห้อง 1","ห้อง 2","ห้อง 3","ห้อง 4","ห้อง 5","ห้อง 6","ห้อง 7","ห้อง 8","ห้อง 9","ห้อง 10","ห้อง 11","รวม","ร้อยละ"]
[3,{"$f":"IF(input7!E17<>0,input7!E17,\"\")","v":""},{"$f":"IF(input7!F17<>0,input7!F17,\"\")","v":""},{"$f":"IF(input7!G17<>0,input7!G17,\"\")","v":""},{"$f":"IF(input7!H17<>0,input7!H17,\"\")","v":""},{"$f":"IF(input7!I17<>0,input7!I17,\"\")","v":""},{"$f":"IF(input7!J17<>0,input7!J17,\"\")","v":""},{"$f":"IF(input7!K17<>0,input7!K17,\"\")","v":""},{"$f":"IF(input7!L17<>0,input7!L17,\"\")","v":""},{"$f":"IF(input7!M17<>0,input7!M17,\"\")","v":""},{"$f":"IF(input7!N17<>0,input7!N17,\"\")","v":""},{"$f":"IF(input7!O17<>0,input7!O17,\"\")","v":""},{"$f":"SUM(B23:L23)","v":0},{"$f":"M23/$M26*100","v":{"$error":"#VALUE!"}}]
[2,{"$f":"IF(input7!E18<>0,input7!E18,\"\")","v":""},{"$f":"IF(input7!F18<>0,input7!F18,\"\")","v":""},{"$f":"IF(input7!G18<>0,input7!G18,\"\")","v":""},{"$f":"IF(input7!H18<>0,input7!H18,\"\")","v":""},{"$f":"IF(input7!I18<>0,input7!I18,\"\")","v":""},{"$f":"IF(input7!J18<>0,input7!J18,\"\")","v":""},{"$f":"IF(input7!K18<>0,input7!K18,\"\")","v":""},{"$f":"IF(input7!L18<>0,input7!L18,\"\")","v":""},{"$f":"IF(input7!M18<>0,input7!M18,\"\")","v":""},{"$f":"IF(input7!N18<>0,input7!N18,\"\")","v":""},{"$f":"IF(input7!O18<>0,input7!O18,\"\")","v":""},{"$f":"SUM(B24:L24)","v":0},{"$f":"M24/$M26*100","v":{"$error":"#VALUE!"}}]
[1,{"$f":"IF(input7!E19<>0,input7!E19,\"\")","v":""},{"$f":"IF(input7!F19<>0,input7!F19,\"\")","v":""},{"$f":"IF(input7!G19<>0,input7!G19,\"\")","v":""},{"$f":"IF(input7!H19<>0,input7!H19,\"\")","v":""},{"$f":"IF(input7!I19<>0,input7!I19,\"\")","v":""},{"$f":"IF(input7!J19<>0,input7!J19,\"\")","v":""},{"$f":"IF(input7!K19<>0,input7!K19,\"\")","v":""},{"$f":"IF(input7!L19<>0,input7!L19,\"\")","v":""},{"$f":"IF(input7!M19<>0,input7!M19,\"\")","v":""},{"$f":"IF(input7!N19<>0,input7!N19,\"\")","v":""},{"$f":"IF(input7!O19<>0,input7!O19,\"\")","v":""},{"$f":"SUM(B25:L25)","v":0},{"$f":"M25/$M26*100","v":{"$error":"#VALUE!"}}]
["รวม",{"$f":"IF(SUM(B23:B25) <>0,SUM(B23:B25),\"\")","v":""},{"$f":"IF(SUM(C23:C25) <>0,SUM(C23:C25),\"\")","v":""},"","","","","","","","","",{"$f":"IF(SUM(M23:M25) <>0,SUM(M23:M25),\"\")","v":""},{"$f":"SUM(N23:N25)","v":{"$error":"#VALUE!"}}]
[]
["สรุปการประเมินการอ่าน คิด วิเคราะห์"]
["ผลประเมิน","ห้อง 1","ห้อง 2","ห้อง 3","ห้อง 4","ห้อง 5","ห้อง 6","ห้อง 7","ห้อง 8","ห้อง 9","ห้อง 10","ห้อง 11","รวม","ร้อยละ"]
[3,{"$f":"IF(input7!E23<>0,input7!E23,\"\")","v":""},{"$f":"IF(input7!F23<>0,input7!F23,\"\")","v":""},{"$f":"IF(input7!G23<>0,input7!G23,\"\")","v":""},{"$f":"IF(input7!H23<>0,input7!H23,\"\")","v":""},{"$f":"IF(input7!I23<>0,input7!I23,\"\")","v":""},{"$f":"IF(input7!J23<>0,input7!J23,\"\")","v":""},{"$f":"IF(input7!K23<>0,input7!K23,\"\")","v":""},{"$f":"IF(input7!L23<>0,input7!L23,\"\")","v":""},{"$f":"IF(input7!M23<>0,input7!M23,\"\")","v":""},{"$f":"IF(input7!N23<>0,input7!N23,\"\")","v":""},{"$f":"IF(input7!O23<>0,input7!O23,\"\")","v":""},{"$f":"SUM(B30:L30)","v":0},{"$f":"M30/$M33*100","v":{"$error":"#VALUE!"}}]
[2,{"$f":"IF(input7!E24<>0,input7!E24,\"\")","v":""},{"$f":"IF(input7!F24<>0,input7!F24,\"\")","v":""},{"$f":"IF(input7!G24<>0,input7!G24,\"\")","v":""},{"$f":"IF(input7!H24<>0,input7!H24,\"\")","v":""},{"$f":"IF(input7!I24<>0,input7!I24,\"\")","v":""},{"$f":"IF(input7!J24<>0,input7!J24,\"\")","v":""},{"$f":"IF(input7!K24<>0,input7!K24,\"\")","v":""},{"$f":"IF(input7!L24<>0,input7!L24,\"\")","v":""},{"$f":"IF(input7!M24<>0,input7!M24,\"\")","v":""},{"$f":"IF(input7!N24<>0,input7!N24,\"\")","v":""},{"$f":"IF(input7!O24<>0,input7!O24,\"\")","v":""},{"$f":"SUM(B31:L31)","v":0},{"$f":"M31/$M33*100","v":{"$error":"#VALUE!"}}]
[1,{"$f":"IF(input7!E25<>0,input7!E25,\"\")","v":""},{"$f":"IF(input7!F25<>0,input7!F25,\"\")","v":""},{"$f":"IF(input7!G25<>0,input7!G25,\"\")","v":""},{"$f":"IF(input7!H25<>0,input7!H25,\"\")","v":""},{"$f":"IF(input7!I25<>0,input7!I25,\"\")","v":""},{"$f":"IF(input7!J25<>0,input7!J25,\"\")","v":""},{"$f":"IF(input7!K25<>0,input7!K25,\"\")","v":""},{"$f":"IF(input7!L25<>0,input7!L25,\"\")","v":""},{"$f":"IF(input7!M25<>0,input7!M25,\"\")","v":""},{"$f":"IF(input7!N25<>0,input7!N25,\"\")","v":""},{"$f":"IF(input7!O25<>0,input7!O25,\"\")","v":""},{"$f":"SUM(B32:L32)","v":0},{"$f":"M32/$M33*100","v":{"$error":"#VALUE!"}}]
["รวม",{"$f":"IF(SUM(B30:B32) <>0,SUM(B30:B32),\"\")","v":""},{"$f":"IF(SUM(C30:C32) <>0,SUM(C30:C32),\"\")","v":""},"","","","","","","","","",{"$f":"IF(SUM(M30:M32) <>0,SUM(M30:M32),\"\")","v":""},{"$f":"SUM(N30:N32)","v":{"$error":"#VALUE!"}}]

{"sheet":"Report8","index":19,"n_rows":33,"n_cols":14,"rows_kept":33,"cut":false,"hidden":false,"merged":[[0,0,0,13],[1,0,1,13],[2,0,2,13],[20,0,20,13],[27,0,27,13]]}
[{"$f":"\"สรุปผลการเรียนรายวิชา  \"&input8!C5&\"  รหัสวิชา  \" &input8!C6","v":"สรุปผลการเรียนรายวิชา    รหัสวิชา  "}]
[{"$f":"\"ชั้นมัธยมศึกษาปีที่  \"&input8!C4&  \"   ภาคเรียนที่ \"&input8!C7&\"   ปีการศึกษา  \"&input8!C8","v":"ชั้นมัธยมศึกษาปีที่     ภาคเรียนที่    ปีการศึกษา  "}]
[{"$f":"\"ครูผู้สอน  \"&input8!C3","v":"ครูผู้สอน  "}]
["เกรด","ห้อง 1","ห้อง 2","ห้อง 3","ห้อง 4","ห้อง 5","ห้อง 6","ห้อง 7","ห้อง 8","ห้อง 9","ห้อง 10","ห้อง 11","รวม","ร้อยละ"]
["ลงทะเบียน",{"$f":"IF((SUM(B6:B13))<>0,(SUM(B6:B13)),\"\")","v":""},"","","","","","","","","","",{"$f":"SUM(M6:M13)+M15+M16","v":0},{"$f":"SUM(N6:N13)+N15+N16","v":{"$error":"#DIV/0!"}}]
[4,{"$f":"input8!E5","v":0},{"$f":"input8!F5","v":0},{"$f":"input8!G5","v":0},{"$f":"input8!H5","v":0},{"$f":"input8!I5","v":0},{"$f":"input8!J5","v":0},{"$f":"input8!K5","v":0},{"$f":"input8!L5","v":0},{"$f":"input8!M5","v":0},{"$f":"input8!N5","v":0},{"$f":"input8!O5","v":0},{"$f":"SUM(B6:L6)","v":0},{"$f":"M6/$M5*100","v":{"$error":"#DIV/0!"}}]
[3.5,{"$f":"input8!E6","v":0},{"$f":"input8!F6","v":0},{"$f":"input8!G6","v":0},{"$f":"input8!H6","v":0},{"$f":"input8!I6","v":0},{"$f":"input8!J6","v":0},{"$f":"input8!K6","v":0},{"$f":"input8!L6","v":0},{"$f":"input8!M6","v":0},{"$f":"input8!N6","v":0},{"$f":"input8!O6","v":0},{"$f":"SUM(B7:L7)","v":0},{"$f":"M7/$M5*100","v":{"$error":"#DIV/0!"}}]
[3,{"$f":"input8!E7","v":0},{"$f":"input8!F7","v":0},{"$f":"input8!G7","v":0},{"$f":"input8!H7","v":0},{"$f":"input8!I7","v":0},{"$f":"input8!J7","v":0},{"$f":"input8!K7","v":0},{"$f":"input8!L7","v":0},{"$f":"input8!M7","v":0},{"$f":"input8!N7","v":0},{"$f":"input8!O7","v":0},0,{"$f":"M8/$M5*100","v":{"$error":"#DIV/0!"}}]
[2.5,{"$f":"input8!E8","v":0},{"$f":"input8!F8","v":0},{"$f":"input8!G8","v":0},{"$f":"input8!H8","v":0},{"$f":"input8!I8","v":0},{"$f":"input8!J8","v":0},{"$f":"input8!K8","v":0},{"$f":"input8!L8","v":0},{"$f":"input8!M8","v":0},{"$f":"input8!N8","v":0},{"$f":"input8!O8","v":0},0,{"$f":"M9/$M5*100","v":{"$error":"#DIV/0!"}}]
[2,{"$f":"input8!E9","v":0},{"$f":"input8!F9","v":0},{"$f":"input8!G9","v":0},{"$f":"input8!H9","v":0},{"$f":"input8!I9","v":0},{"$f":"input8!J9","v":0},{"$f":"input8!K9","v":0},{"$f":"input8!L9","v":0},{"$f":"input8!M9","v":0},{"$f":"input8!N9","v":0},{"$f":"input8!O9","v":0},0,{"$f":"M10/$M5*100","v":{"$error":"#DIV/0!"}}]
[1.5,{"$f":"input8!E10","v":0},{"$f":"input8!F10","v":0},{"$f":"input8!G10","v":0},{"$f":"input8!H10","v":0},{"$f":"input8!I10","v":0},{"$f":"input8!J10","v":0},{"$f":"input8!K10","v":0},{"$f":"input8!L10","v":0},{"$f":"input8!M10","v":0},{"$f":"input8!N10","v":0},{"$f":"input8!O10","v":0},0,{"$f":"M11/$M5*100","v":{"$error":"#DIV/0!"}}]
[1,{"$f":"input8!E11","v":0},{"$f":"input8!F11","v":0},{"$f":"input8!G11","v":0},{"$f":"input8!H11","v":0},{"$f":"input8!I11","v":0},{"$f":"input8!J11","v":0},{"$f":"input8!K11","v":0},{"$f":"input8!L11","v":0},{"$f":"input8!M11","v":0},{"$f":"input8!N11","v":0},{"$f":"input8!O11","v":0},0,{"$f":"M12/$M5*100","v":{"$error":"#DIV/0!"}}]
[0,{"$f":"input8!E12","v":0},{"$f":"input8!F12","v":0},{"$f":"input8!G12","v":0},{"$f":"input8!H12","v":0},{"$f":"input8!I12","v":0},{"$f":"input8!J12","v":0},{"$f":"input8!K12","v":0},{"$f":"input8!L12","v":0},{"$f":"input8!M12","v":0},{"$f":"input8!N12","v":0},{"$f":"input8!O12","v":0},0,{"$f":"M13/$M5*100","v":{"$error":"#DIV/0!"}}]
["ตัดสิน",{"$f":"IF((SUM(B6:B13))<>0,(SUM(B6:B13)),\"\")","v":""},"","","","","","","","","","","",{"$f":"SUM(N6:N13)+N15+N16","v":{"$error":"#DIV/0!"}}]
["ร",{"$f":"input8!E13","v":0},{"$f":"input8!F13","v":0},{"$f":"input8!G13","v":0},{"$f":"input8!H13","v":0},{"$f":"input8!I13","v":0},{"$f":"input8!J13","v":0},{"$f":"input8!K13","v":0},{"$f":"input8!L13","v":0},{"$f":"input8!M13","v":0},{"$f":"input8!N13","v":0},{"$f":"input8!O13","v":0},{"$f":"SUM(B15:L15)","v":0},{"$f":"M15/$M5*100","v":{"$error":"#DIV/0!"}}]
["มส",{"$f":"input8!E14","v":0},{"$f":"input8!F14","v":0},{"$f":"input8!G14","v":0},{"$f":"input8!H14","v":0},{"$f":"input8!I14","v":0},{"$f":"input8!J14","v":0},{"$f":"input8!K14","v":0},{"$f":"input8!L14","v":0},{"$f":"input8!M14","v":0},{"$f":"input8!N14","v":0},{"$f":"input8!O14","v":0},0,{"$f":"M16/$M5*100","v":{"$error":"#DIV/0!"}}]
["ค่าเฉลี่ย",{"$f":"IFERROR(((4*B6)+(3.5*B7)+(3*B8)+(2.5*B9)+(2*B10)+(B11*1.5)+(1*B12))/B14,\"\")","v":""},"","","","","","","","","","","","ร้อยละ"]
["S.D.",{"$f":"IFERROR(SQRT((($A$6^2*B6+$A$7^2*B7+$A$8^2*B8+$A$9^2*B9+$A$10^2*B10+$A$11^2*B11+B12)/B14)-B17^2),\"\")","v":""},"","","","","","","","","","","","ค่าเป้าหมาย"]
["C.V.",{"$f":"IFERROR(B18/B17,\"\")","v":""},{"$f":"IFERROR(C18/C17,\"\")","v":""},"","","","","","","","","","",{"$f":"SUM(M6:M10)*100/M5","v":{"$error":"#DIV/0!"}}]
[]
["สรุปการประเมินคุณลักษณะ"]
["ผลประเมิน","ห้อง 1","ห้อง 2","ห้อง 3","ห้อง 4","ห้อง 5","ห้อง 6","ห้อง 7","ห้อง 8","ห้อง 9","ห้อง 10","ห้อง 11","รวม","ร้อยละ"]
[3,{"$f":"IF(input8!E17<>0,input8!E17,\"\")","v":""},{"$f":"IF(input8!F17<>0,input8!F17,\"\")","v":""},{"$f":"IF(input8!G17<>0,input8!G17,\"\")","v":""},{"$f":"IF(input8!H17<>0,input8!H17,\"\")","v":""},{"$f":"IF(input8!I17<>0,input8!I17,\"\")","v":""},{"$f":"IF(input8!J17<>0,input8!J17,\"\")","v":""},{"$f":"IF(input8!K17<>0,input8!K17,\"\")","v":""},{"$f":"IF(input8!L17<>0,input8!L17,\"\")","v":""},{"$f":"IF(input8!M17<>0,input8!M17,\"\")","v":""},{"$f":"IF(input8!N17<>0,input8!N17,\"\")","v":""},{"$f":"IF(input8!O17<>0,input8!O17,\"\")","v":""},{"$f":"SUM(B23:L23)","v":0},{"$f":"M23/$M26*100","v":{"$error":"#VALUE!"}}]
[2,{"$f":"IF(input8!E18<>0,input8!E18,\"\")","v":""},{"$f":"IF(input8!F18<>0,input8!F18,\"\")","v":""},{"$f":"IF(input8!G18<>0,input8!G18,\"\")","v":""},{"$f":"IF(input8!H18<>0,input8!H18,\"\")","v":""},{"$f":"IF(input8!I18<>0,input8!I18,\"\")","v":""},{"$f":"IF(input8!J18<>0,input8!J18,\"\")","v":""},{"$f":"IF(input8!K18<>0,input8!K18,\"\")","v":""},{"$f":"IF(input8!L18<>0,input8!L18,\"\")","v":""},{"$f":"IF(input8!M18<>0,input8!M18,\"\")","v":""},{"$f":"IF(input8!N18<>0,input8!N18,\"\")","v":""},{"$f":"IF(input8!O18<>0,input8!O18,\"\")","v":""},{"$f":"SUM(B24:L24)","v":0},{"$f":"M24/$M26*100","v":{"$error":"#VALUE!"}}]
[1,{"$f":"IF(input8!E19<>0,input8!E19,\"\")","v":""},{"$f":"IF(input8!F19<>0,input8!F19,\"\")","v":""},{"$f":"IF(input8!G19<>0,input8!G19,\"\")","v":""},{"$f":"IF(input8!H19<>0,input8!H19,\"\")","v":""},{"$f":"IF(input8!I19<>0,input8!I19,\"\")","v":""},{"$f":"IF(input8!J19<>0,input8!J19,\"\")","v":""},{"$f":"IF(input8!K19<>0,input8!K19,\"\")","v":""},{"$f":"IF(input8!L19<>0,input8!L19,\"\")","v":""},{"$f":"IF(input8!M19<>0,input8!M19,\"\")","v":""},{"$f":"IF(input8!N19<>0,input8!N19,\"\")","v":""},{"$f":"IF(input8!O19<>0,input8!O19,\"\")","v":""},{"$f":"SUM(B25:L25)","v":0},{"$f":"M25/$M26*100","v":{"$error":"#VALUE!"}}]
["รวม",{"$f":"IF(SUM(B23:B25) <>0,SUM(B23:B25),\"\")","v":""},{"$f":"IF(SUM(C23:C25) <>0,SUM(C23:C25),\"\")","v":""},"","","","","","","","","",{"$f":"IF(SUM(M23:M25) <>0,SUM(M23:M25),\"\")","v":""},{"$f":"SUM(N23:N25)","v":{"$error":"#VALUE!"}}]
[]
["สรุปการประเมินการอ่าน คิด วิเคราะห์"]
["ผลประเมิน","ห้อง 1","ห้อง 2","ห้อง 3","ห้อง 4","ห้อง 5","ห้อง 6","ห้อง 7","ห้อง 8","ห้อง 9","ห้อง 10","ห้อง 11","รวม","ร้อยละ"]
[3,{"$f":"IF(input8!E23<>0,input8!E23,\"\")","v":""},{"$f":"IF(input8!F23<>0,input8!F23,\"\")","v":""},{"$f":"IF(input8!G23<>0,input8!G23,\"\")","v":""},{"$f":"IF(input8!H23<>0,input8!H23,\"\")","v":""},{"$f":"IF(input8!I23<>0,input8!I23,\"\")","v":""},{"$f":"IF(input8!J23<>0,input8!J23,\"\")","v":""},{"$f":"IF(input8!K23<>0,input8!K23,\"\")","v":""},{"$f":"IF(input8!L23<>0,input8!L23,\"\")","v":""},{"$f":"IF(input8!M23<>0,input8!M23,\"\")","v":""},{"$f":"IF(input8!N23<>0,input8!N23,\"\")","v":""},{"$f":"IF(input8!O23<>0,input8!O23,\"\")","v":""},{"$f":"SUM(B30:L30)","v":0},{"$f":"M30/$M33*100","v":{"$error":"#VALUE!"}}]
[2,{"$f":"IF(input8!E24<>0,input8!E24,\"\")","v":""},{"$f":"IF(input8!F24<>0,input8!F24,\"\")","v":""},{"$f":"IF(input8!G24<>0,input8!G24,\"\")","v":""},{"$f":"IF(input8!H24<>0,input8!H24,\"\")","v":""},{"$f":"IF(input8!I24<>0,input8!I24,\"\")","v":""},{"$f":"IF(input8!J24<>0,input8!J24,\"\")","v":""},{"$f":"IF(input8!K24<>0,input8!K24,\"\")","v":""},{"$f":"IF(input8!L24<>0,input8!L24,\"\")","v":""},{"$f":"IF(input8!M24<>0,input8!M24,\"\")","v":""},{"$f":"IF(input8!N24<>0,input8!N24,\"\")","v":""},{"$f":"IF(input8!O24<>0,input8!O24,\"\")","v":""},{"$f":"SUM(B31:L31)","v":0},{"$f":"M31/$M33*100","v":{"$error":"#VALUE!"}}]
[1,{"$f":"IF(input5!E25<>0,input5!E25,\"\")","v":""},{"$f":"IF(input5!F25<>0,input5!F25,\"\")","v":""},{"$f":"IF(input5!G25<>0,input5!G25,\"\")","v":""},{"$f":"IF(input5!H25<>0,input5!H25,\"\")","v":""},{"$f":"IF(input5!I25<>0,input5!I25,\"\")","v":""},{"$f":"IF(input5!J25<>0,input5!J25,\"\")","v":""},{"$f":"IF(input5!K25<>0,input5!K25,\"\")","v":""},{"$f":"IF(input5!L25<>0,input5!L25,\"\")","v":""},{"$f":"IF(input5!M25<>0,input5!M25,\"\")","v":""},{"$f":"IF(input5!N25<>0,input5!N25,\"\")","v":""},{"$f":"IF(input5!O25<>0,input5!O25,\"\")","v":""},{"$f":"SUM(B32:L32)","v":0},{"$f":"M32/$M33*100","v":{"$error":"#VALUE!"}}]
["รวม",{"$f":"IF(SUM(B30:B32) <>0,SUM(B30:B32),\"\")","v":""},{"$f":"IF(SUM(C30:C32) <>0,SUM(C30:C32),\"\")","v":""},"","","","","","","","","",{"$f":"IF(SUM(M30:M32) <>0,SUM(M30:M32),\"\")","v":""},{"$f":"SUM(N30:N32)","v":{"$error":"#VALUE!"}}]

{"sheet":"Graph1","index":20,"n_rows":28,"n_cols":17,"rows_kept":28,"cut":false,"hidden":false,"merged":[[22,14,22,16],[1,0,1,13],[2,0,2,13],[3,0,3,13],[16,14,16,16]]}
[]
[{"$f":"\"กราฟแสดงผลการเรียนรายวิชา  \"&input1!C5&\"  รหัสวิชา  \" &input1!C6","v":"กราฟแสดงผลการเรียนรายวิชา    รหัสวิชา  "}]
[{"$f":"\"ชั้นมัธยมศึกษาปีที่  \"&input1!C4&  \"   ภาคเรียนที่ \"&input1!C7&\"   ปีการศึกษา  \"&input1!C8","v":"ชั้นมัธยมศึกษาปีที่     ภาคเรียนที่    ปีการศึกษา  "}]
[{"$f":"\"ครูผู้สอน  \"&input1!C3","v":"ครูผู้สอน  "}]
[null,null,null,null,null,null,null,null,null,null,null,null,null,null,"เกรด","รวม","ร้อยละ"]
[null,null,null,null,null,null,null,null,null,null,null,null,null,null,4,{"$f":"Report1!M6","v":0},{"$f":"P6/$P$16*100","v":{"$error":"#DIV/0!"}}]
[null,null,null,null,null,null,null,null,null,null,null,null,null,null,3.5,{"$f":"Report1!M7","v":0},{"$f":"P7/$P$16*100","v":{"$error":"#DIV/0!"}}]
[null,null,null,null,null,null,null,null,null,null,null,null,null,null,3,{"$f":"Report1!M8","v":0},{"$f":"P8/$P$16*100","v":{"$error":"#DIV/0!"}}]
[null,null,null,null,null,null,null,null,null,null,null,null,null,null,2.5,{"$f":"Report1!M9","v":0},{"$f":"P9/$P$16*100","v":{"$error":"#DIV/0!"}}]
[null,null,null,null,null,null,null,null,null,null,null,null,null,null,2,{"$f":"Report1!M10","v":0},{"$error":"#DIV/0!"}]
[null,null,null,null,null,null,null,null,null,null,null,null,null,null,1.5,{"$f":"Report1!M11","v":0},{"$error":"#DIV/0!"}]
[null,null,null,null,null,null,null,null,null,null,null,null,null,null,1,{"$f":"Report1!M12","v":0},{"$error":"#DIV/0!"}]
[null,null,null,null,null,null,null,null,null,null,null,null,null,null,0,{"$f":"Report1!M13","v":0},{"$error":"#DIV/0!"}]
[null,null,null,null,null,null,null,null,null,null,null,null,null,null,"ร",{"$f":"Report1!M15","v":0},{"$error":"#DIV/0!"}]
[null,null,null,null,null,null,null,null,null,null,null,null,null,null,"มส",{"$f":"Report1!M16","v":0},{"$error":"#DIV/0!"}]
[null,null,null,null,null,null,null,null,null,null,null,null,null,null,null,{"$f":"SUM(P6:P15)","v":0}]
[null,null,null,null,null,null,null,null,null,null,null,null,null,null,"สรุปการประเมินคุณลักษณะ"]
[null,null,null,null,null,null,null,null,null,null,null,null,null,null,"ผลประเมิน","รวม","ร้อยละ"]
[null,null,null,null,null,null,null,null,null,null,null,null,null,null,3,{"$f":"Report1!M23","v":0},{"$f":"P19/P22*100","v":{"$error":"#DIV/0!"}}]
[null,null,null,null,null,null,null,null,null,null,null,null,null,null,2,{"$f":"Report1!M24","v":0},{"$f":"P20/P22*100","v":{"$error":"#DIV/0!"}}]
[null,null,null,null,null,null,null,null,null,null,null,null,null,null,1,{"$f":"Report1!M25","v":0},{"$f":"P21/P22*100","v":{"$error":"#DIV/0!"}}]
[null,null,null,null,null,null,null,null,null,null,null,null,null,null,null,{"$f":"SUM(P19:P21)","v":0}]
[null,null,null,null,null,null,null,null,null,null,null,null,null,null,"สรุปการประเมินการอ่าน คิด วิเคราะห์"]
[null,null,null,null,null,null,null,null,null,null,null,null,null,null,"ผลประเมิน","รวม","ร้อยละ"]
[null,null,null,null,null,null,null,null,null,null,null,null,null,null,3,{"$f":"Report1!M30","v":0},{"$f":"P25/P28*100","v":{"$error":"#DIV/0!"}}]
[null,null,null,null,null,null,null,null,null,null,null,null,null,null,2,{"$f":"Report1!M31","v":0},{"$f":"P26/P28*100","v":{"$error":"#DIV/0!"}}]
[null,null,null,null,null,null,null,null,null,null,null,null,null,null,1,{"$f":"Report1!M32","v":0},{"$f":"P27/P28*100","v":{"$error":"#DIV/0!"}}]
[null,null,null,null,null,null,null,null,null,null,null,null,null,null,null,{"$f":"SUM(P25:P27)","v":0}]

{"sheet":"Graph2","index":21,"n_rows":28,"n_cols":17,"rows_kept":28,"cut":false,"hidden":false,"merged":[[1,0,1,13],[2,0,2,13],[3,0,3,13],[16,14,16,16],[22,14,22,16]]}
[]
[{"$f":"\"กราฟแสดงผลการเรียนรายวิชา  \"&input2!C5&\"  รหัสวิชา  \" &input2!C6","v":"กราฟแสดงผลการเรียนรายวิชา    รหัสวิชา  "}]
[{"$f":"\"ชั้นมัธยมศึกษาปีที่  \"&input2!C4&  \"   ภาคเรียนที่ \"&input2!C7&\"   ปีการศึกษา  \"&input2!C8","v":"ชั้นมัธยมศึกษาปีที่     ภาคเรียนที่    ปีการศึกษา  "}]
[{"$f":"\"ครูผู้สอน  \"&input2!C3","v":"ครูผู้สอน  "}]
[null,null,null,null,null,null,null,null,null,null,null,null,null,null,"เกรด","รวม","ร้อยละ"]
[null,null,null,null,null,null,null,null,null,null,null,null,null,null,4,{"$f":"Report2!M6","v":0},{"$f":"P6/$P$16*100","v":{"$error":"#DIV/0!"}}]
[null,null,null,null,null,null,null,null,null,null,null,null,null,null,3.5,{"$f":"Report2!M7","v":0},{"$f":"P7/$P$16*100","v":{"$error":"#DIV/0!"}}]
[null,null,null,null,null,null,null,null,null,null,null,null,null,null,3,{"$f":"Report2!M8","v":0},{"$f":"P8/$P$16*100","v":{"$error":"#DIV/0!"}}]
[null,null,null,null,null,null,null,null,null,null,null,null,null,null,2.5,{"$f":"Report2!M9","v":0},{"$f":"P9/$P$16*100","v":{"$error":"#DIV/0!"}}]
[null,null,null,null,null,null,null,null,null,null,null,null,null,null,2,{"$f":"Report2!M10","v":0},{"$error":"#DIV/0!"}]
[null,null,null,null,null,null,null,null,null,null,null,null,null,null,1.5,{"$f":"Report2!M11","v":0},{"$error":"#DIV/0!"}]
[null,null,null,null,null,null,null,null,null,null,null,null,null,null,1,{"$f":"Report2!M12","v":0},{"$error":"#DIV/0!"}]
[null,null,null,null,null,null,null,null,null,null,null,null,null,null,0,{"$f":"Report2!M13","v":0},{"$error":"#DIV/0!"}]
[null,null,null,null,null,null,null,null,null,null,null,null,null,null,"ร",{"$f":"Report2!M15","v":0},{"$error":"#DIV/0!"}]
[null,null,null,null,null,null,null,null,null,null,null,null,null,null,"มส",{"$f":"Report2!M16","v":0},{"$error":"#DIV/0!"}]
[null,null,null,null,null,null,null,null,null,null,null,null,null,null,null,{"$f":"SUM(P6:P15)","v":0}]
[null,null,null,null,null,null,null,null,null,null,null,null,null,null,"สรุปการประเมินคุณลักษณะ"]
[null,null,null,null,null,null,null,null,null,null,null,null,null,null,"ผลประเมิน","รวม","ร้อยละ"]
[null,null,null,null,null,null,null,null,null,null,null,null,null,null,3,{"$f":"Report2!M23","v":0},{"$f":"P19/P22*100","v":{"$error":"#DIV/0!"}}]
[null,null,null,null,null,null,null,null,null,null,null,null,null,null,2,{"$f":"Report2!M24","v":0},{"$f":"P20/P22*100","v":{"$error":"#DIV/0!"}}]
[null,null,null,null,null,null,null,null,null,null,null,null,null,null,1,{"$f":"Report2!M25","v":0},{"$f":"P21/P22*100","v":{"$error":"#DIV/0!"}}]
[null,null,null,null,null,null,null,null,null,null,null,null,null,null,null,{"$f":"SUM(P19:P21)","v":0}]
[null,null,null,null,null,null,null,null,null,null,null,null,null,null,"สรุปการประเมินการอ่าน คิด วิเคราะห์"]
[null,null,null,null,null,null,null,null,null,null,null,null,null,null,"ผลประเมิน","รวม","ร้อยละ"]
[null,null,null,null,null,null,null,null,null,null,null,null,null,null,3,{"$f":"Report2!M30","v":0},{"$f":"P25/P28*100","v":{"$error":"#DIV/0!"}}]
[null,null,null,null,null,null,null,null,null,null,null,null,null,null,2,{"$f":"Report2!M31","v":0},{"$f":"P26/P28*100","v":{"$error":"#DIV/0!"}}]
[null,null,null,null,null,null,null,null,null,null,null,null,null,null,1,{"$f":"Report2!M32","v":0},{"$f":"P27/P28*100","v":{"$error":"#DIV/0!"}}]
[null,null,null,null,null,null,null,null,null,null,null,null,null,null,null,{"$f":"SUM(P25:P27)","v":0}]

{"sheet":"Graph3","index":22,"n_rows":28,"n_cols":17,"rows_kept":28,"cut":false,"hidden":false,"merged":[[1,0,1,13],[2,0,2,13],[3,0,3,13],[16,14,16,16],[22,14,22,16]]}
[]
[{"$f":"\"กราฟแสดงผลการเรียนรายวิชา  \"&input3!C5&\"  รหัสวิชา  \" &input3!C6","v":"กราฟแสดงผลการเรียนรายวิชา    รหัสวิชา  "}]
[{"$f":"\"ชั้นมัธยมศึกษาปีที่  \"&input3!C4&  \"   ภาคเรียนที่ \"&input3!C7&\"   ปีการศึกษา  \"&input3!C8","v":"ชั้นมัธยมศึกษาปีที่     ภาคเรียนที่    ปีการศึกษา  "}]
[{"$f":"\"ครูผู้สอน  \"&input3!C3","v":"ครูผู้สอน  "}]
[null,null,null,null,null,null,null,null,null,null,null,null,null,null,"เกรด","รวม","ร้อยละ"]
[null,null,null,null,null,null,null,null,null,null,null,null,null,null,4,{"$f":"Report3!M6","v":0},{"$f":"P6/$P$16*100","v":{"$error":"#DIV/0!"}}]
[null,null,null,null,null,null,null,null,null,null,null,null,null,null,3.5,{"$f":"Report3!M7","v":0},{"$f":"P7/$P$16*100","v":{"$error":"#DIV/0!"}}]
[null,null,null,null,null,null,null,null,null,null,null,null,null,null,3,{"$f":"Report3!M8","v":0},{"$f":"P8/$P$16*100","v":{"$error":"#DIV/0!"}}]
[null,null,null,null,null,null,null,null,null,null,null,null,null,null,2.5,{"$f":"Report3!M9","v":0},{"$f":"P9/$P$16*100","v":{"$error":"#DIV/0!"}}]
[null,null,null,null,null,null,null,null,null,null,null,null,null,null,2,{"$f":"Report3!M10","v":0},{"$error":"#DIV/0!"}]
[null,null,null,null,null,null,null,null,null,null,null,null,null,null,1.5,{"$f":"Report3!M11","v":0},{"$error":"#DIV/0!"}]
[null,null,null,null,null,null,null,null,null,null,null,null,null,null,1,{"$f":"Report3!M12","v":0},{"$error":"#DIV/0!"}]
[null,null,null,null,null,null,null,null,null,null,null,null,null,null,0,{"$f":"Report3!M13","v":0},{"$error":"#DIV/0!"}]
[null,null,null,null,null,null,null,null,null,null,null,null,null,null,"ร",{"$f":"Report3!M15","v":0},{"$error":"#DIV/0!"}]
[null,null,null,null,null,null,null,null,null,null,null,null,null,null,"มส",{"$f":"Report3!M16","v":0},{"$error":"#DIV/0!"}]
[null,null,null,null,null,null,null,null,null,null,null,null,null,null,null,{"$f":"SUM(P6:P15)","v":0}]
[null,null,null,null,null,null,null,null,null,null,null,null,null,null,"สรุปการประเมินคุณลักษณะ"]
[null,null,null,null,null,null,null,null,null,null,null,null,null,null,"ผลประเมิน","รวม","ร้อยละ"]
[null,null,null,null,null,null,null,null,null,null,null,null,null,null,3,{"$f":"Report3!M23","v":0},{"$f":"P19/P22*100","v":{"$error":"#DIV/0!"}}]
[null,null,null,null,null,null,null,null,null,null,null,null,null,null,2,{"$f":"Report3!M24","v":0},{"$f":"P20/P22*100","v":{"$error":"#DIV/0!"}}]
[null,null,null,null,null,null,null,null,null,null,null,null,null,null,1,{"$f":"Report3!M25","v":0},{"$f":"P21/P22*100","v":{"$error":"#DIV/0!"}}]
[null,null,null,null,null,null,null,null,null,null,null,null,null,null,null,{"$f":"SUM(P19:P21)","v":0}]
[null,null,null,null,null,null,null,null,null,null,null,null,null,null,"สรุปการประเมินการอ่าน คิด วิเคราะห์"]
[null,null,null,null,null,null,null,null,null,null,null,null,null,null,"ผลประเมิน","รวม","ร้อยละ"]
[null,null,null,null,null,null,null,null,null,null,null,null,null,null,3,{"$f":"Report3!M30","v":0},{"$f":"P25/P28*100","v":{"$error":"#DIV/0!"}}]
[null,null,null,null,null,null,null,null,null,null,null,null,null,null,2,{"$f":"Report3!M31","v":0},{"$f":"P26/P28*100","v":{"$error":"#DIV/0!"}}]
[null,null,null,null,null,null,null,null,null,null,null,null,null,null,1,{"$f":"Report3!M32","v":0},{"$f":"P27/P28*100","v":{"$error":"#DIV/0!"}}]
[null,null,null,null,null,null,null,null,null,null,null,null,null,null,null,{"$f":"SUM(P25:P27)","v":0}]

{"sheet":"Graph4","index":23,"n_rows":28,"n_cols":17,"rows_kept":28,"cut":false,"hidden":false,"merged":[[1,0,1,13],[2,0,2,13],[3,0,3,13],[16,14,16,16],[22,14,22,16]]}
[]
[{"$f":"\"กราฟแสดงผลการเรียนรายวิชา  \"&input4!C5&\"  รหัสวิชา  \" &input4!C6","v":"กราฟแสดงผลการเรียนรายวิชา    รหัสวิชา  "}]
[{"$f":"\"ชั้นมัธยมศึกษาปีที่  \"&input4!C4&  \"   ภาคเรียนที่ \"&input4!C7&\"   ปีการศึกษา  \"&input4!C8","v":"ชั้นมัธยมศึกษาปีที่     ภาคเรียนที่    ปีการศึกษา  "}]
[{"$f":"\"ครูผู้สอน  \"&input4!C3","v":"ครูผู้สอน  "}]
[null,null,null,null,null,null,null,null,null,null,null,null,null,null,"เกรด","รวม","ร้อยละ"]
[null,null,null,null,null,null,null,null,null,null,null,null,null,null,4,{"$f":"Report4!M6","v":0},{"$f":"P6/$P$16*100","v":{"$error":"#DIV/0!"}}]
[null,null,null,null,null,null,null,null,null,null,null,null,null,null,3.5,{"$f":"Report4!M7","v":0},{"$f":"P7/$P$16*100","v":{"$error":"#DIV/0!"}}]
[null,null,null,null,null,null,null,null,null,null,null,null,null,null,3,{"$f":"Report4!M8","v":0},{"$f":"P8/$P$16*100","v":{"$error":"#DIV/0!"}}]
[null,null,null,null,null,null,null,null,null,null,null,null,null,null,2.5,{"$f":"Report4!M9","v":0},{"$f":"P9/$P$16*100","v":{"$error":"#DIV/0!"}}]
[null,null,null,null,null,null,null,null,null,null,null,null,null,null,2,{"$f":"Report4!M10","v":0},{"$error":"#DIV/0!"}]
[null,null,null,null,null,null,null,null,null,null,null,null,null,null,1.5,{"$f":"Report4!M11","v":0},{"$error":"#DIV/0!"}]
[null,null,null,null,null,null,null,null,null,null,null,null,null,null,1,{"$f":"Report4!M12","v":0},{"$error":"#DIV/0!"}]
[null,null,null,null,null,null,null,null,null,null,null,null,null,null,0,{"$f":"Report4!M13","v":0},{"$error":"#DIV/0!"}]
[null,null,null,null,null,null,null,null,null,null,null,null,null,null,"ร",{"$f":"Report4!M15","v":0},{"$error":"#DIV/0!"}]
[null,null,null,null,null,null,null,null,null,null,null,null,null,null,"มส",{"$f":"Report4!M16","v":0},{"$error":"#DIV/0!"}]
[null,null,null,null,null,null,null,null,null,null,null,null,null,null,null,{"$f":"SUM(P6:P15)","v":0}]
[null,null,null,null,null,null,null,null,null,null,null,null,null,null,"สรุปการประเมินคุณลักษณะ"]
[null,null,null,null,null,null,null,null,null,null,null,null,null,null,"ผลประเมิน","รวม","ร้อยละ"]
[null,null,null,null,null,null,null,null,null,null,null,null,null,null,3,{"$f":"Report4!M23","v":0},{"$f":"P19/P22*100","v":{"$error":"#DIV/0!"}}]
[null,null,null,null,null,null,null,null,null,null,null,null,null,null,2,{"$f":"Report4!M24","v":0},{"$f":"P20/P22*100","v":{"$error":"#DIV/0!"}}]
[null,null,null,null,null,null,null,null,null,null,null,null,null,null,1,{"$f":"Report4!M25","v":0},{"$f":"P21/P22*100","v":{"$error":"#DIV/0!"}}]
[null,null,null,null,null,null,null,null,null,null,null,null,null,null,null,{"$f":"SUM(P19:P21)","v":0}]
[null,null,null,null,null,null,null,null,null,null,null,null,null,null,"สรุปการประเมินการอ่าน คิด วิเคราะห์"]
[null,null,null,null,null,null,null,null,null,null,null,null,null,null,"ผลประเมิน","รวม","ร้อยละ"]
[null,null,null,null,null,null,null,null,null,null,null,null,null,null,3,{"$f":"Report4!M30","v":0},{"$f":"P25/P28*100","v":{"$error":"#DIV/0!"}}]
[null,null,null,null,null,null,null,null,null,null,null,null,null,null,2,{"$f":"Report4!M31","v":0},{"$f":"P26/P28*100","v":{"$error":"#DIV/0!"}}]
[null,null,null,null,null,null,null,null,null,null,null,null,null,null,1,{"$f":"Report4!M32","v":0},{"$f":"P27/P28*100","v":{"$error":"#DIV/0!"}}]
[null,null,null,null,null,null,null,null,null,null,null,null,null,null,null,{"$f":"SUM(P25:P27)","v":0}]

{"sheet":"Graph5","index":24,"n_rows":28,"n_cols":17,"rows_kept":28,"cut":false,"hidden":false,"merged":[[1,0,1,13],[2,0,2,13],[3,0,3,13],[16,14,16,16],[22,14,22,16]]}
[]
[{"$f":"\"กราฟแสดงผลการเรียนรายวิชา  \"&input5!C5&\"  รหัสวิชา  \" &input5!C6","v":"กราฟแสดงผลการเรียนรายวิชา    รหัสวิชา  "}]
[{"$f":"\"ชั้นมัธยมศึกษาปีที่  \"&input5!C4&  \"   ภาคเรียนที่ \"&input5!C7&\"   ปีการศึกษา  \"&input5!C8","v":"ชั้นมัธยมศึกษาปีที่     ภาคเรียนที่    ปีการศึกษา  "}]
[{"$f":"\"ครูผู้สอน  \"&input5!C3","v":"ครูผู้สอน  "}]
[null,null,null,null,null,null,null,null,null,null,null,null,null,null,"เกรด","รวม","ร้อยละ"]
[null,null,null,null,null,null,null,null,null,null,null,null,null,null,4,{"$f":"Report5!M6","v":0},{"$f":"P6/$P$16*100","v":{"$error":"#DIV/0!"}}]
[null,null,null,null,null,null,null,null,null,null,null,null,null,null,3.5,{"$f":"Report5!M7","v":0},{"$f":"P7/$P$16*100","v":{"$error":"#DIV/0!"}}]
[null,null,null,null,null,null,null,null,null,null,null,null,null,null,3,{"$f":"Report5!M8","v":0},{"$f":"P8/$P$16*100","v":{"$error":"#DIV/0!"}}]
[null,null,null,null,null,null,null,null,null,null,null,null,null,null,2.5,{"$f":"Report5!M9","v":0},{"$f":"P9/$P$16*100","v":{"$error":"#DIV/0!"}}]
[null,null,null,null,null,null,null,null,null,null,null,null,null,null,2,{"$f":"Report5!M10","v":0},{"$error":"#DIV/0!"}]
[null,null,null,null,null,null,null,null,null,null,null,null,null,null,1.5,{"$f":"Report5!M11","v":0},{"$error":"#DIV/0!"}]
[null,null,null,null,null,null,null,null,null,null,null,null,null,null,1,{"$f":"Report5!M12","v":0},{"$error":"#DIV/0!"}]
[null,null,null,null,null,null,null,null,null,null,null,null,null,null,0,{"$f":"Report5!M13","v":0},{"$error":"#DIV/0!"}]
[null,null,null,null,null,null,null,null,null,null,null,null,null,null,"ร",{"$f":"Report5!M15","v":0},{"$error":"#DIV/0!"}]
[null,null,null,null,null,null,null,null,null,null,null,null,null,null,"มส",{"$f":"Report5!M16","v":0},{"$error":"#DIV/0!"}]
[null,null,null,null,null,null,null,null,null,null,null,null,null,null,null,{"$f":"SUM(P6:P15)","v":0}]
[null,null,null,null,null,null,null,null,null,null,null,null,null,null,"สรุปการประเมินคุณลักษณะ"]
[null,null,null,null,null,null,null,null,null,null,null,null,null,null,"ผลประเมิน","รวม","ร้อยละ"]
[null,null,null,null,null,null,null,null,null,null,null,null,null,null,3,{"$f":"Report5!M23","v":0},{"$f":"P19/P22*100","v":{"$error":"#DIV/0!"}}]
[null,null,null,null,null,null,null,null,null,null,null,null,null,null,2,{"$f":"Report5!M24","v":0},{"$f":"P20/P22*100","v":{"$error":"#DIV/0!"}}]
[null,null,null,null,null,null,null,null,null,null,null,null,null,null,1,{"$f":"Report5!M25","v":0},{"$f":"P21/P22*100","v":{"$error":"#DIV/0!"}}]
[null,null,null,null,null,null,null,null,null,null,null,null,null,null,null,{"$f":"SUM(P19:P21)","v":0}]
[null,null,null,null,null,null,null,null,null,null,null,null,null,null,"สรุปการประเมินการอ่าน คิด วิเคราะห์"]
[null,null,null,null,null,null,null,null,null,null,null,null,null,null,"ผลประเมิน","รวม","ร้อยละ"]
[null,null,null,null,null,null,null,null,null,null,null,null,null,null,3,{"$f":"Report5!M30","v":0},{"$f":"P25/P28*100","v":{"$error":"#DIV/0!"}}]
[null,null,null,null,null,null,null,null,null,null,null,null,null,null,2,{"$f":"Report5!M31","v":0},{"$f":"P26/P28*100","v":{"$error":"#DIV/0!"}}]
[null,null,null,null,null,null,null,null,null,null,null,null,null,null,1,{"$f":"Report5!M32","v":0},{"$f":"P27/P28*100","v":{"$error":"#DIV/0!"}}]
[null,null,null,null,null,null,null,null,null,null,null,null,null,null,null,{"$f":"SUM(P25:P27)","v":0}]

{"sheet":"Graph6","index":25,"n_rows":28,"n_cols":17,"rows_kept":28,"cut":false,"hidden":false,"merged":[[1,0,1,13],[2,0,2,13],[3,0,3,13],[16,14,16,16],[22,14,22,16]]}
[]
[{"$f":"\"กราฟแสดงผลการเรียนรายวิชา  \"&input6!C5&\"  รหัสวิชา  \" &input6!C6","v":"กราฟแสดงผลการเรียนรายวิชา    รหัสวิชา  "}]
[{"$f":"\"ชั้นมัธยมศึกษาปีที่  \"&input6!C4&  \"   ภาคเรียนที่ \"&input6!C7&\"   ปีการศึกษา  \"&input6!C8","v":"ชั้นมัธยมศึกษาปีที่     ภาคเรียนที่    ปีการศึกษา  "}]
[{"$f":"\"ครูผู้สอน  \"&input6!C3","v":"ครูผู้สอน  "}]
[null,null,null,null,null,null,null,null,null,null,null,null,null,null,"เกรด","รวม","ร้อยละ"]
[null,null,null,null,null,null,null,null,null,null,null,null,null,null,4,{"$f":"Report6!M6","v":0},{"$f":"P6/$P$16*100","v":{"$error":"#DIV/0!"}}]
[null,null,null,null,null,null,null,null,null,null,null,null,null,null,3.5,{"$f":"Report6!M7","v":0},{"$f":"P7/$P$16*100","v":{"$error":"#DIV/0!"}}]
[null,null,null,null,null,null,null,null,null,null,null,null,null,null,3,{"$f":"Report6!M8","v":0},{"$f":"P8/$P$16*100","v":{"$error":"#DIV/0!"}}]
[null,null,null,null,null,null,null,null,null,null,null,null,null,null,2.5,{"$f":"Report6!M9","v":0},{"$f":"P9/$P$16*100","v":{"$error":"#DIV/0!"}}]
[null,null,null,null,null,null,null,null,null,null,null,null,null,null,2,{"$f":"Report6!M10","v":0},{"$error":"#DIV/0!"}]
[null,null,null,null,null,null,null,null,null,null,null,null,null,null,1.5,{"$f":"Report6!M11","v":0},{"$error":"#DIV/0!"}]
[null,null,null,null,null,null,null,null,null,null,null,null,null,null,1,{"$f":"Report6!M12","v":0},{"$error":"#DIV/0!"}]
[null,null,null,null,null,null,null,null,null,null,null,null,null,null,0,{"$f":"Report6!M13","v":0},{"$error":"#DIV/0!"}]
[null,null,null,null,null,null,null,null,null,null,null,null,null,null,"ร",{"$f":"Report6!M15","v":0},{"$error":"#DIV/0!"}]
[null,null,null,null,null,null,null,null,null,null,null,null,null,null,"มส",{"$f":"Report6!M16","v":0},{"$error":"#DIV/0!"}]
[null,null,null,null,null,null,null,null,null,null,null,null,null,null,null,{"$f":"SUM(P6:P15)","v":0}]
[null,null,null,null,null,null,null,null,null,null,null,null,null,null,"สรุปการประเมินคุณลักษณะ"]
[null,null,null,null,null,null,null,null,null,null,null,null,null,null,"ผลประเมิน","รวม","ร้อยละ"]
[null,null,null,null,null,null,null,null,null,null,null,null,null,null,3,{"$f":"Report6!M23","v":0},{"$f":"P19/P22*100","v":{"$error":"#DIV/0!"}}]
[null,null,null,null,null,null,null,null,null,null,null,null,null,null,2,{"$f":"Report6!M24","v":0},{"$f":"P20/P22*100","v":{"$error":"#DIV/0!"}}]
[null,null,null,null,null,null,null,null,null,null,null,null,null,null,1,{"$f":"Report6!M25","v":0},{"$f":"P21/P22*100","v":{"$error":"#DIV/0!"}}]
[null,null,null,null,null,null,null,null,null,null,null,null,null,null,null,{"$f":"SUM(P19:P21)","v":0}]
[null,null,null,null,null,null,null,null,null,null,null,null,null,null,"สรุปการประเมินการอ่าน คิด วิเคราะห์"]
[null,null,null,null,null,null,null,null,null,null,null,null,null,null,"ผลประเมิน","รวม","ร้อยละ"]
[null,null,null,null,null,null,null,null,null,null,null,null,null,null,3,{"$f":"Report6!M30","v":0},{"$f":"P25/P28*100","v":{"$error":"#DIV/0!"}}]
[null,null,null,null,null,null,null,null,null,null,null,null,null,null,2,{"$f":"Report6!M31","v":0},{"$f":"P26/P28*100","v":{"$error":"#DIV/0!"}}]
[null,null,null,null,null,null,null,null,null,null,null,null,null,null,1,{"$f":"Report6!M32","v":0},{"$f":"P27/P28*100","v":{"$error":"#DIV/0!"}}]
[null,null,null,null,null,null,null,null,null,null,null,null,null,null,null,{"$f":"SUM(P25:P27)","v":0}]

{"sheet":"Graph7","index":26,"n_rows":28,"n_cols":17,"rows_kept":28,"cut":false,"hidden":false,"merged":[[1,0,1,13],[2,0,2,13],[3,0,3,13],[16,14,16,16],[22,14,22,16]]}
[]
[{"$f":"\"กราฟแสดงผลการเรียนรายวิชา  \"&input7!C5&\"  รหัสวิชา  \" &input7!C6","v":"กราฟแสดงผลการเรียนรายวิชา    รหัสวิชา  "}]
[{"$f":"\"ชั้นมัธยมศึกษาปีที่  \"&input7!C4&  \"   ภาคเรียนที่ \"&input7!C7&\"   ปีการศึกษา  \"&input7!C8","v":"ชั้นมัธยมศึกษาปีที่     ภาคเรียนที่    ปีการศึกษา  "}]
[{"$f":"\"ครูผู้สอน  \"&input7!C3","v":"ครูผู้สอน  "}]
[null,null,null,null,null,null,null,null,null,null,null,null,null,null,"เกรด","รวม","ร้อยละ"]
[null,null,null,null,null,null,null,null,null,null,null,null,null,null,4,{"$f":"Report7!M6","v":0},{"$f":"P6/$P$16*100","v":{"$error":"#DIV/0!"}}]
[null,null,null,null,null,null,null,null,null,null,null,null,null,null,3.5,{"$f":"Report7!M7","v":0},{"$f":"P7/$P$16*100","v":{"$error":"#DIV/0!"}}]
[null,null,null,null,null,null,null,null,null,null,null,null,null,null,3,{"$f":"Report7!M8","v":0},{"$f":"P8/$P$16*100","v":{"$error":"#DIV/0!"}}]
[null,null,null,null,null,null,null,null,null,null,null,null,null,null,2.5,{"$f":"Report7!M9","v":0},{"$f":"P9/$P$16*100","v":{"$error":"#DIV/0!"}}]
[null,null,null,null,null,null,null,null,null,null,null,null,null,null,2,{"$f":"Report7!M10","v":0},{"$error":"#DIV/0!"}]
[null,null,null,null,null,null,null,null,null,null,null,null,null,null,1.5,{"$f":"Report7!M11","v":0},{"$error":"#DIV/0!"}]
[null,null,null,null,null,null,null,null,null,null,null,null,null,null,1,{"$f":"Report7!M12","v":0},{"$error":"#DIV/0!"}]
[null,null,null,null,null,null,null,null,null,null,null,null,null,null,0,{"$f":"Report7!M13","v":0},{"$error":"#DIV/0!"}]
[null,null,null,null,null,null,null,null,null,null,null,null,null,null,"ร",{"$f":"Report7!M15","v":0},{"$error":"#DIV/0!"}]
[null,null,null,null,null,null,null,null,null,null,null,null,null,null,"มส",{"$f":"Report7!M16","v":0},{"$error":"#DIV/0!"}]
[null,null,null,null,null,null,null,null,null,null,null,null,null,null,null,{"$f":"SUM(P6:P15)","v":0}]
[null,null,null,null,null,null,null,null,null,null,null,null,null,null,"สรุปการประเมินคุณลักษณะ"]
[null,null,null,null,null,null,null,null,null,null,null,null,null,null,"ผลประเมิน","รวม","ร้อยละ"]
[null,null,null,null,null,null,null,null,null,null,null,null,null,null,3,{"$f":"Report7!M23","v":0},{"$f":"P19/P22*100","v":{"$error":"#DIV/0!"}}]
[null,null,null,null,null,null,null,null,null,null,null,null,null,null,2,{"$f":"Report7!M24","v":0},{"$f":"P20/P22*100","v":{"$error":"#DIV/0!"}}]
[null,null,null,null,null,null,null,null,null,null,null,null,null,null,1,{"$f":"Report7!M25","v":0},{"$f":"P21/P22*100","v":{"$error":"#DIV/0!"}}]
[null,null,null,null,null,null,null,null,null,null,null,null,null,null,null,{"$f":"SUM(P19:P21)","v":0}]
[null,null,null,null,null,null,null,null,null,null,null,null,null,null,"สรุปการประเมินการอ่าน คิด วิเคราะห์"]
[null,null,null,null,null,null,null,null,null,null,null,null,null,null,"ผลประเมิน","รวม","ร้อยละ"]
[null,null,null,null,null,null,null,null,null,null,null,null,null,null,3,{"$f":"Report7!M30","v":0},{"$f":"P25/P28*100","v":{"$error":"#DIV/0!"}}]
[null,null,null,null,null,null,null,null,null,null,null,null,null,null,2,{"$f":"Report7!M31","v":0},{"$f":"P26/P28*100","v":{"$error":"#DIV/0!"}}]
[null,null,null,null,null,null,null,null,null,null,null,null,null,null,1,{"$f":"Report7!M32","v":0},{"$f":"P27/P28*100","v":{"$error":"#DIV/0!"}}]
[null,null,null,null,null,null,null,null,null,null,null,null,null,null,null,{"$f":"SUM(P25:P27)","v":0}]

{"sheet":"Graph8","index":27,"n_rows":28,"n_cols":17,"rows_kept":28,"cut":false,"hidden":false,"merged":[[1,0,1,13],[2,0,2,13],[3,0,3,13],[16,14,16,16],[22,14,22,16]]}
[]
[{"$f":"\"กราฟแสดงผลการเรียนรายวิชา  \"&input8!C5&\"  รหัสวิชา  \" &input8!C6","v":"กราฟแสดงผลการเรียนรายวิชา    รหัสวิชา  "}]
[{"$f":"\"ชั้นมัธยมศึกษาปีที่  \"&input8!C4&  \"   ภาคเรียนที่ \"&input8!C7&\"   ปีการศึกษา  \"&input8!C8","v":"ชั้นมัธยมศึกษาปีที่     ภาคเรียนที่    ปีการศึกษา  "}]
[{"$f":"\"ครูผู้สอน  \"&input8!C3","v":"ครูผู้สอน  "}]
[null,null,null,null,null,null,null,null,null,null,null,null,null,null,"เกรด","รวม","ร้อยละ"]
[null,null,null,null,null,null,null,null,null,null,null,null,null,null,4,{"$f":"Report8!M6","v":0},{"$f":"P6/$P$16*100","v":{"$error":"#DIV/0!"}}]
[null,null,null,null,null,null,null,null,null,null,null,null,null,null,3.5,{"$f":"Report8!M7","v":0},{"$f":"P7/$P$16*100","v":{"$error":"#DIV/0!"}}]
[null,null,null,null,null,null,null,null,null,null,null,null,null,null,3,{"$f":"Report8!M8","v":0},{"$f":"P8/$P$16*100","v":{"$error":"#DIV/0!"}}]
[null,null,null,null,null,null,null,null,null,null,null,null,null,null,2.5,{"$f":"Report8!M9","v":0},{"$f":"P9/$P$16*100","v":{"$error":"#DIV/0!"}}]
[null,null,null,null,null,null,null,null,null,null,null,null,null,null,2,{"$f":"Report8!M10","v":0},{"$error":"#DIV/0!"}]
[null,null,null,null,null,null,null,null,null,null,null,null,null,null,1.5,{"$f":"Report8!M11","v":0},{"$error":"#DIV/0!"}]
[null,null,null,null,null,null,null,null,null,null,null,null,null,null,1,{"$f":"Report8!M12","v":0},{"$error":"#DIV/0!"}]
[null,null,null,null,null,null,null,null,null,null,null,null,null,null,0,{"$f":"Report8!M13","v":0},{"$error":"#DIV/0!"}]
[null,null,null,null,null,null,null,null,null,null,null,null,null,null,"ร",{"$f":"Report8!M15","v":0},{"$error":"#DIV/0!"}]
[null,null,null,null,null,null,null,null,null,null,null,null,null,null,"มส",{"$f":"Report8!M116","v":0},{"$error":"#DIV/0!"}]
[null,null,null,null,null,null,null,null,null,null,null,null,null,null,null,{"$f":"SUM(P6:P15)","v":0}]
[null,null,null,null,null,null,null,null,null,null,null,null,null,null,"สรุปการประเมินคุณลักษณะ"]
[null,null,null,null,null,null,null,null,null,null,null,null,null,null,"ผลประเมิน","รวม","ร้อยละ"]
[null,null,null,null,null,null,null,null,null,null,null,null,null,null,3,{"$f":"Report8!M23","v":0},{"$f":"P19/P22*100","v":{"$error":"#DIV/0!"}}]
[null,null,null,null,null,null,null,null,null,null,null,null,null,null,2,{"$f":"Report8!M24","v":0},{"$f":"P20/P22*100","v":{"$error":"#DIV/0!"}}]
[null,null,null,null,null,null,null,null,null,null,null,null,null,null,1,{"$f":"Report8!M25","v":0},{"$f":"P21/P22*100","v":{"$error":"#DIV/0!"}}]
[null,null,null,null,null,null,null,null,null,null,null,null,null,null,null,{"$f":"SUM(P19:P21)","v":0}]
[null,null,null,null,null,null,null,null,null,null,null,null,null,null,"สรุปการประเมินการอ่าน คิด วิเคราะห์"]
[null,null,null,null,null,null,null,null,null,null,null,null,null,null,"ผลประเมิน","รวม","ร้อยละ"]
[null,null,null,null,null,null,null,null,null,null,null,null,null,null,3,{"$f":"Report8!M30","v":0},{"$f":"P25/P28*100","v":{"$error":"#DIV/0!"}}]
[null,null,null,null,null,null,null,null,null,null,null,null,null,null,2,{"$f":"Report8!M31","v":0},{"$f":"P26/P28*100","v":{"$error":"#DIV/0!"}}]
[null,null,null,null,null,null,null,null,null,null,null,null,null,null,1,{"$f":"Report8!M32","v":0},{"$f":"P27/P28*100","v":{"$error":"#DIV/0!"}}]
[null,null,null,null,null,null,null,null,null,null,null,null,null,null,null,{"$f":"SUM(P25:P27)","v":0}]